{"text_format":"1","workbook":"xlsx","n_sheets":46,"sheets":["notes","Options","Calcs","4AC13L_18","4AC13L_24","4AC13L_30","4AC13L_36","4AC13L_42","4AC13L_48","4AC13L_60","4SCU13L_18","4SCU13L_24","4SCU13L_30","4SCU13L_36","4SCU13L_42","4SCU13L_48","4SCU13L_60","4SCU14L_18","4SCU14L_24","4SCU14L_30","4SCU14L_36","4SCU14L_41","4SCU14L_42","4SCU14L_47","4SCU14L_48","4SCU14L_60","4SCU16L_24","4SCU16L_36","4SCU16L_48","4SCU16L_60","4SCU18L_24","4SCU18L_36","4SCU18L_48","4SCU18L_60","4AC14L_18","4AC14L_24","4AC14L_30","4AC14L_36","4AC14L_41","4AC14L_42","4AC14L_47","4AC14L_48","4AC14L_60","Form","Instructions","Prompt"],"not_rendered":{"charts":0,"images":7,"macros":1,"external_links":0,"defined_names":80,"comments":0,"pivot_tables":0},"unopened":[],"bounds":{"document_bytes":16777216,"sheet_cells":100000,"rows_first":2000,"rows_last":500,"rows_between":2000,"halvings":0,"cell_chars":16384,"cell_head_chars":4096},"cells_cut":0,"cells_raw":0,"read":"whole","date_system":"1900"}

{"sheet":"notes","index":0,"n_rows":65,"n_cols":16,"rows_kept":65,"cut":false,"hidden":true,"merged":[]}
[]
[null,null,null,null,null,null,null,{"$f":"SUM(H3:H8)","v":0}]
[null,null,600,24,600,1000,{"$f":"IF(Form!$D$4=D3,1,0)","v":0},{"$f":"IF(G3=1,IF(OR(E3>Form!M$5,F3<Form!M$5),1,0),0)","v":0}]
[null,null,800,30,800,1200,{"$f":"IF(Form!$D$4=D4,1,0)","v":0},{"$f":"IF(G4=1,IF(OR(E4>Form!M$5,F4<Form!M$5),1,0),0)","v":0}]
[null,null,1000,36,1000,1400,{"$f":"IF(Form!$D$4=D5,1,0)","v":0},{"$f":"IF(G5=1,IF(OR(E5>Form!M$5,F5<Form!M$5),1,0),0)","v":0}]
[null,null,1200,42,1200,1600,{"$f":"IF(Form!$D$4=D6,1,0)","v":0},{"$f":"IF(G6=1,IF(OR(E6>Form!M$5,F6<Form!M$5),1,0),0)","v":0}]
[null,null,1400,48,1400,1800,{"$f":"IF(Form!$D$4=D7,1,0)","v":0},{"$f":"IF(G7=1,IF(OR(E7>Form!M$5,F7<Form!M$5),1,0),0)","v":0}]
[null,null,1600,60,1600,2000,{"$f":"IF(Form!$D$4=D8,1,0)","v":0},{"$f":"IF(G8=1,IF(OR(E8>Form!M$5,F8<Form!M$5),1,0),0)","v":0}]
[null,null,1800]
[null,null,2000]
[]
[]
[null,null,null,"Total"]
[null,{"$f":"Form!M5+Form!M6","v":0},null,null,{"$f":"E31","v":0},{"$f":"F31","v":0},0,0,0,0,0,{"$f":"SUM(E14:K14)","v":0},null,null,null,58]
[null,null,null,null,{"$f":"Form!C27","v":65},{"$f":"Form!E27","v":75},{"$f":"Form!G27","v":85},{"$f":"Form!I27","v":90},{"$f":"Form!K27","v":95},{"$f":"Form!M27","v":105},{"$f":"Form!O27","v":115}]
[{"$f":"C16+D16","v":0},{"$f":"P16","v":0},{"$f":"Form!A31","v":0},{"$f":"Form!B31","v":0},{"$f":"Form!C31","v":0},{"$f":"Form!E31","v":0},{"$f":"Form!G31","v":0},{"$f":"Form!I31","v":0},{"$f":"Form!K31","v":0},{"$f":"Form!M31","v":0},{"$f":"Form!O31","v":0},{"$f":"Form!$M$5+Form!M$6","v":0},{"$f":"IF(C16+D16=Form!M$5+Form!M$6,1,0)","v":1},{"$f":"IF(A16<L16,1,0)","v":0},{"$f":"IF(A16>L16,2,0)","v":0},{"$f":"IF(AND(N16=1,N17=0),1,0)+IF(AND(O15=0,O16=2),2,0)","v":0}]
[{"$f":"C17+D17","v":0},{"$f":"P17","v":0},{"$f":"C16","v":0},{"$f":"Form!B32","v":0},{"$f":"Form!C32","v":0},{"$f":"Form!E32","v":0},{"$f":"Form!G32","v":0},{"$f":"Form!I32","v":0},{"$f":"Form!K32","v":0},{"$f":"Form!M32","v":0},{"$f":"Form!O32","v":0},{"$f":"Form!$M$5+Form!M$6","v":0},{"$f":"IF(C17+D17=Form!M$5+Form!M$6,1,0)","v":1},{"$f":"IF(A17<L17,1,0)","v":0},{"$f":"IF(A17>L17,2,0)","v":0},{"$f":"IF(AND(N17=1,N18=0),1,0)+IF(AND(O16=0,O17=2),2,0)","v":0}]
[0,0,{"$f":"C17","v":0},{"$f":"Form!B33","v":0},{"$f":"Form!C33","v":0},{"$f":"Form!E33","v":0},{"$f":"Form!G33","v":0},{"$f":"Form!I33","v":0},{"$f":"Form!K33","v":0},{"$f":"Form!M33","v":0},{"$f":"Form!O33","v":0},{"$f":"Form!$M$5+Form!M$6","v":0},{"$f":"IF(C18+D18=Form!M$5+Form!M$6,1,0)","v":1},0,{"$f":"IF(A18>L18,2,0)","v":0},{"$f":"IF(AND(N18=1,N19=0),1,0)+IF(AND(O17=0,O18=2),2,0)","v":0}]
[0,0,{"$f":"C18","v":0},{"$f":"Form!B34","v":0},{"$f":"Form!C34","v":0},{"$f":"Form!E34","v":0},{"$f":"Form!G34","v":0},{"$f":"Form!I34","v":0},{"$f":"Form!K34","v":0},{"$f":"Form!M34","v":0},{"$f":"Form!O34","v":0},{"$f":"Form!$M$5+Form!M$6","v":0},{"$f":"IF(C19+D19=Form!M$5+Form!M$6,1,0)","v":1},0,{"$f":"IF(A19>L19,2,0)","v":0},{"$f":"IF(AND(N19=1,N20=0),1,0)+IF(AND(O18=0,O19=2),2,0)","v":0}]
[0,0,{"$f":"Form!A35","v":0},{"$f":"Form!B35","v":0},{"$f":"Form!C35","v":0},{"$f":"Form!E35","v":0},{"$f":"Form!G35","v":0},{"$f":"Form!I35","v":0},{"$f":"Form!K35","v":0},{"$f":"Form!M35","v":0},{"$f":"Form!O35","v":0},{"$f":"Form!$M$5+Form!M$6","v":0},{"$f":"IF(C20+D20=Form!M$5+Form!M$6,1,0)","v":1},0,{"$f":"IF(A20>L20,2,0)","v":0},{"$f":"IF(AND(N20=1,N21=0),1,0)+IF(AND(O19=0,O20=2),2,0)","v":0}]
[0,0,{"$f":"C20","v":0},{"$f":"Form!B36","v":0},{"$f":"Form!C36","v":0},{"$f":"Form!E36","v":0},{"$f":"Form!G36","v":0},{"$f":"Form!I36","v":0},{"$f":"Form!K36","v":0},{"$f":"Form!M36","v":0},{"$f":"Form!O36","v":0},{"$f":"Form!$M$5+Form!M$6","v":0},{"$f":"IF(C21+D21=Form!M$5+Form!M$6,1,0)","v":1},0,{"$f":"IF(A21>L21,2,0)","v":0},{"$f":"IF(AND(N21=1,N22=0),1,0)+IF(AND(O20=0,O21=2),2,0)","v":0}]
[0,0,{"$f":"C21","v":0},{"$f":"Form!B37","v":0},{"$f":"Form!C37","v":0},{"$f":"Form!E37","v":0},{"$f":"Form!G37","v":0},{"$f":"Form!I37","v":0},{"$f":"Form!K37","v":0},{"$f":"Form!M37","v":0},{"$f":"Form!O37","v":0},{"$f":"Form!$M$5+Form!M$6","v":0},{"$f":"IF(C22+D22=Form!M$5+Form!M$6,1,0)","v":1},0,0,0]
[0,0,{"$f":"C22","v":0},{"$f":"Form!B38","v":0},{"$f":"Form!C38","v":0},{"$f":"Form!E38","v":0},{"$f":"Form!G38","v":0},{"$f":"Form!I38","v":0},{"$f":"Form!K38","v":0},{"$f":"Form!M38","v":0},{"$f":"Form!O38","v":0},{"$f":"Form!$M$5+Form!M$6","v":0},{"$f":"IF(C23+D23=Form!M$5+Form!M$6,1,0)","v":1},0,0,0]
[0,0,{"$f":"Form!A39","v":0},{"$f":"Form!B39","v":0},{"$f":"Form!C39","v":0},{"$f":"Form!E39","v":0},{"$f":"Form!G39","v":0},{"$f":"Form!I39","v":0},{"$f":"Form!K39","v":0},{"$f":"Form!M39","v":0},{"$f":"Form!O39","v":0},{"$f":"Form!$M$5+Form!M$6","v":0},{"$f":"IF(C24+D24=Form!M$5+Form!M$6,1,0)","v":1},0,0,0]
[0,0,{"$f":"C24","v":0},{"$f":"Form!B40","v":0},{"$f":"Form!C40","v":0},{"$f":"Form!E40","v":0},{"$f":"Form!G40","v":0},{"$f":"Form!I40","v":0},{"$f":"Form!K40","v":0},{"$f":"Form!M40","v":0},{"$f":"Form!O40","v":0},{"$f":"Form!$M$5+Form!M$6","v":0},{"$f":"IF(C25+D25=Form!M$5+Form!M$6,1,0)","v":1},0,0,0]
[0,0,{"$f":"C25","v":0},{"$f":"Form!B41","v":0},{"$f":"Form!C41","v":0},{"$f":"Form!E41","v":0},{"$f":"Form!G41","v":0},{"$f":"Form!I41","v":0},{"$f":"Form!K41","v":0},{"$f":"Form!M41","v":0},{"$f":"Form!O41","v":0},{"$f":"Form!$M$5+Form!M$6","v":0},{"$f":"IF(C26+D26=Form!M$5+Form!M$6,1,0)","v":1},0,0,0]
[0,0,{"$f":"C26","v":0},{"$f":"Form!B42","v":0},{"$f":"Form!C42","v":0},{"$f":"Form!E42","v":0},{"$f":"Form!G42","v":0},{"$f":"Form!I42","v":0},{"$f":"Form!K42","v":0},{"$f":"Form!M42","v":0},{"$f":"Form!O42","v":0},{"$f":"Form!$M$5+Form!M$6","v":0},{"$f":"IF(C27+D27=Form!M$5+Form!M$6,1,0)","v":1},0,0,0]
[0,{"$f":"SUM(B16:B27)","v":0}]
[null,null,null,null,null,{"$f":"IF(AND(F15>Form!$M$4,E15<Form!$M$4),2,0)","v":0},{"$f":"IF(AND(G15>Form!$M$4,F15<Form!$M$4),2,0)","v":0},{"$f":"IF(AND(H15>Form!$M$4,G15<Form!$M$4),2,0)","v":0},{"$f":"IF(AND(I15>Form!$M$4,H15<Form!$M$4),2,0)","v":0},{"$f":"IF(AND(J15>Form!$M$4,I15<Form!$M$4),2,0)","v":0},{"$f":"IF(AND(K15>Form!$M$4,J15<Form!$M$4),2,0)","v":0}]
[null,null,{"$f":"HLOOKUP(1,E14:K15,2,FALSE)","v":{"$error":"#N/A"}},null,{"$f":"IF(F29=2,1,0)","v":0},{"$f":"IF(G29=2,1,0)","v":0},0,0,0,0,0]
[null,null,{"$f":"HLOOKUP(2,E14:K15,2,FALSE)","v":{"$error":"#N/A"}},null,{"$f":"SUM(E29:E30)","v":0},0,0,0,0,0,0]
[null,{"$f":"(VLOOKUP(1,B14:K27,3,FALSE))","v":{"$error":"#N/A"}},{"$f":"IF(ISERROR(B32),0,B32)","v":0},null,{"$f":"(C34-C35)/(C32-C33)*(Form!$M$6-C33)+C35","v":{"$error":"#N/A"}},{"$f":"(C36-C37)/(C32-C33)*(Form!M6-C33)+C37","v":{"$error":"#N/A"}}]
[null,{"$f":"VLOOKUP(2,B14:K27,3,FALSE)","v":{"$error":"#N/A"}},{"$f":"IF(ISERROR(B33),0,B33)","v":0},null,{"$f":"IF(AND(B28=0,L14=3),VLOOKUP(Form!$M$5+Form!$M$6,notes!A14:K27,MATCH(1,notes!A14:K14,FALSE),FALSE),0)","v":0},{"$f":"IF(AND(B28=0,L14=3),VLOOKUP(Form!$M$5+Form!$M$6,notes!A14:K27,MATCH(2,notes!A14:K14,FALSE),FALSE),0)","v":0},null,null,"exactly"]
[null,{"$f":"VLOOKUP(1,B14:K27,MATCH(1,B14:K14,FALSE),FALSE)","v":{"$error":"#N/A"}},{"$f":"MIN(B34,B36)","v":{"$error":"#N/A"}},null,{"$f":"IF(ISERROR(E32),E33,E32)","v":0},{"$f":"IF(ISERROR(F32),F33,F32)","v":0},null,null,"x","y","err1","err2","err3","ans"]
[null,{"$f":"VLOOKUP(2,B14:K27,MATCH(1,B14:K14,FALSE),FALSE)","v":{"$error":"#N/A"}},{"$f":"MAX(B35,B37)","v":{"$error":"#N/A"}},null,{"$f":"MIN(E34:F34)","v":0},{"$f":"MAX(E34:F34)","v":0},null,null,"y","y",{"$f":"IF(ISERROR(VLOOKUP(Form!$M$5+Form!$M$6,notes!A15:K27,MATCH(Form!$M$4,notes!A15:K15,FALSE),FALSE)),0,VLOOKUP(Form!$M$5+Form!$M$6,notes!A15:K27,MATCH(Form!$M$4,notes!A15:K15,FALSE),FALSE))","v":0},null,null,{"$f":"SUM(K35:M35)","v":0}]
[null,{"$f":"VLOOKUP(1,B14:K27,MATCH(2,B14:K14,FALSE),FALSE)","v":{"$error":"#N/A"}},{"$f":"MAX(B36,B34)","v":{"$error":"#N/A"}},null,{"$f":"(E35-F35)/(C31-C30)*(Form!$M$4-C30)+F35","v":{"$error":"#N/A"}},null,null,null,"y","n",null,null,null,{"$f":"SUM(K36:M36)","v":0}]
[null,{"$f":"VLOOKUP(2,B14:K27,MATCH(2,B14:K14,FALSE),FALSE)","v":{"$error":"#N/A"}},{"$f":"MIN(B35,B37)","v":{"$error":"#N/A"}},null,null,null,null,null,"n","n",{"$f":"IF(OR(E36>100000,E36<=0),0,E36)","v":{"$error":"#N/A"}},{"$f":"IF(K37<>0,0,MIN(E32:F32))","v":{"$error":"#N/A"}},{"$f":"IF(AND(L37=0,K37=0),C34,0)","v":{"$error":"#N/A"}},{"$f":"SUM(K37:M37)","v":{"$error":"#N/A"}}]
[null,null,null,null,null,null,null,null,null,null,null,null,null,{"$f":"IF(ISERROR(N37),N35,N37)","v":0}]
[]
[]
["sens",null,null,null,{"$f":"E58","v":0},{"$f":"F58","v":0},0,0,0,0,0,{"$f":"SUM(E41:K41)","v":0}]
[null,null,null,null,{"$f":"E15","v":65},{"$f":"F15","v":75},85,90,95,105,115]
[{"$f":"C43+D43","v":0},{"$f":"P43","v":0},{"$f":"C16","v":0},{"$f":"D16","v":0},{"$f":"Form!D31","v":0},{"$f":"Form!F31","v":0},{"$f":"Form!H31","v":0},{"$f":"Form!J31","v":0},{"$f":"Form!L31","v":0},{"$f":"Form!N31","v":0},{"$f":"Form!P31","v":0},{"$f":"Form!$M$5+Form!M$6","v":0},{"$f":"IF(C43+D43=Form!M$5+Form!M$6,1,0)","v":1},{"$f":"IF(A43<L43,1,0)","v":0},{"$f":"IF(A43>L43,2,0)","v":0},{"$f":"IF(AND(N43=1,N44=0),1,0)+IF(AND(O42=0,O43=2),2,0)","v":0}]
[{"$f":"C44+D44","v":0},{"$f":"P44","v":0},{"$f":"C17","v":0},{"$f":"D17","v":0},{"$f":"Form!D32","v":0},{"$f":"Form!F32","v":0},{"$f":"Form!H32","v":0},{"$f":"Form!J32","v":0},{"$f":"Form!L32","v":0},{"$f":"Form!N32","v":0},{"$f":"Form!P32","v":0},{"$f":"Form!$M$5+Form!M$6","v":0},{"$f":"IF(C44+D44=Form!M$5+Form!M$6,1,0)","v":1},{"$f":"IF(A44<L44,1,0)","v":0},{"$f":"IF(A44>L44,2,0)","v":0},{"$f":"IF(AND(N44=1,N45=0),1,0)+IF(AND(O43=0,O44=2),2,0)","v":0}]
[{"$f":"C45+D45","v":0},0,0,0,{"$f":"Form!D33","v":0},{"$f":"Form!F33","v":0},{"$f":"Form!H33","v":0},{"$f":"Form!J33","v":0},{"$f":"Form!L33","v":0},{"$f":"Form!N33","v":0},{"$f":"Form!P33","v":0},{"$f":"Form!$M$5+Form!M$6","v":0},{"$f":"IF(C45+D45=Form!M$5+Form!M$6,1,0)","v":1},0,{"$f":"IF(A45>L45,2,0)","v":0},{"$f":"IF(AND(N45=1,N46=0),1,0)+IF(AND(O44=0,O45=2),2,0)","v":0}]
[0,0,0,0,{"$f":"Form!D34","v":0},{"$f":"Form!F34","v":0},{"$f":"Form!H34","v":0},{"$f":"Form!J34","v":0},{"$f":"Form!L34","v":0},{"$f":"Form!N34","v":0},{"$f":"Form!P34","v":0},{"$f":"Form!$M$5+Form!M$6","v":0},{"$f":"IF(C46+D46=Form!M$5+Form!M$6,1,0)","v":1},0,{"$f":"IF(A46>L46,2,0)","v":0},{"$f":"IF(AND(N46=1,N47=0),1,0)+IF(AND(O45=0,O46=2),2,0)","v":0}]
[0,0,0,0,{"$f":"Form!D35","v":0},{"$f":"Form!F35","v":0},{"$f":"Form!H35","v":0},{"$f":"Form!J35","v":0},{"$f":"Form!L35","v":0},{"$f":"Form!N35","v":0},{"$f":"Form!P35","v":0},{"$f":"Form!$M$5+Form!M$6","v":0},{"$f":"IF(C47+D47=Form!M$5+Form!M$6,1,0)","v":1},0,{"$f":"IF(A47>L47,2,0)","v":0},{"$f":"IF(AND(N47=1,N48=0),1,0)+IF(AND(O46=0,O47=2),2,0)","v":0}]
[0,0,0,0,{"$f":"Form!D36","v":0},{"$f":"Form!F36","v":0},{"$f":"Form!H36","v":0},{"$f":"Form!J36","v":0},{"$f":"Form!L36","v":0},{"$f":"Form!N36","v":0},{"$f":"Form!P36","v":0},{"$f":"Form!$M$5+Form!M$6","v":0},{"$f":"IF(C48+D48=Form!M$5+Form!M$6,1,0)","v":1},0,{"$f":"IF(A48>L48,2,0)","v":0},{"$f":"IF(AND(N48=1,N49=0),1,0)+IF(AND(O47=0,O48=2),2,0)","v":0}]
[0,0,0,0,{"$f":"Form!D37","v":0},{"$f":"Form!F37","v":0},{"$f":"Form!H37","v":0},{"$f":"Form!J37","v":0},{"$f":"Form!L37","v":0},{"$f":"Form!N37","v":0},{"$f":"Form!P37","v":0},{"$f":"Form!$M$5+Form!M$6","v":0},{"$f":"IF(C49+D49=Form!M$5+Form!M$6,1,0)","v":1},0,0,0]
[0,0,0,0,{"$f":"Form!D38","v":0},{"$f":"Form!F38","v":0},{"$f":"Form!H38","v":0},{"$f":"Form!J38","v":0},{"$f":"Form!L38","v":0},{"$f":"Form!N38","v":0},{"$f":"Form!P38","v":0},{"$f":"Form!$M$5+Form!M$6","v":0},{"$f":"IF(C50+D50=Form!M$5+Form!M$6,1,0)","v":1},0,0,0]
[0,0,0,0,{"$f":"Form!D39","v":0},{"$f":"Form!F39","v":0},{"$f":"Form!H39","v":0},{"$f":"Form!J39","v":0},{"$f":"Form!L39","v":0},{"$f":"Form!N39","v":0},{"$f":"Form!P39","v":0},{"$f":"Form!$M$5+Form!M$6","v":0},{"$f":"IF(C51+D51=Form!M$5+Form!M$6,1,0)","v":1},0,0,0]
[0,0,0,0,{"$f":"Form!D40","v":0},{"$f":"Form!F40","v":0},{"$f":"Form!H40","v":0},{"$f":"Form!J40","v":0},{"$f":"Form!L40","v":0},{"$f":"Form!N40","v":0},{"$f":"Form!P40","v":0},{"$f":"Form!$M$5+Form!M$6","v":0},{"$f":"IF(C52+D52=Form!M$5+Form!M$6,1,0)","v":1},0,0,0]
[0,0,0,0,{"$f":"Form!D41","v":0},{"$f":"Form!F41","v":0},{"$f":"Form!H41","v":0},{"$f":"Form!J41","v":0},{"$f":"Form!L41","v":0},{"$f":"Form!N41","v":0},{"$f":"Form!P41","v":0},{"$f":"Form!$M$5+Form!M$6","v":0},{"$f":"IF(C53+D53=Form!M$5+Form!M$6,1,0)","v":1},0,0,0]
[0,0,0,0,{"$f":"Form!D42","v":0},{"$f":"Form!F42","v":0},{"$f":"Form!H42","v":0},{"$f":"Form!J42","v":0},{"$f":"Form!L42","v":0},{"$f":"Form!N42","v":0},{"$f":"Form!P42","v":0},{"$f":"Form!$M$5+Form!M$6","v":0},{"$f":"IF(C54+D54=Form!M$5+Form!M$6,1,0)","v":1},0,0,0]
[0,{"$f":"SUM(B43:B54)","v":0}]
[null,null,null,null,null,{"$f":"IF(AND(F42>Form!$M$4,E42<Form!$M$4),2,0)","v":0},{"$f":"IF(AND(G42>Form!$M$4,F42<Form!$M$4),2,0)","v":0},{"$f":"IF(AND(H42>Form!$M$4,G42<Form!$M$4),2,0)","v":0},{"$f":"IF(AND(I42>Form!$M$4,H42<Form!$M$4),2,0)","v":0},{"$f":"IF(AND(J42>Form!$M$4,I42<Form!$M$4),2,0)","v":0},{"$f":"IF(AND(K42>Form!$M$4,J42<Form!$M$4),2,0)","v":0}]
[null,null,{"$f":"HLOOKUP(1,E41:K42,2,FALSE)","v":{"$error":"#N/A"}},null,{"$f":"IF(F56=2,1,0)","v":0},{"$f":"IF(G56=2,1,0)","v":0},0,0,0,0,0]
[null,null,{"$f":"HLOOKUP(2,E41:K42,2,FALSE)","v":{"$error":"#N/A"}},null,{"$f":"SUM(E56:E57)","v":0},0,0,0,0,0,0]
[null,{"$f":"(VLOOKUP(1,B41:K54,3,FALSE))","v":{"$error":"#N/A"}},{"$f":"IF(ISERROR(B59),0,B59)","v":0},null,{"$f":"(C61-C62)/(C59-C60)*(Form!$M$6-C60)+C62","v":{"$error":"#N/A"}},{"$f":"(C63-C64)/(C59-C60)*(Form!M6-C60)+C64","v":{"$error":"#N/A"}}]
[null,{"$f":"VLOOKUP(2,B41:K54,3,FALSE)","v":{"$error":"#N/A"}},{"$f":"IF(ISERROR(B60),0,B60)","v":0},null,{"$f":"IF(AND(B55=0,L41=3),VLOOKUP(Form!$M$5+Form!$M$6,notes!A41:K54,MATCH(1,notes!A41:K41,FALSE),FALSE),0)","v":0},{"$f":"IF(AND(B55=0,L41=3),VLOOKUP(Form!$M$5+Form!$M$6,notes!A41:K54,MATCH(2,notes!A41:K41,FALSE),FALSE),0)","v":0},null,null,"exactly"]
[null,{"$f":"VLOOKUP(1,B41:K54,MATCH(1,B41:K41,FALSE),FALSE)","v":{"$error":"#N/A"}},{"$f":"MIN(B61,B63)","v":{"$error":"#N/A"}},null,{"$f":"IF(ISERROR(E59),E60,E59)","v":0},{"$f":"IF(ISERROR(F59),F60,F59)","v":0},null,null,"x","y","err1","err2","err3","ans"]
[null,{"$f":"VLOOKUP(2,B41:K54,MATCH(1,B41:K41,FALSE),FALSE)","v":{"$error":"#N/A"}},{"$f":"MAX(B62,B64)","v":{"$error":"#N/A"}},null,{"$f":"MIN(E61:F61)","v":0},{"$f":"MAX(E61:F61)","v":0},null,null,"y","y",{"$f":"IF(ISERROR(VLOOKUP(Form!$M$5+Form!$M$6,notes!A42:K54,MATCH(Form!$M$4,notes!A42:K42,FALSE),FALSE)),0,VLOOKUP(Form!$M$5+Form!$M$6,notes!A42:K54,MATCH(Form!$M$4,notes!A42:K42,FALSE),FALSE))","v":0},null,null,{"$f":"SUM(K62:M62)","v":0}]
[null,{"$f":"VLOOKUP(1,B41:K54,MATCH(2,B41:K41,FALSE),FALSE)","v":{"$error":"#N/A"}},{"$f":"MAX(B63,B61)","v":{"$error":"#N/A"}},null,{"$f":"(E62-F62)/(C58-C57)*(Form!$M$4-C57)+F62","v":{"$error":"#N/A"}},null,null,null,"y","n",null,null,null,{"$f":"SUM(K63:M63)","v":0}]
[null,{"$f":"VLOOKUP(2,B41:K54,MATCH(2,B41:K41,FALSE),FALSE)","v":{"$error":"#N/A"}},{"$f":"MIN(B62,B64)","v":{"$error":"#N/A"}},null,null,null,null,null,"n","n",{"$f":"IF(OR(E63>100000,E63<=0),0,E63)","v":{"$error":"#N/A"}},{"$f":"IF(K64<>0,0,MIN(E59:F59))","v":{"$error":"#N/A"}},{"$f":"IF(AND(L64=0,K64=0),C61,0)","v":{"$error":"#N/A"}},{"$f":"SUM(K64:M64)","v":{"$error":"#N/A"}}]
[null,{"$f":"VLOOKUP(Form!M32+Form!M33,A41:K54,MATCH(2,A41:K41,FALSE),FALSE)","v":{"$error":"#N/A"}},null,null,null,null,null,null,null,null,null,null,null,{"$f":"IF(ISERROR(N64),N62,N64)","v":0}]

{"sheet":"Options","index":1,"n_rows":6,"n_cols":1,"rows_kept":6,"cut":false,"hidden":true,"merged":[]}
["4AC13L"]
["4AC14L"]
["4SCU13L"]
["4SCU14L"]
["4SCU16L"]
["4SCU18L"]

{"sheet":"Calcs","index":2,"n_rows":21,"n_cols":7,"rows_kept":21,"cut":false,"hidden":true,"merged":[[0,4,0,9],[1,4,1,9]]}
[null,null,null,"Condenser :  "]
[null,null,null,"ADP Evaporator:  "]
[null,null,null,"Condenser Entering Air Temperature: ",100,"(°F) Dry Bulb, 85°F to 115°F"]
[null,null,null,"Evaporator Air Flow:",1265,"CFM"]
[null,null,null,"Entering Evaporator Air (DB):  ",77.5,"(°F) Dry Bulb"]
[null,null,null,"Entering Evaporator Air (WB):  ",60.6,"(°F) Wet Bulb, 63°F to 71°F"]
[]
[]
["Total"]
[28.549999999999997,"1200 60.6"]
[]
[null,"Diff 200",{"$f":"A10-A14","v":0.30799999999999983},"Diff 1 cfm",{"$f":"C12/200","v":1.5399999999999991E-3},"  1265 total",{"$f":"A10-(65*E12)","v":28.449899999999996}]
[]
[28.241999999999997,"1400 60.6"]
[]
["Sens"]
[25.319999999999997,"1200 60.6"]
[]
[null,"Diff 200",{"$f":"A17-A21","v":0.55439999999999756},"Diff 1 cfm",{"$f":"C19/200","v":2.771999999999988E-3},"  1265 Sens",{"$f":"A17-(65*E19)","v":25.139819999999997}]
[]
[24.765599999999999,"1400 60.6"]

{"sheet":"4AC13L_18","index":3,"n_rows":19,"n_cols":45,"rows_kept":19,"cut":false,"hidden":true,"merged":[[2,0,2,1],[2,2,2,15],[3,2,3,3],[3,4,3,5],[3,6,3,7],[3,8,3,9],[3,10,3,11],[3,12,3,13],[3,14,3,15],[5,2,6,2],[5,3,6,3],[5,4,6,4],[5,5,6,5],[5,6,6,6],[5,7,6,7],[5,8,6,8],[4,0,6,0],[4,1,6,1],[4,2,4,3],[4,4,4,5],[4,6,4,7],[4,8,4,9],[5,9,6,9],[5,10,6,10],[5,11,6,11],[5,12,6,12],[5,13,6,13],[5,14,6,14],[5,15,6,15],[4,10,4,11],[4,12,4,13],[4,14,4,15],[7,0,10,0],[11,0,14,0],[15,0,18,0],[22,4,22,15],[23,4,23,5],[23,6,23,7],[23,8,23,9],[23,10,23,11],[23,12,23,13],[23,14,23,15],[25,12,26,12],[25,13,26,13],[25,14,26,14],[25,15,26,15],[27,0,30,0],[31,0,34,0],[24,12,24,13],[24,14,24,15],[25,4,26,4],[25,5,26,5],[25,6,26,6],[25,7,26,7],[25,8,26,8],[25,9,26,9],[25,10,26,10],[25,11,26,11],[24,0,26,0],[24,1,26,1],[24,4,24,5],[24,6,24,7],[24,8,24,9],[24,10,24,11],[35,0,38,0],[41,0,42,1],[41,4,41,15],[42,4,42,5],[42,6,42,7],[42,8,42,9],[42,10,42,11],[42,12,42,13],[42,14,42,15],[44,12,45,12],[44,13,45,13],[44,14,45,14],[44,15,45,15],[46,0,49,0],[50,0,53,0],[43,12,43,13],[43,14,43,15],[44,4,45,4],[44,5,45,5],[44,6,45,6],[44,7,45,7],[44,8,45,8],[44,9,45,9],[44,10,45,10],[44,11,45,11],[43,0,45,0],[43,1,45,1],[43,4,43,5],[43,6,43,7],[43,8,43,9],[43,10,43,11],[54,0,57,0],[60,0,61,1],[60,4,60,15],[61,4,61,5],[61,6,61,7],[61,8,61,9],[61,10,61,11],[61,12,61,13],[61,14,61,15],[63,12,64,12],[63,13,64,13],[63,14,64,14],[63,15,64,15],[65,0,68,0],[69,0,72,0],[62,12,62,13],[62,14,62,15],[63,4,64,4],[63,5,64,5],[63,6,64,6],[63,7,64,7],[63,8,64,8],[63,9,64,9],[63,10,64,10],[63,11,64,11],[62,0,64,0],[62,1,64,1],[62,4,62,5],[62,6,62,7],[62,8,62,9],[62,10,62,11],[73,0,76,0],[79,0,80,1],[79,4,79,15],[80,4,80,5],[80,6,80,7],[80,8,80,9],[80,10,80,11],[80,12,80,13],[80,14,80,15],[82,12,83,12],[82,13,83,13],[82,14,83,14],[82,15,83,15],[84,0,87,0],[88,0,91,0],[81,12,81,13],[81,14,81,15],[82,4,83,4],[82,5,83,5],[82,6,83,6],[82,7,83,7],[82,8,83,8],[82,9,83,9],[82,10,83,10],[82,11,83,11],[81,0,83,0],[81,1,83,1],[81,4,81,5],[81,6,81,7],[81,8,81,9],[81,10,81,11],[92,0,95,0],[98,0,99,1],[98,4,98,15],[99,4,99,5],[99,6,99,7],[99,8,99,9],[99,10,99,11],[99,12,99,13],[99,14,99,15],[101,12,102,12],[101,13,102,13],[101,14,102,14],[101,15,102,15],[103,0,106,0],[107,0,110,0],[100,12,100,13],[100,14,100,15],[101,4,102,4],[101,5,102,5],[101,6,102,6],[101,7,102,7],[101,8,102,8],[101,9,102,9],[101,10,102,10],[101,11,102,11],[100,0,102,0],[100,1,102,1],[100,4,100,5],[100,6,100,7],[100,8,100,9],[100,10,100,11],[111,0,114,0],[117,0,118,1],[117,4,117,15],[118,4,118,5],[118,6,118,7],[118,8,118,9],[118,10,118,11],[118,12,118,13],[118,14,118,15],[130,0,133,0],[120,12,121,12],[120,13,121,13],[120,14,121,14],[120,15,121,15],[122,0,125,0],[126,0,129,0],[119,12,119,13],[119,14,119,15],[120,4,121,4],[120,5,121,5],[120,6,121,6],[120,7,121,7],[120,8,121,8],[120,9,121,9],[120,10,121,10],[120,11,121,11],[119,0,121,0],[119,1,121,1],[119,4,119,5],[119,6,119,7],[119,8,119,9],[119,10,119,11]]}
[]
["4AC13L_18"]
["Evaporator Air \n",null,"Condenser  Entering Air Temperature ˚F"]
[80,"°F DB",65,null,75,null,85,null,90,null,95,null,105,null,115]
["CFM","EWB†\n˚F","Capacity Mbtuh",null,"Capacity Mbtuh",null,"Capacity Mbtuh",null,"Capacity Mbtuh",null,"Capacity Mbtuh",null,"Capacity Mbtuh",null,"Capacity Mbtuh"]
[null,null,"Total","Sens.","Total","Sens.","Total","Sens.","Total","Sens.","Total","Sens.","Total","Sens.","Total","Sens."]
[null,null,null,null,null,null,null,null,null,null,null,null,null,null,null,null,null,"Total Factors",null,null,null,null,null,null,"Sens. %",null,null,null,null,null,null,"IDB Adj",null,null,null,null,null,null,"Sens Calc"]
[500,72,{"$f":"R8*$K$13","v":22.235294117647058},{"$f":"IF(AM8>C8,C8,AM8)","v":11.074794283239497},{"$f":"S8*$K$13","v":21.176470588235293},{"$f":"IF(AN8>E8,E8,AN8)","v":10.689396777819409},{"$f":"T8*$K$13","v":20.117647058823529},{"$f":"IF(AO8>G8,G8,AO8)","v":10.304148933171735},{"$f":"U8*$K$13","v":19.588235294117645},{"$f":"IF(AP8>I8,I8,AP8)","v":10.113796488839323},{"$f":"V8*$K$13","v":19.058823529411764},{"$f":"IF(AQ8>K8,K8,AQ8)","v":9.9190759704691605},{"$f":"W8*$K$13","v":18},{"$f":"IF(AR8>M8,M8,AR8)","v":9.5342091152815023},{"$f":"X8*$K$13","v":16.844919786096256},{"$f":"IF(AS8>O8,O8,AS8)","v":9.0976012048853949},null,1.2352941176470589,1.1764705882352942,1.1176470588235294,1.088235294117647,1.0588235294117647,1,0.93582887700534756,0.49807275877003032,0.50477707006369432,0.51219453761379974,0.51631994087167721,0.52044534412955468,0.52967828418230567,0.54007981755986312,{"$f":"IF(Y8<0.9,0.9,Y8*-3.6846+4.1276)","v":0.9},{"$f":"IF(Z8<0.9,0.9,Z8*-3.6846+4.1276)","v":0.9},0.9,0.9,0.9,0.9,0.9,{"$f":"Y8*C8+($A$4-80)*AF8*$A$8/1000","v":11.074794283239497},{"$f":"Z8*E8+($A$4-80)*AG8*$A$8/1000","v":10.689396777819409},{"$f":"AA8*G8+($A$4-80)*AH8*$A$8/1000","v":10.304148933171735},{"$f":"AB8*I8+($A$4-80)*AI8*$A$8/1000","v":10.113796488839323},{"$f":"AC8*K8+($A$4-80)*AJ8*$A$8/1000","v":9.9190759704691605},{"$f":"AD8*M8+($A$4-80)*AK8*$A$8/1000","v":9.5342091152815023},{"$f":"AE8*O8+($A$4-80)*AL8*$A$8/1000","v":9.0976012048853949}]
[null,67,20.695187165775401,13.994246222263373,19.636363636363633,{"$f":"IF(AN9>E9,E9,AN9)","v":13.581729846930807},18.577540106951869,{"$f":"IF(AO9>G9,G9,AO9)","v":13.169536034920883},18.048128342245988,{"$f":"IF(AP9>I9,I9,AP9)","v":12.968748936222582},{"$f":"V9*$K$13","v":17.518716577540108},{"$f":"IF(AQ9>K9,K9,AQ9)","v":12.757723884651709},16.459893048128343,{"$f":"IF(AR9>M9,M9,AR9)","v":12.346367870528644},15.304812834224599,{"$f":"IF(AS9>O9,O9,AS9)","v":11.860965921461057},null,1.1497326203208555,1.0909090909090908,1.0320855614973261,1.0026737967914439,0.9732620320855615,0.91443850267379678,0.85026737967914434,0.67620776319463838,0.69166216813073567,0.70889557816068094,0.71856475587366608,0.72823393358665123,0.75008797653958947,0.77498274888651908,{"$f":"IF(Y9<0.9,0.9,Y9*-3.6846+4.1276)","v":0.9},0.9,0.9,0.9,0.9,0.9,0.9,{"$f":"Y9*C9+($A$4-80)*AF9*$A$8/1000","v":13.994246222263373},{"$f":"Z9*E9+($A$4-80)*AG9*$A$8/1000","v":13.581729846930807},{"$f":"AA9*G9+($A$4-80)*AH9*$A$8/1000","v":13.169536034920883},{"$f":"AB9*I9+($A$4-80)*AI9*$A$8/1000","v":12.968748936222582},{"$f":"AC9*K9+($A$4-80)*AJ9*$A$8/1000","v":12.757723884651709},{"$f":"AD9*M9+($A$4-80)*AK9*$A$8/1000","v":12.346367870528644},{"$f":"AE9*O9+($A$4-80)*AL9*$A$8/1000","v":11.860965921461057}]
[null,62,18.962566844919785,16.329385413851039,18,15.880256821829855,17.037433155080215,15.430936561734562,16.55614973262032,15.212484697645611,{"$f":"V10*$K$13","v":16.074866310160427},14.98139037433155,15.112299465240643,14.531575318327384,14.149732620320856,14.081436834050104,null,1.053475935828877,1,0.946524064171123,0.9197860962566845,0.89304812834224601,0.83957219251336901,0.78609625668449201,0.86113792227584451,0.88223649010165861,0.90570782706979369,0.91884193748699272,0.93197604790419164,0.96157274753263289,0.9951733514615908,0.9,0.9,0.79042894037863842,0.74203499713542653,0.69364105389221553,0.58458905444126108,0.46078426920462245,16.329385413851039,{"$f":"Z10*E10+($A$4-80)*AG10*$A$8/1000","v":15.880256821829855},{"$f":"AA10*G10+($A$4-80)*AH10*$A$8/1000","v":15.430936561734562},15.212484697645611,14.98139037433155,14.531575318327384,14.081436834050104]
[null,57,18.19251336898396,18.19251336898396,17.422459893048128,17.422459893048128,16.652406417112299,16.652406417112299,16.267379679144383,16.267379679144383,{"$f":"V11*$K$13","v":15.882352941176471},15.882352941176471,15.112299465240643,15.112299465240643,14.342245989304812,14.342245989304812,null,1.0106951871657754,0.96791443850267378,0.92513368983957223,0.90374331550802134,0.88235294117647056,0.83957219251336901,0.79679144385026734,1,1,1,1,1,1,1,0.44300000000000006,0.44300000000000006,0.44300000000000006,0.44300000000000006,0.44300000000000006,0.44300000000000006,0.44300000000000006,18.19251336898396,{"$f":"Z11*E11+($A$4-80)*AG11*$A$8/1000","v":17.422459893048128},{"$f":"AA11*G11+($A$4-80)*AH11*$A$8/1000","v":16.652406417112299},{"$f":"AB11*I11+($A$4-80)*AI11*$A$8/1000","v":16.267379679144383},15.882352941176471,15.112299465240643,14.342245989304812]
[650,72,23.005347593582886,12.214896520947752,21.850267379679146,11.836082818803424,20.695187165775401,11.457080350380924,20.117647058823529,11.271314048905861,{"$f":"V12*$K$13","v":19.540106951871657},11.077855909722514,18.385026737967916,10.698368017373074,17.229946524064172,10.318564172464589,null,1.2780748663101604,1.213903743315508,1.1497326203208555,1.1176470588235294,1.0855614973262031,1.0213903743315509,0.95721925133689845,0.53095900730293577,0.54169052548121399,0.55361085930781206,0.56026999658303989,0.56692913385826771,0.58190657918812239,0.59887383620449353,0.9,0.9,0.9,0.9,0.9,0.9,0.9,{"$f":"Y12*C12+($A$4-80)*AF12*$A$12/1000","v":12.214896520947752},{"$f":"Z12*E12+($A$4-80)*AG12*$A$12/1000","v":11.836082818803424},{"$f":"AA12*G12+($A$4-80)*AH12*$A$12/1000","v":11.457080350380924},{"$f":"AB12*I12+($A$4-80)*AI12*$A$12/1000","v":11.271314048905861},{"$f":"AC12*K12+($A$4-80)*AJ12*$A$12/1000","v":11.077855909722514},{"$f":"AD12*M12+($A$4-80)*AK12*$A$12/1000","v":10.698368017373074},{"$f":"AE12*O12+($A$4-80)*AL12*$A$12/1000","v":10.318564172464589}]
[null,67,21.465240641711233,15.522559710959548,20.310160427807489,15.041496454120063,19.155080213903744,14.560944275277334,18.577540106951869,14.327360303509076,18,14.081002892960463,16.844919786096256,13.601799772270711,15.593582887700535,13.042988223965308,null,1.1925133689839573,1.1283422459893049,1.0641711229946524,1.0320855614973261,1,0.93582887700534756,0.86631016042780751,0.72314864622556929,0.7405897411586233,0.76016096579476866,0.77121945214628607,0.78227793849780347,0.80747192298876924,0.83643305825840619,0.9,0.9,0.9,0.9,0.9,0.9,0.9,{"$f":"Y13*C13+($A$4-80)*AF13*$A$12/1000","v":15.522559710959548},{"$f":"Z13*E13+($A$4-80)*AG13*$A$12/1000","v":15.041496454120063},{"$f":"AA13*G13+($A$4-80)*AH13*$A$12/1000","v":14.560944275277334},{"$f":"AB13*I13+($A$4-80)*AI13*$A$12/1000","v":14.327360303509076},{"$f":"AC13*K13+($A$4-80)*AJ13*$A$12/1000","v":14.081002892960463},{"$f":"AD13*M13+($A$4-80)*AK13*$A$12/1000","v":13.601799772270711},{"$f":"AE13*O13+($A$4-80)*AL13*$A$12/1000","v":13.042988223965308}]
[null,62,19.636363636363633,18.698389722371299,18.770053475935828,18.144417110654135,17.90374331550802,17.590749228337685,17.470588235294116,17.317877410505364,{"$f":"V14*$K$13","v":17.037433155080215},17.037433155080215,16.171122994652407,16.171122994652407,15.304812834224599,15.304812834224599,null,1.0909090909090908,1.0427807486631016,0.99465240641711228,0.97058823529411764,0.946524064171123,0.89839572192513373,0.85026737967914434,0.95223280993557557,0.96666837598071897,0.98251795271778597,0.99125897635889304,1,1,1,0.61900298851137814,0.56581370186144309,0.50741435141604585,0.47520717570802296,0.44300000000000006,0.44300000000000006,0.44300000000000006,18.698389722371299,{"$f":"Z14*E14+($A$4-80)*AG14*$A$12/1000","v":18.144417110654135},{"$f":"AA14*G14+($A$4-80)*AH14*$A$12/1000","v":17.590749228337685},17.317877410505364,17.037433155080215,16.171122994652407,15.304812834224599]
[null,57,19.636363636363633,19.636363636363633,18.770053475935828,18.770053475935828,17.90374331550802,17.90374331550802,17.470588235294116,17.470588235294116,17.037433155080215,17.037433155080215,16.074866310160427,16.074866310160427,15.208556149732621,15.208556149732621,null,1.0909090909090908,1.0427807486631016,0.99465240641711228,0.97058823529411764,0.946524064171123,0.89304812834224601,0.84491978609625673,1,1,1,1,1,1,1,0.44300000000000006,0.44300000000000006,0.44300000000000006,0.44300000000000006,0.44300000000000006,0.44300000000000006,0.44300000000000006,19.636363636363633,{"$f":"Z15*E15+($A$4-80)*AG15*$A$12/1000","v":18.770053475935828},{"$f":"AA15*G15+($A$4-80)*AH15*$A$12/1000","v":17.90374331550802},17.470588235294116,17.037433155080215,16.074866310160427,15.208556149732621]
[800,72,23.390374331550802,13.383427171284104,22.235294117647058,13.02761291505305,21.080213903743317,12.673008578240253,20.454545454545457,12.472020356302552,19.828877005347593,12.260316995885031,18.673796791443849,11.90698541057221,17.422459893048128,11.491961796076426,null,1.2994652406417113,1.2352941176470589,1.1711229946524064,1.1363636363636365,1.1016042780748663,1.0374331550802138,0.96791443850267378,0.57217669890949419,0.58589793533307366,0.60118026487339604,0.60974321741923587,0.6183061699650757,0.6376306620209059,0.65960615588283966,0.9,0.9,0.9,0.9,0.9,0.9,0.9,{"$f":"Y16*C16+($A$4-80)*AF16*$A$16/1000","v":13.383427171284104},{"$f":"Z16*E16+($A$4-80)*AG16*$A$16/1000","v":13.02761291505305},{"$f":"AA16*G16+($A$4-80)*AH16*$A$16/1000","v":12.673008578240253},{"$f":"AB16*I16+($A$4-80)*AI16*$A$16/1000","v":12.472020356302552},{"$f":"AC16*K16+($A$4-80)*AJ16*$A$16/1000","v":12.260316995885031},{"$f":"AD16*M16+($A$4-80)*AK16*$A$16/1000","v":11.90698541057221},{"$f":"AE16*O16+($A$4-80)*AL16*$A$16/1000","v":11.491961796076426}]
[null,67,21.850267379679146,17.125651327201815,20.695187165775401,16.625724723930109,19.44385026737968,16.048228656710027,18.866310160427808,15.806316269029718,18.288770053475936,15.550030350445541,17.037433155080215,14.969641301708492,15.882352941176471,14.473605375216657,null,1.213903743315508,1.1497326203208555,1.0802139037433156,1.0481283422459893,1.0160427807486632,0.946524064171123,0.88235294117647056,0.78377307836190391,0.80336189234494315,0.82536269494080716,0.83780644623258427,0.85025019752436137,0.8786324304518166,0.911301079180308,0.9,0.9,0.9,0.9,0.9,0.9,0.76982004365223711,{"$f":"Y17*C17+($A$4-80)*AF17*$A$16/1000","v":17.125651327201815},{"$f":"Z17*E17+($A$4-80)*AG17*$A$16/1000","v":16.625724723930109},{"$f":"AA17*G17+($A$4-80)*AH17*$A$16/1000","v":16.048228656710027},{"$f":"AB17*I17+($A$4-80)*AI17*$A$16/1000","v":15.806316269029718},{"$f":"AC17*K17+($A$4-80)*AJ17*$A$16/1000","v":15.550030350445541},{"$f":"AD17*M17+($A$4-80)*AK17*$A$16/1000","v":14.969641301708492},{"$f":"AE17*O17+($A$4-80)*AL17*$A$16/1000","v":14.473605375216657}]
[null,62,20.695187165775401,20.695187165775401,19.732620320855613,19.732620320855613,18.770053475935828,18.770053475935828,18.288770053475936,18.288770053475936,17.80748663101604,17.80748663101604,16.844919786096256,16.844919786096256,15.786096256684491,15.786096256684491,null,1.1497326203208555,1.0962566844919786,1.0427807486631016,1.0160427807486632,0.98930481283422456,0.93582887700534756,0.87700534759358284,1,1,1,1,1,1,1,0.44300000000000006,0.44300000000000006,0.44300000000000006,0.44300000000000006,0.44300000000000006,0.44300000000000006,0.44300000000000006,20.695187165775401,{"$f":"Z18*E18+($A$4-80)*AG18*$A$16/1000","v":19.732620320855613},{"$f":"AA18*G18+($A$4-80)*AH18*$A$16/1000","v":18.770053475935828},18.288770053475936,17.80748663101604,16.844919786096256,15.786096256684491]
[null,57,20.695187165775401,20.695187165775401,19.732620320855613,19.732620320855613,18.770053475935828,18.770053475935828,18.240641711229948,18.240641711229948,17.711229946524064,17.711229946524064,16.748663101604279,16.748663101604279,15.786096256684491,15.786096256684491,null,1.1497326203208555,1.0962566844919786,1.0427807486631016,1.0133689839572193,0.98395721925133695,0.93048128342245995,0.87700534759358284,1,1,1,1,1,1,1,0.44300000000000006,0.44300000000000006,0.44300000000000006,0.44300000000000006,0.44300000000000006,0.44300000000000006,0.44300000000000006,20.695187165775401,{"$f":"Z19*E19+($A$4-80)*AG19*$A$16/1000","v":19.732620320855613},{"$f":"AA19*G19+($A$4-80)*AH19*$A$16/1000","v":18.770053475935828},18.240641711229948,17.711229946524064,16.748663101604279,15.786096256684491]

{"sheet":"4AC13L_24","index":4,"n_rows":19,"n_cols":45,"rows_kept":19,"cut":false,"hidden":true,"merged":[[2,0,2,1],[2,2,2,15],[3,2,3,3],[3,4,3,5],[3,6,3,7],[3,8,3,9],[3,10,3,11],[3,12,3,13],[3,14,3,15],[5,2,6,2],[5,3,6,3],[5,4,6,4],[5,5,6,5],[5,6,6,6],[5,7,6,7],[5,8,6,8],[4,0,6,0],[4,1,6,1],[4,2,4,3],[4,4,4,5],[4,6,4,7],[4,8,4,9],[5,9,6,9],[5,10,6,10],[5,11,6,11],[5,12,6,12],[5,13,6,13],[5,14,6,14],[5,15,6,15],[4,10,4,11],[4,12,4,13],[4,14,4,15],[7,0,10,0],[11,0,14,0],[15,0,18,0],[22,4,22,15],[23,4,23,5],[23,6,23,7],[23,8,23,9],[23,10,23,11],[23,12,23,13],[23,14,23,15],[25,12,26,12],[25,13,26,13],[25,14,26,14],[25,15,26,15],[27,0,30,0],[31,0,34,0],[24,12,24,13],[24,14,24,15],[25,4,26,4],[25,5,26,5],[25,6,26,6],[25,7,26,7],[25,8,26,8],[25,9,26,9],[25,10,26,10],[25,11,26,11],[24,0,26,0],[24,1,26,1],[24,4,24,5],[24,6,24,7],[24,8,24,9],[24,10,24,11],[35,0,38,0],[41,0,42,1],[41,4,41,15],[42,4,42,5],[42,6,42,7],[42,8,42,9],[42,10,42,11],[42,12,42,13],[42,14,42,15],[44,12,45,12],[44,13,45,13],[44,14,45,14],[44,15,45,15],[46,0,49,0],[50,0,53,0],[43,12,43,13],[43,14,43,15],[44,4,45,4],[44,5,45,5],[44,6,45,6],[44,7,45,7],[44,8,45,8],[44,9,45,9],[44,10,45,10],[44,11,45,11],[43,0,45,0],[43,1,45,1],[43,4,43,5],[43,6,43,7],[43,8,43,9],[43,10,43,11],[54,0,57,0],[60,0,61,1],[60,4,60,15],[61,4,61,5],[61,6,61,7],[61,8,61,9],[61,10,61,11],[61,12,61,13],[61,14,61,15],[63,12,64,12],[63,13,64,13],[63,14,64,14],[63,15,64,15],[65,0,68,0],[69,0,72,0],[62,12,62,13],[62,14,62,15],[63,4,64,4],[63,5,64,5],[63,6,64,6],[63,7,64,7],[63,8,64,8],[63,9,64,9],[63,10,64,10],[63,11,64,11],[62,0,64,0],[62,1,64,1],[62,4,62,5],[62,6,62,7],[62,8,62,9],[62,10,62,11],[73,0,76,0],[79,0,80,1],[79,4,79,15],[80,4,80,5],[80,6,80,7],[80,8,80,9],[80,10,80,11],[80,12,80,13],[80,14,80,15],[82,12,83,12],[82,13,83,13],[82,14,83,14],[82,15,83,15],[84,0,87,0],[88,0,91,0],[81,12,81,13],[81,14,81,15],[82,4,83,4],[82,5,83,5],[82,6,83,6],[82,7,83,7],[82,8,83,8],[82,9,83,9],[82,10,83,10],[82,11,83,11],[81,0,83,0],[81,1,83,1],[81,4,81,5],[81,6,81,7],[81,8,81,9],[81,10,81,11],[92,0,95,0],[98,0,99,1],[98,4,98,15],[99,4,99,5],[99,6,99,7],[99,8,99,9],[99,10,99,11],[99,12,99,13],[99,14,99,15],[101,12,102,12],[101,13,102,13],[101,14,102,14],[101,15,102,15],[103,0,106,0],[107,0,110,0],[100,12,100,13],[100,14,100,15],[101,4,102,4],[101,5,102,5],[101,6,102,6],[101,7,102,7],[101,8,102,8],[101,9,102,9],[101,10,102,10],[101,11,102,11],[100,0,102,0],[100,1,102,1],[100,4,100,5],[100,6,100,7],[100,8,100,9],[100,10,100,11],[111,0,114,0],[117,0,118,1],[117,4,117,15],[118,4,118,5],[118,6,118,7],[118,8,118,9],[118,10,118,11],[118,12,118,13],[118,14,118,15],[130,0,133,0],[120,12,121,12],[120,13,121,13],[120,14,121,14],[120,15,121,15],[122,0,125,0],[126,0,129,0],[119,12,119,13],[119,14,119,15],[120,4,121,4],[120,5,121,5],[120,6,121,6],[120,7,121,7],[120,8,121,8],[120,9,121,9],[120,10,121,10],[120,11,121,11],[119,0,121,0],[119,1,121,1],[119,4,119,5],[119,6,119,7],[119,8,119,9],[119,10,119,11]]}
[]
["4AC13L_24"]
["Evaporator Air \n",null,"Condenser  Entering Air Temperature ˚F"]
[80,"°F DB",65,null,75,null,85,null,90,null,95,null,105,null,115]
["CFM","EWB†\n˚F","Capacity Mbtuh",null,"Capacity Mbtuh",null,"Capacity Mbtuh",null,"Capacity Mbtuh",null,"Capacity Mbtuh",null,"Capacity Mbtuh",null,"Capacity Mbtuh"]
[null,null,"Total","Sens.","Total","Sens.","Total","Sens.","Total","Sens.","Total","Sens.","Total","Sens.","Total","Sens."]
[null,null,null,null,null,null,null,null,null,null,null,null,null,null,null,null,null,"Total Factors",null,null,null,null,null,null,"Sens. %",null,null,null,null,null,null,"IDB Adj",null,null,null,null,null,null,"Sens Calc"]
[600,72,{"$f":"R8*$K$13","v":22.042372881355934},{"$f":"IF(AM8>C8,C8,AM8)","v":10.885042484887903},{"$f":"S8*$K$13","v":20.974576271186439},{"$f":"IF(AN8>E8,E8,AN8)","v":10.496827237044551},{"$f":"T8*$K$13","v":19.83050847457627},{"$f":"IF(AO8>G8,G8,AO8)","v":10.070480657376685},{"$f":"U8*$K$13","v":19.296610169491526},{"$f":"IF(AP8>I8,I8,AP8)","v":9.8789145921646853},{"$f":"V8*$K$13","v":18.762711864406782},{"$f":"IF(AQ8>K8,K8,AQ8)","v":9.6829458722392285},{"$f":"W8*$K$13","v":17.618644067796609},{"$f":"IF(AR8>M8,M8,AR8)","v":9.2561040519680642},{"$f":"X8*$K$13","v":16.550847457627118},{"$f":"IF(AS8>O8,O8,AS8)","v":8.8694450508052078},null,1.2245762711864407,1.1652542372881356,1.1016949152542372,1.0720338983050848,1.0423728813559323,0.97881355932203384,0.91949152542372881,0.49382353449318428,0.50045479352374023,0.50782765708138844,0.51195077816224543,0.51607389924310243,0.5253584791400826,0.53589068919355587,{"$f":"IF(Y8<0.9,0.9,Y8*-3.6846+4.1276)","v":0.9},{"$f":"IF(Z8<0.9,0.9,Z8*-3.6846+4.1276)","v":0.9},0.9,0.9,0.9,0.9,0.9,{"$f":"Y8*C8+($A$4-80)*AF8*$A$8/1000","v":10.885042484887903},{"$f":"Z8*E8+($A$4-80)*AG8*$A$8/1000","v":10.496827237044551},{"$f":"AA8*G8+($A$4-80)*AH8*$A$8/1000","v":10.070480657376685},{"$f":"AB8*I8+($A$4-80)*AI8*$A$8/1000","v":9.8789145921646853},{"$f":"AC8*K8+($A$4-80)*AJ8*$A$8/1000","v":9.6829458722392285},{"$f":"AD8*M8+($A$4-80)*AK8*$A$8/1000","v":9.2561040519680642},{"$f":"AE8*O8+($A$4-80)*AL8*$A$8/1000","v":8.8694450508052078}]
[null,67,20.440677966101696,13.703968559671772,19.372881355932204,{"$f":"IF(AN9>E9,E9,AN9)","v":13.234742460539035},18.305084745762713,{"$f":"IF(AO9>G9,G9,AO9)","v":12.764862016898739},17.809322033898304,{"$f":"IF(AP9>I9,I9,AP9)","v":12.560674692224209},{"$f":"V9*$K$13","v":17.3135593220339},{"$f":"IF(AQ9>K9,K9,AQ9)","v":12.348607881692375},16.245762711864408,{"$f":"IF(AR9>M9,M9,AR9)","v":11.878400781038337},15.177966101694915,{"$f":"IF(AS9>O9,O9,AS9)","v":11.407269862513997},null,1.1355932203389831,1.076271186440678,1.0169491525423728,0.98940677966101698,0.96186440677966101,0.90254237288135597,0.84322033898305082,0.67042632257100709,0.68315818475223367,0.69733968425650517,0.70528651614677929,0.71323334803705341,0.73116916649062269,0.75156775196909642,{"$f":"IF(Y9<0.9,0.9,Y9*-3.6846+4.1276)","v":0.9},0.9,0.9,0.9,0.9,0.9,0.9,{"$f":"Y9*C9+($A$4-80)*AF9*$A$8/1000","v":13.703968559671772},{"$f":"Z9*E9+($A$4-80)*AG9*$A$8/1000","v":13.234742460539035},{"$f":"AA9*G9+($A$4-80)*AH9*$A$8/1000","v":12.764862016898739},{"$f":"AB9*I9+($A$4-80)*AI9*$A$8/1000","v":12.560674692224209},{"$f":"AC9*K9+($A$4-80)*AJ9*$A$8/1000","v":12.348607881692375},{"$f":"AD9*M9+($A$4-80)*AK9*$A$8/1000","v":11.878400781038337},{"$f":"AE9*O9+($A$4-80)*AL9*$A$8/1000","v":11.407269862513997}]
[null,62,18.762711864406782,16.357667090780936,17.771186440677965,15.85355852305949,16.85593220338983,15.416407092299664,16.398305084745765,15.203851560215563,{"$f":"V10*$K$13","v":15.940677966101694},14.979798942167898,15.025423728813559,14.543834742534219,14.110169491525424,14.108641672837587,null,1.0423728813559323,0.98728813559322037,0.93644067796610164,0.91101694915254239,0.88559322033898302,0.8347457627118644,0.78389830508474578,0.87181784856014011,0.89209342189843588,0.91459830914598306,0.92715994010616853,0.93972157106635412,0.96794839234012298,0.99989172215906019,0.9,0.9,0.75767107012071078,0.71138648468481147,0.66510189924891172,0.56109735358358304,0.44339896053272687,16.357667090780936,{"$f":"Z10*E10+($A$4-80)*AG10*$A$8/1000","v":15.85355852305949},{"$f":"AA10*G10+($A$4-80)*AH10*$A$8/1000","v":15.416407092299664},15.203851560215563,14.979798942167898,14.543834742534219,14.108641672837587]
[null,57,18.152542372881356,18.152542372881356,17.389830508474574,17.389830508474574,16.627118644067796,16.627118644067796,16.245762711864408,16.245762711864408,{"$f":"V11*$K$13","v":15.864406779661017},15.864406779661017,15.177966101694915,15.177966101694915,14.415254237288135,14.415254237288135,null,1.0084745762711864,0.96610169491525422,0.92372881355932202,0.90254237288135597,0.88135593220338981,0.84322033898305082,0.80084745762711862,1,1,1,1,1,1,1,0.44300000000000006,0.44300000000000006,0.44300000000000006,0.44300000000000006,0.44300000000000006,0.44300000000000006,0.44300000000000006,18.152542372881356,{"$f":"Z11*E11+($A$4-80)*AG11*$A$8/1000","v":17.389830508474574},{"$f":"AA11*G11+($A$4-80)*AH11*$A$8/1000","v":16.627118644067796},{"$f":"AB11*I11+($A$4-80)*AI11*$A$8/1000","v":16.245762711864408},15.864406779661017,15.177966101694915,14.415254237288135]
[800,72,23.033898305084744,12.231057250782861,21.8135593220339,11.774130147185327,20.593220338983052,11.31729768972334,19.983050847457626,11.092306821644245,{"$f":"V12*$K$13","v":19.372881355932204},10.860577848473508,18.152542372881356,10.403993450085441,16.932203389830509,9.9475739373302208,null,1.2796610169491525,1.2118644067796611,1.1440677966101696,1.1101694915254237,1.076271186440678,1.0084745762711864,0.94067796610169496,0.53100248550124274,0.53976198809940501,0.54956424995364361,0.55508575273707417,0.56060725552050472,0.57314249631656489,0.58749435665914218,0.9,0.9,0.9,0.9,0.9,0.9,0.9,{"$f":"Y12*C12+($A$4-80)*AF12*$A$12/1000","v":12.231057250782861},{"$f":"Z12*E12+($A$4-80)*AG12*$A$12/1000","v":11.774130147185327},{"$f":"AA12*G12+($A$4-80)*AH12*$A$12/1000","v":11.31729768972334},{"$f":"AB12*I12+($A$4-80)*AI12*$A$12/1000","v":11.092306821644245},{"$f":"AC12*K12+($A$4-80)*AJ12*$A$12/1000","v":10.860577848473508},{"$f":"AD12*M12+($A$4-80)*AK12*$A$12/1000","v":10.403993450085441},{"$f":"AE12*O12+($A$4-80)*AL12*$A$12/1000","v":9.9475739373302208}]
[null,67,21.35593220338983,15.795733463126183,20.211864406779661,15.340489869200505,19.14406779661017,14.944282776483494,18.572033898305087,14.724009484907663,18,14.489797649853646,16.85593220338983,14.034844507746314,15.711864406779661,13.579322033898304,null,1.1864406779661016,1.1228813559322033,1.0635593220338984,1.0317796610169492,1,0.93644067796610164,0.8728813559322034,0.73964148755908321,0.758984404430046,0.78062211935593284,0.79280543884056764,0.80498875832520256,0.83263532021823283,0.86427184466019413,0.9,0.9,0.9,0.9,0.9,0.9,0.9,{"$f":"Y13*C13+($A$4-80)*AF13*$A$12/1000","v":15.795733463126183},{"$f":"Z13*E13+($A$4-80)*AG13*$A$12/1000","v":15.340489869200505},{"$f":"AA13*G13+($A$4-80)*AH13*$A$12/1000","v":14.944282776483494},{"$f":"AB13*I13+($A$4-80)*AI13*$A$12/1000","v":14.724009484907663},{"$f":"AC13*K13+($A$4-80)*AJ13*$A$12/1000","v":14.489797649853646},{"$f":"AD13*M13+($A$4-80)*AK13*$A$12/1000","v":14.034844507746314},{"$f":"AE13*O13+($A$4-80)*AL13*$A$12/1000","v":13.579322033898304}]
[null,62,19.525423728813561,19.158949833848734,18.762711864406782,18.518505088330553,18,17.877955758962624,17.618644067796609,17.558914788814334,{"$f":"V14*$K$13","v":17.237288135593221},17.237288135593221,16.474576271186439,16.474576271186439,15.711864406779661,15.711864406779661,null,1.0847457627118644,1.0423728813559323,1,0.97881355932203384,0.9576271186440678,0.9152542372881356,0.8728813559322034,0.98123093767107217,0.98698446270235096,0.99321976438681248,0.99660988219340618,1,1,1,0.51215648705716754,0.49095704872691792,0.46798245614035094,0.4554912280701755,0.44300000000000006,0.44300000000000006,0.44300000000000006,19.158949833848734,{"$f":"Z14*E14+($A$4-80)*AG14*$A$12/1000","v":18.518505088330553},{"$f":"AA14*G14+($A$4-80)*AH14*$A$12/1000","v":17.877955758962624},17.558914788814334,17.237288135593221,16.474576271186439,15.711864406779661]
[null,57,19.83050847457627,19.83050847457627,18.991525423728817,18.991525423728817,18.076271186440678,18.076271186440678,17.656779661016952,17.656779661016952,17.237288135593221,17.237288135593221,16.322033898305087,16.322033898305087,15.483050847457628,15.483050847457628,null,1.1016949152542372,1.0550847457627119,1.0042372881355932,0.98093220338983056,0.9576271186440678,0.90677966101694918,0.86016949152542377,1,1,1,1,1,1,1,0.44300000000000006,0.44300000000000006,0.44300000000000006,0.44300000000000006,0.44300000000000006,0.44300000000000006,0.44300000000000006,19.83050847457627,{"$f":"Z15*E15+($A$4-80)*AG15*$A$12/1000","v":18.991525423728817},{"$f":"AA15*G15+($A$4-80)*AH15*$A$12/1000","v":18.076271186440678},17.656779661016952,17.237288135593221,16.322033898305087,15.483050847457628]
[1000,72,23.491525423728817,13.465013296828456,22.194915254237287,12.986200200921072,20.974576271186439,12.55165188998471,20.364406779661017,12.339280361811511,19.754237288135592,12.117754230737992,18.457627118644066,11.63655355930106,17.237288135593221,11.202903427678496,null,1.3050847457627119,1.2330508474576272,1.1652542372881356,1.1313559322033899,1.097457627118644,1.0254237288135593,0.9576271186440678,0.57318599171203377,0.58509798537941449,0.59842219111846295,0.60592387960622485,0.61342556809398674,0.63044688705120533,0.6499226177315941,0.9,0.9,0.9,0.9,0.9,0.9,0.9,{"$f":"Y16*C16+($A$4-80)*AF16*$A$16/1000","v":13.465013296828456},{"$f":"Z16*E16+($A$4-80)*AG16*$A$16/1000","v":12.986200200921072},{"$f":"AA16*G16+($A$4-80)*AH16*$A$16/1000","v":12.55165188998471},{"$f":"AB16*I16+($A$4-80)*AI16*$A$16/1000","v":12.339280361811511},{"$f":"AC16*K16+($A$4-80)*AJ16*$A$16/1000","v":12.117754230737992},{"$f":"AD16*M16+($A$4-80)*AK16*$A$16/1000","v":11.63655355930106},{"$f":"AE16*O16+($A$4-80)*AL16*$A$16/1000","v":11.202903427678496}]
[null,67,22.194915254237287,18.956431102256047,20.898305084745765,18.002848810486896,19.601694915254235,17.049420739593977,18.915254237288138,16.542539294806026,18.228813559322035,16.029112528751824,16.932203389830509,15.075263066202755,15.635593220338983,14.121561849539102,null,1.2330508474576272,1.1610169491525424,1.0889830508474576,1.0508474576271187,1.0127118644067796,0.94067796610169496,0.86864406779661019,0.85408891564192968,0.8614501863898838,0.86979318948209661,0.87456076916985248,0.87932834885760824,0.8903308517577202,0.90316764132553606,0.9,0.9,0.9,0.9,0.9,0.9,0.79978850877192986,{"$f":"Y17*C17+($A$4-80)*AF17*$A$16/1000","v":18.956431102256047},{"$f":"Z17*E17+($A$4-80)*AG17*$A$16/1000","v":18.002848810486896},{"$f":"AA17*G17+($A$4-80)*AH17*$A$16/1000","v":17.049420739593977},{"$f":"AB17*I17+($A$4-80)*AI17*$A$16/1000","v":16.542539294806026},{"$f":"AC17*K17+($A$4-80)*AJ17*$A$16/1000","v":16.029112528751824},{"$f":"AD17*M17+($A$4-80)*AK17*$A$16/1000","v":15.075263066202755},{"$f":"AE17*O17+($A$4-80)*AL17*$A$16/1000","v":14.121561849539102}]
[null,62,21.050847457627118,21.050847457627118,20.059322033898304,20.059322033898304,19.067796610169491,19.067796610169491,18.572033898305087,18.572033898305087,18.076271186440678,18.076271186440678,17.084745762711865,17.084745762711865,16.16949152542373,16.16949152542373,null,1.1694915254237288,1.1144067796610169,1.0593220338983051,1.0317796610169492,1.0042372881355932,0.94915254237288138,0.89830508474576276,1,1,1,1,1,1,1,0.44300000000000006,0.44300000000000006,0.44300000000000006,0.44300000000000006,0.44300000000000006,0.44300000000000006,0.44300000000000006,21.050847457627118,{"$f":"Z18*E18+($A$4-80)*AG18*$A$16/1000","v":20.059322033898304},{"$f":"AA18*G18+($A$4-80)*AH18*$A$16/1000","v":19.067796610169491},18.572033898305087,18.076271186440678,17.084745762711865,16.16949152542373]
[null,57,20.974576271186439,20.974576271186439,19.983050847457626,19.983050847457626,19.067796610169491,19.067796610169491,18.572033898305087,18.572033898305087,18.076271186440678,18.076271186440678,17.084745762711865,17.084745762711865,16.093220338983048,16.093220338983048,null,1.1652542372881356,1.1101694915254237,1.0593220338983051,1.0317796610169492,1.0042372881355932,0.94915254237288138,0.89406779661016944,1,1,1,1,1,1,1,0.44300000000000006,0.44300000000000006,0.44300000000000006,0.44300000000000006,0.44300000000000006,0.44300000000000006,0.44300000000000006,20.974576271186439,{"$f":"Z19*E19+($A$4-80)*AG19*$A$16/1000","v":19.983050847457626},{"$f":"AA19*G19+($A$4-80)*AH19*$A$16/1000","v":19.067796610169491},18.572033898305087,18.076271186440678,17.084745762711865,16.093220338983048]

{"sheet":"4AC13L_30","index":5,"n_rows":19,"n_cols":45,"rows_kept":19,"cut":false,"hidden":true,"merged":[[2,0,2,1],[2,2,2,15],[3,2,3,3],[3,4,3,5],[3,6,3,7],[3,8,3,9],[3,10,3,11],[3,12,3,13],[3,14,3,15],[5,2,6,2],[5,3,6,3],[5,4,6,4],[5,5,6,5],[5,6,6,6],[5,7,6,7],[5,8,6,8],[4,0,6,0],[4,1,6,1],[4,2,4,3],[4,4,4,5],[4,6,4,7],[4,8,4,9],[5,9,6,9],[5,10,6,10],[5,11,6,11],[5,12,6,12],[5,13,6,13],[5,14,6,14],[5,15,6,15],[4,10,4,11],[4,12,4,13],[4,14,4,15],[7,0,10,0],[11,0,14,0],[15,0,18,0],[22,4,22,15],[23,4,23,5],[23,6,23,7],[23,8,23,9],[23,10,23,11],[23,12,23,13],[23,14,23,15],[25,12,26,12],[25,13,26,13],[25,14,26,14],[25,15,26,15],[27,0,30,0],[31,0,34,0],[24,12,24,13],[24,14,24,15],[25,4,26,4],[25,5,26,5],[25,6,26,6],[25,7,26,7],[25,8,26,8],[25,9,26,9],[25,10,26,10],[25,11,26,11],[24,0,26,0],[24,1,26,1],[24,4,24,5],[24,6,24,7],[24,8,24,9],[24,10,24,11],[35,0,38,0],[41,0,42,1],[41,4,41,15],[42,4,42,5],[42,6,42,7],[42,8,42,9],[42,10,42,11],[42,12,42,13],[42,14,42,15],[44,12,45,12],[44,13,45,13],[44,14,45,14],[44,15,45,15],[46,0,49,0],[50,0,53,0],[43,12,43,13],[43,14,43,15],[44,4,45,4],[44,5,45,5],[44,6,45,6],[44,7,45,7],[44,8,45,8],[44,9,45,9],[44,10,45,10],[44,11,45,11],[43,0,45,0],[43,1,45,1],[43,4,43,5],[43,6,43,7],[43,8,43,9],[43,10,43,11],[54,0,57,0],[60,0,61,1],[60,4,60,15],[61,4,61,5],[61,6,61,7],[61,8,61,9],[61,10,61,11],[61,12,61,13],[61,14,61,15],[63,12,64,12],[63,13,64,13],[63,14,64,14],[63,15,64,15],[65,0,68,0],[69,0,72,0],[62,12,62,13],[62,14,62,15],[63,4,64,4],[63,5,64,5],[63,6,64,6],[63,7,64,7],[63,8,64,8],[63,9,64,9],[63,10,64,10],[63,11,64,11],[62,0,64,0],[62,1,64,1],[62,4,62,5],[62,6,62,7],[62,8,62,9],[62,10,62,11],[73,0,76,0],[79,0,80,1],[79,4,79,15],[80,4,80,5],[80,6,80,7],[80,8,80,9],[80,10,80,11],[80,12,80,13],[80,14,80,15],[82,12,83,12],[82,13,83,13],[82,14,83,14],[82,15,83,15],[84,0,87,0],[88,0,91,0],[81,12,81,13],[81,14,81,15],[82,4,83,4],[82,5,83,5],[82,6,83,6],[82,7,83,7],[82,8,83,8],[82,9,83,9],[82,10,83,10],[82,11,83,11],[81,0,83,0],[81,1,83,1],[81,4,81,5],[81,6,81,7],[81,8,81,9],[81,10,81,11],[92,0,95,0],[98,0,99,1],[98,4,98,15],[99,4,99,5],[99,6,99,7],[99,8,99,9],[99,10,99,11],[99,12,99,13],[99,14,99,15],[101,12,102,12],[101,13,102,13],[101,14,102,14],[101,15,102,15],[103,0,106,0],[107,0,110,0],[100,12,100,13],[100,14,100,15],[101,4,102,4],[101,5,102,5],[101,6,102,6],[101,7,102,7],[101,8,102,8],[101,9,102,9],[101,10,102,10],[101,11,102,11],[100,0,102,0],[100,1,102,1],[100,4,100,5],[100,6,100,7],[100,8,100,9],[100,10,100,11],[111,0,114,0],[117,0,118,1],[117,4,117,15],[118,4,118,5],[118,6,118,7],[118,8,118,9],[118,10,118,11],[118,12,118,13],[118,14,118,15],[130,0,133,0],[120,12,121,12],[120,13,121,13],[120,14,121,14],[120,15,121,15],[122,0,125,0],[126,0,129,0],[119,12,119,13],[119,14,119,15],[120,4,121,4],[120,5,121,5],[120,6,121,6],[120,7,121,7],[120,8,121,8],[120,9,121,9],[120,10,121,10],[120,11,121,11],[119,0,121,0],[119,1,121,1],[119,4,119,5],[119,6,119,7],[119,8,119,9],[119,10,119,11]]}
[]
["4AC13L_30"]
["Evaporator Air \n",null,"Condenser  Entering Air Temperature ˚F"]
[80,"°F DB",65,null,75,null,85,null,90,null,95,null,105,null,115]
["CFM","EWB†\n˚F","Capacity Mbtuh",null,"Capacity Mbtuh",null,"Capacity Mbtuh",null,"Capacity Mbtuh",null,"Capacity Mbtuh",null,"Capacity Mbtuh",null,"Capacity Mbtuh"]
[null,null,"Total","Sens.","Total","Sens.","Total","Sens.","Total","Sens.","Total","Sens.","Total","Sens.","Total","Sens."]
[null,null,null,null,null,null,null,null,null,null,null,null,null,null,null,null,null,"Total Factors",null,null,null,null,null,null,"Sens. %",null,null,null,null,null,null,"IDB Adj",null,null,null,null,null,null,"Sens Calc"]
[800,72,{"$f":"R8*$K$13","v":22.221498371335507},{"$f":"IF(AM8>C8,C8,AM8)","v":10.971626848427944},{"$f":"S8*$K$13","v":21.166123778501628},{"$f":"IF(AN8>E8,E8,AN8)","v":10.590102400542033},{"$f":"T8*$K$13","v":20.052117263843648},{"$f":"IF(AO8>G8,G8,AO8)","v":10.179304932430201},{"$f":"U8*$K$13","v":19.524429967426713},{"$f":"IF(AP8>I8,I8,AP8)","v":9.9909873776735019},{"$f":"V8*$K$13","v":18.996742671009773},{"$f":"IF(AQ8>K8,K8,AQ8)","v":9.7983693423312044},{"$f":"W8*$K$13","v":17.88273615635179},{"$f":"IF(AR8>M8,M8,AR8)","v":9.3872784636608468},{"$f":"X8*$K$13","v":16.76872964169381},{"$f":"IF(AS8>O8,O8,AS8)","v":8.9757201608647375},null,1.234527687296417,1.1758957654723128,1.1140065146579805,1.0846905537459284,1.0553745928338762,0.99348534201954397,0.9315960912052117,0.49373929089231583,0.50033263111209669,0.50764239997661986,0.51171723806235647,0.51579207614809319,0.52493524377848455,0.5352653631284916,{"$f":"IF(Y8<0.9,0.9,Y8*-3.6846+4.1276)","v":0.9},{"$f":"IF(Z8<0.9,0.9,Z8*-3.6846+4.1276)","v":0.9},0.9,0.9,0.9,0.9,0.9,{"$f":"Y8*C8+($A$4-80)*AF8*$A$8/1000","v":10.971626848427944},{"$f":"Z8*E8+($A$4-80)*AG8*$A$8/1000","v":10.590102400542033},{"$f":"AA8*G8+($A$4-80)*AH8*$A$8/1000","v":10.179304932430201},{"$f":"AB8*I8+($A$4-80)*AI8*$A$8/1000","v":9.9909873776735019},{"$f":"AC8*K8+($A$4-80)*AJ8*$A$8/1000","v":9.7983693423312044},{"$f":"AD8*M8+($A$4-80)*AK8*$A$8/1000","v":9.3872784636608468},{"$f":"AE8*O8+($A$4-80)*AL8*$A$8/1000","v":8.9757201608647375}]
[null,67,20.521172638436482,13.779360842616454,19.524429967426713,{"$f":"IF(AN9>E9,E9,AN9)","v":13.395608813469844},18.527687296416939,{"$f":"IF(AO9>G9,G9,AO9)","v":13.011967757050844},18.029315960912051,{"$f":"IF(AP9>I9,I9,AP9)","v":12.824710961126842},{"$f":"V9*$K$13","v":17.530944625407166},{"$f":"IF(AQ9>K9,K9,AQ9)","v":12.62845667798261},16.534201954397393,{"$f":"IF(AR9>M9,M9,AR9)","v":12.245099183119574},15.537459283387623,{"$f":"IF(AS9>O9,O9,AS9)","v":11.861924964440313},null,1.1400651465798046,1.0846905537459284,1.0293159609120521,1.001628664495114,0.97394136807817588,0.91856677524429964,0.8631921824104235,0.67147044106083353,0.68609474570157514,0.70229854103632361,0.71132543180956476,0.7203523225828059,0.74059209007441085,0.76344045368620039,{"$f":"IF(Y9<0.9,0.9,Y9*-3.6846+4.1276)","v":0.9},0.9,0.9,0.9,0.9,0.9,0.9,{"$f":"Y9*C9+($A$4-80)*AF9*$A$8/1000","v":13.779360842616454},{"$f":"Z9*E9+($A$4-80)*AG9*$A$8/1000","v":13.395608813469844},{"$f":"AA9*G9+($A$4-80)*AH9*$A$8/1000","v":13.011967757050844},{"$f":"AB9*I9+($A$4-80)*AI9*$A$8/1000","v":12.824710961126842},{"$f":"AC9*K9+($A$4-80)*AJ9*$A$8/1000","v":12.62845667798261},{"$f":"AD9*M9+($A$4-80)*AK9*$A$8/1000","v":12.245099183119574},{"$f":"AE9*O9+($A$4-80)*AL9*$A$8/1000","v":11.861924964440313}]
[null,62,18.820846905537458,16.488536654918207,17.88273615635179,16.06114576368585,17.003257328990227,15.686917764950428,16.534201954397393,15.479400627460828,{"$f":"V10*$K$13","v":16.065146579804559},15.259104742649614,15.127035830618894,14.830197685086372,14.247557003257329,14.247557003257329,null,1.0456026058631922,0.99348534201954397,0.94462540716612375,0.91856677524429964,0.89250814332247552,0.8403908794788274,0.79153094462540718,0.87607835809274659,0.89813693068334366,0.92258309460532217,0.93620488428496351,0.94982667396460496,0.98037697875140306,1,0.9,0.9,0.72825032961723002,0.67805948336362354,0.62786863711001661,0.51530298409258046,0.44300000000000006,16.488536654918207,{"$f":"Z10*E10+($A$4-80)*AG10*$A$8/1000","v":16.06114576368585},{"$f":"AA10*G10+($A$4-80)*AH10*$A$8/1000","v":15.686917764950428},15.479400627460828,15.259104742649614,14.830197685086372,14.247557003257329]
[null,57,18.175895765472312,18.175895765472312,17.413680781758956,17.413680781758956,16.710097719869708,16.710097719869708,16.32899022801303,16.32899022801303,{"$f":"V11*$K$13","v":15.947882736156352},15.947882736156352,15.185667752442997,15.185667752442997,14.482084690553746,14.482084690553746,null,1.009771986970684,0.96742671009771986,0.92833876221498368,0.90716612377850159,0.88599348534201949,0.84364820846905542,0.80456026058631924,1,1,1,1,1,1,1,0.44300000000000006,0.44300000000000006,0.44300000000000006,0.44300000000000006,0.44300000000000006,0.44300000000000006,0.44300000000000006,18.175895765472312,{"$f":"Z11*E11+($A$4-80)*AG11*$A$8/1000","v":17.413680781758956},{"$f":"AA11*G11+($A$4-80)*AH11*$A$8/1000","v":16.710097719869708},{"$f":"AB11*I11+($A$4-80)*AI11*$A$8/1000","v":16.32899022801303},15.947882736156352,15.185667752442997,14.482084690553746]
[1000,72,22.983713355048859,11.978679255827364,21.811074918566778,11.5789286104397,20.638436482084693,11.178945643065358,20.081433224755703,10.998411116812091,{"$f":"V12*$K$13","v":19.524429967426713},10.811154752660753,18.351791530944624,10.411369251570553,17.179153094462542,10.011299561945414,null,1.276872964169381,1.2117263843648209,1.1465798045602607,1.1156351791530945,1.0846905537459284,1.0195439739413681,0.9543973941368078,0.52118119778047067,0.53087381771281172,0.54165661496544582,0.54769054547628737,0.55372447598712893,0.56732168268231453,0.58275862068965523,0.9,0.9,0.9,0.9,0.9,0.9,0.9,{"$f":"Y12*C12+($A$4-80)*AF12*$A$12/1000","v":11.978679255827364},{"$f":"Z12*E12+($A$4-80)*AG12*$A$12/1000","v":11.5789286104397},{"$f":"AA12*G12+($A$4-80)*AH12*$A$12/1000","v":11.178945643065358},{"$f":"AB12*I12+($A$4-80)*AI12*$A$12/1000","v":10.998411116812091},{"$f":"AC12*K12+($A$4-80)*AJ12*$A$12/1000","v":10.811154752660753},{"$f":"AD12*M12+($A$4-80)*AK12*$A$12/1000","v":10.411369251570553},{"$f":"AE12*O12+($A$4-80)*AL12*$A$12/1000","v":10.011299561945414}]
[null,67,21.224755700325733,15.410888090436492,20.110749185667753,14.994471505842276,19.055374592833878,14.621016578749739,18.527687296416939,14.440921213468785,18,14.248021108179419,16.944625407166122,13.8755718596821,15.889250814332247,13.503778913263188,null,1.1791530944625408,1.1172638436482085,1.0586319218241043,1.0293159609120521,1,0.94136807817589574,0.88273615635179148,0.72608082316820177,0.74559487403524105,0.76729095550019988,0.77942384186619496,0.79155672823218992,0.818877462691735,0.84986882459446478,0.9,0.9,0.9,0.9,0.9,0.9,0.9,{"$f":"Y13*C13+($A$4-80)*AF13*$A$12/1000","v":15.410888090436492},{"$f":"Z13*E13+($A$4-80)*AG13*$A$12/1000","v":14.994471505842276},{"$f":"AA13*G13+($A$4-80)*AH13*$A$12/1000","v":14.621016578749739},{"$f":"AB13*I13+($A$4-80)*AI13*$A$12/1000","v":14.440921213468785},{"$f":"AC13*K13+($A$4-80)*AJ13*$A$12/1000","v":14.248021108179419},{"$f":"AD13*M13+($A$4-80)*AK13*$A$12/1000","v":13.8755718596821},{"$f":"AE13*O13+($A$4-80)*AL13*$A$12/1000","v":13.503778913263188}]
[null,62,19.348534201954397,18.435378306618009,18.586319218241044,17.976960546449291,17.824104234527688,17.519105069527043,17.413680781758956,17.26469270280305,{"$f":"V14*$K$13","v":17.003257328990227},17.003257328990227,16.241042345276874,16.241042345276874,15.478827361563519,15.478827361563519,null,1.0749185667752443,1.0325732899022801,0.99022801302931596,0.96742671009771986,0.94462540716612375,0.90228013029315957,0.85993485342019549,0.95280490574608223,0.96721466662459377,0.98288838748991258,0.99144419374495629,1,1,1,0.61689504428798569,0.56380083935502201,0.50604944745466796,0.47452472372733423,0.44300000000000006,0.44300000000000006,0.44300000000000006,18.435378306618009,{"$f":"Z14*E14+($A$4-80)*AG14*$A$12/1000","v":17.976960546449291},{"$f":"AA14*G14+($A$4-80)*AH14*$A$12/1000","v":17.519105069527043},17.26469270280305,17.003257328990227,16.241042345276874,15.478827361563519]
[null,57,19.465798045602607,19.465798045602607,18.644951140065146,18.644951140065146,17.824104234527688,17.824104234527688,17.413680781758956,17.413680781758956,17.003257328990227,17.003257328990227,16.182410423452769,16.182410423452769,15.302931596091206,15.302931596091206,null,1.0814332247557004,1.0358306188925082,0.99022801302931596,0.96742671009771986,0.94462540716612375,0.89902280130293155,0.85016286644951145,1,1,1,1,1,1,1,0.44300000000000006,0.44300000000000006,0.44300000000000006,0.44300000000000006,0.44300000000000006,0.44300000000000006,0.44300000000000006,19.465798045602607,{"$f":"Z15*E15+($A$4-80)*AG15*$A$12/1000","v":18.644951140065146},{"$f":"AA15*G15+($A$4-80)*AH15*$A$12/1000","v":17.824104234527688},17.413680781758956,17.003257328990227,16.182410423452769,15.302931596091206]
[1200,72,23.452768729641694,13.00255209125698,22.221498371335507,12.557429269261965,20.990228013029316,12.112293954638577,20.374592833876221,11.893852636504358,19.758957654723126,11.667143813147158,18.527687296416939,11.22197589038759,17.296416938110749,10.77678639119134,null,1.3029315960912051,1.234527687296417,1.1661237785016287,1.1319218241042346,1.0977198697068404,1.0293159609120521,0.96091205211726383,0.55441437389109627,0.56510272437165388,0.57704442024736857,0.58375903427767195,0.59047364830797522,0.60568681405572955,0.62306467459430159,0.9,0.9,0.9,0.9,0.9,0.9,0.9,{"$f":"Y16*C16+($A$4-80)*AF16*$A$16/1000","v":13.00255209125698},{"$f":"Z16*E16+($A$4-80)*AG16*$A$16/1000","v":12.557429269261965},{"$f":"AA16*G16+($A$4-80)*AH16*$A$16/1000","v":12.112293954638577},{"$f":"AB16*I16+($A$4-80)*AI16*$A$16/1000","v":11.893852636504358},{"$f":"AC16*K16+($A$4-80)*AJ16*$A$16/1000","v":11.667143813147158},{"$f":"AD16*M16+($A$4-80)*AK16*$A$16/1000","v":11.22197589038759},{"$f":"AE16*O16+($A$4-80)*AL16*$A$16/1000","v":10.77678639119134}]
[null,67,21.693811074918568,16.699687481417371,20.579804560260587,16.261274958528304,19.407166123778502,15.775902255546677,18.850162866449512,15.563825973889365,18.293159609120522,15.337524429967427,17.179153094462542,14.899944533612242,16.065146579804559,14.463331050622584,null,1.2052117263843649,1.1433224755700326,1.0781758957654723,1.0472312703583062,1.0162866449511401,0.9543973941368078,0.89250814332247552,0.76979039891818801,0.79015691868758919,0.8128905660377358,0.82566002660861149,0.83842948717948718,0.86732707087959005,0.9002925045703839,0.9,0.9,0.9,0.9,0.9,0.9,0.81038223765996342,{"$f":"Y17*C17+($A$4-80)*AF17*$A$16/1000","v":16.699687481417371},{"$f":"Z17*E17+($A$4-80)*AG17*$A$16/1000","v":16.261274958528304},{"$f":"AA17*G17+($A$4-80)*AH17*$A$16/1000","v":15.775902255546677},{"$f":"AB17*I17+($A$4-80)*AI17*$A$16/1000","v":15.563825973889365},{"$f":"AC17*K17+($A$4-80)*AJ17*$A$16/1000","v":15.337524429967427},{"$f":"AD17*M17+($A$4-80)*AK17*$A$16/1000","v":14.899944533612242},{"$f":"AE17*O17+($A$4-80)*AL17*$A$16/1000","v":14.463331050622584}]
[null,62,20.462540716612381,20.462540716612381,19.583061889250814,19.583061889250814,18.644951140065146,18.644951140065146,18.205211726384366,18.205211726384366,17.765472312703583,17.765472312703583,16.88599348534202,16.88599348534202,15.947882736156352,15.947882736156352,null,1.1368078175895766,1.0879478827361564,1.0358306188925082,1.0114006514657981,0.98697068403908794,0.93811074918566772,0.88599348534201949,1,1,1,1,1,1,1,0.44300000000000006,0.44300000000000006,0.44300000000000006,0.44300000000000006,0.44300000000000006,0.44300000000000006,0.44300000000000006,20.462540716612381,{"$f":"Z18*E18+($A$4-80)*AG18*$A$16/1000","v":19.583061889250814},{"$f":"AA18*G18+($A$4-80)*AH18*$A$16/1000","v":18.644951140065146},18.205211726384366,17.765472312703583,16.88599348534202,15.947882736156352]
[null,57,20.462540716612381,20.462540716612381,19.524429967426713,19.524429967426713,18.644951140065146,18.644951140065146,18.205211726384366,18.205211726384366,17.765472312703583,17.765472312703583,16.827361563517915,16.827361563517915,15.947882736156352,15.947882736156352,null,1.1368078175895766,1.0846905537459284,1.0358306188925082,1.0114006514657981,0.98697068403908794,0.93485342019543971,0.88599348534201949,1,1,1,1,1,1,1,0.44300000000000006,0.44300000000000006,0.44300000000000006,0.44300000000000006,0.44300000000000006,0.44300000000000006,0.44300000000000006,20.462540716612381,{"$f":"Z19*E19+($A$4-80)*AG19*$A$16/1000","v":19.524429967426713},{"$f":"AA19*G19+($A$4-80)*AH19*$A$16/1000","v":18.644951140065146},18.205211726384366,17.765472312703583,16.827361563517915,15.947882736156352]

{"sheet":"4AC13L_36","index":6,"n_rows":19,"n_cols":45,"rows_kept":19,"cut":false,"hidden":true,"merged":[[2,0,2,1],[2,2,2,15],[3,2,3,3],[3,4,3,5],[3,6,3,7],[3,8,3,9],[3,10,3,11],[3,12,3,13],[3,14,3,15],[5,2,6,2],[5,3,6,3],[5,4,6,4],[5,5,6,5],[5,6,6,6],[5,7,6,7],[5,8,6,8],[4,0,6,0],[4,1,6,1],[4,2,4,3],[4,4,4,5],[4,6,4,7],[4,8,4,9],[5,9,6,9],[5,10,6,10],[5,11,6,11],[5,12,6,12],[5,13,6,13],[5,14,6,14],[5,15,6,15],[4,10,4,11],[4,12,4,13],[4,14,4,15],[7,0,10,0],[11,0,14,0],[15,0,18,0],[22,4,22,15],[23,4,23,5],[23,6,23,7],[23,8,23,9],[23,10,23,11],[23,12,23,13],[23,14,23,15],[25,12,26,12],[25,13,26,13],[25,14,26,14],[25,15,26,15],[27,0,30,0],[31,0,34,0],[24,12,24,13],[24,14,24,15],[25,4,26,4],[25,5,26,5],[25,6,26,6],[25,7,26,7],[25,8,26,8],[25,9,26,9],[25,10,26,10],[25,11,26,11],[24,0,26,0],[24,1,26,1],[24,4,24,5],[24,6,24,7],[24,8,24,9],[24,10,24,11],[35,0,38,0],[41,0,42,1],[41,4,41,15],[42,4,42,5],[42,6,42,7],[42,8,42,9],[42,10,42,11],[42,12,42,13],[42,14,42,15],[44,12,45,12],[44,13,45,13],[44,14,45,14],[44,15,45,15],[46,0,49,0],[50,0,53,0],[43,12,43,13],[43,14,43,15],[44,4,45,4],[44,5,45,5],[44,6,45,6],[44,7,45,7],[44,8,45,8],[44,9,45,9],[44,10,45,10],[44,11,45,11],[43,0,45,0],[43,1,45,1],[43,4,43,5],[43,6,43,7],[43,8,43,9],[43,10,43,11],[54,0,57,0],[60,0,61,1],[60,4,60,15],[61,4,61,5],[61,6,61,7],[61,8,61,9],[61,10,61,11],[61,12,61,13],[61,14,61,15],[63,12,64,12],[63,13,64,13],[63,14,64,14],[63,15,64,15],[65,0,68,0],[69,0,72,0],[62,12,62,13],[62,14,62,15],[63,4,64,4],[63,5,64,5],[63,6,64,6],[63,7,64,7],[63,8,64,8],[63,9,64,9],[63,10,64,10],[63,11,64,11],[62,0,64,0],[62,1,64,1],[62,4,62,5],[62,6,62,7],[62,8,62,9],[62,10,62,11],[73,0,76,0],[79,0,80,1],[79,4,79,15],[80,4,80,5],[80,6,80,7],[80,8,80,9],[80,10,80,11],[80,12,80,13],[80,14,80,15],[82,12,83,12],[82,13,83,13],[82,14,83,14],[82,15,83,15],[84,0,87,0],[88,0,91,0],[81,12,81,13],[81,14,81,15],[82,4,83,4],[82,5,83,5],[82,6,83,6],[82,7,83,7],[82,8,83,8],[82,9,83,9],[82,10,83,10],[82,11,83,11],[81,0,83,0],[81,1,83,1],[81,4,81,5],[81,6,81,7],[81,8,81,9],[81,10,81,11],[92,0,95,0],[98,0,99,1],[98,4,98,15],[99,4,99,5],[99,6,99,7],[99,8,99,9],[99,10,99,11],[99,12,99,13],[99,14,99,15],[101,12,102,12],[101,13,102,13],[101,14,102,14],[101,15,102,15],[103,0,106,0],[107,0,110,0],[100,12,100,13],[100,14,100,15],[101,4,102,4],[101,5,102,5],[101,6,102,6],[101,7,102,7],[101,8,102,8],[101,9,102,9],[101,10,102,10],[101,11,102,11],[100,0,102,0],[100,1,102,1],[100,4,100,5],[100,6,100,7],[100,8,100,9],[100,10,100,11],[111,0,114,0],[117,0,118,1],[117,4,117,15],[118,4,118,5],[118,6,118,7],[118,8,118,9],[118,10,118,11],[118,12,118,13],[118,14,118,15],[130,0,133,0],[120,12,121,12],[120,13,121,13],[120,14,121,14],[120,15,121,15],[122,0,125,0],[126,0,129,0],[119,12,119,13],[119,14,119,15],[120,4,121,4],[120,5,121,5],[120,6,121,6],[120,7,121,7],[120,8,121,8],[120,9,121,9],[120,10,121,10],[120,11,121,11],[119,0,121,0],[119,1,121,1],[119,4,119,5],[119,6,119,7],[119,8,119,9],[119,10,119,11]]}
[]
["4AC13L_36"]
["Evaporator Air \n",null,"Condenser  Entering Air Temperature ˚F"]
[80,"°F DB",65,null,75,null,85,null,90,null,95,null,105,null,115]
["CFM","EWB†\n˚F","Capacity Mbtuh",null,"Capacity Mbtuh",null,"Capacity Mbtuh",null,"Capacity Mbtuh",null,"Capacity Mbtuh",null,"Capacity Mbtuh",null,"Capacity Mbtuh"]
[null,null,"Total","Sens.","Total","Sens.","Total","Sens.","Total","Sens.","Total","Sens.","Total","Sens.","Total","Sens."]
[null,null,null,null,null,null,null,null,null,null,null,null,null,null,null,null,null,"Total Factors",null,null,null,null,null,null,"Sens. %",null,null,null,null,null,null,"IDB Adj",null,null,null,null,null,null,"Sens Calc"]
[1000,72,{"$f":"R8*$K$13","v":22.461971830985913},{"$f":"IF(AM8>C8,C8,AM8)","v":11.258485818945356},{"$f":"S8*$K$13","v":21.346478873239437},{"$f":"IF(AN8>E8,E8,AN8)","v":10.886516561769934},{"$f":"T8*$K$13","v":20.230985915492958},{"$f":"IF(AO8>G8,G8,AO8)","v":10.514783723980761},{"$f":"U8*$K$13","v":19.647887323943664},{"$f":"IF(AP8>I8,I8,AP8)","v":10.318780894549416},{"$f":"V8*$K$13","v":19.064788732394366},{"$f":"IF(AQ8>K8,K8,AQ8)","v":10.116423841951759},{"$f":"W8*$K$13","v":17.949295774647887},{"$f":"IF(AR8>M8,M8,AR8)","v":9.7446781753675928},{"$f":"X8*$K$13","v":16.833802816901407},{"$f":"IF(AS8>O8,O8,AS8)","v":9.3732464387700141},null,1.2478873239436619,1.1859154929577465,1.123943661971831,1.091549295774648,1.0591549295774647,0.9971830985915493,0.93521126760563378,0.5012242871489343,0.50999120868676784,0.5197365945437441,0.52518526416703115,0.53063393379031831,0.54290030638033515,0.55681099159360026,{"$f":"IF(Y8<0.9,0.9,Y8*-3.6846+4.1276)","v":0.9},{"$f":"IF(Z8<0.9,0.9,Z8*-3.6846+4.1276)","v":0.9},0.9,0.9,0.9,0.9,0.9,{"$f":"Y8*C8+($A$4-80)*AF8*$A$8/1000","v":11.258485818945356},{"$f":"Z8*E8+($A$4-80)*AG8*$A$8/1000","v":10.886516561769934},{"$f":"AA8*G8+($A$4-80)*AH8*$A$8/1000","v":10.514783723980761},{"$f":"AB8*I8+($A$4-80)*AI8*$A$8/1000","v":10.318780894549416},{"$f":"AC8*K8+($A$4-80)*AJ8*$A$8/1000","v":10.116423841951759},{"$f":"AD8*M8+($A$4-80)*AK8*$A$8/1000","v":9.7446781753675928},{"$f":"AE8*O8+($A$4-80)*AL8*$A$8/1000","v":9.3732464387700141}]
[null,67,20.738028169014086,14.304336295793771,19.673239436619721,{"$f":"IF(AN9>E9,E9,AN9)","v":13.879177321896117},18.608450704225351,{"$f":"IF(AO9>G9,G9,AO9)","v":13.453727137636173},18.07605633802817,{"$f":"IF(AP9>I9,I9,AP9)","v":13.246050400640041},{"$f":"V9*$K$13","v":17.543661971830986},{"$f":"IF(AQ9>K9,K9,AQ9)","v":13.02793320809614},16.47887323943662,{"$f":"IF(AR9>M9,M9,AR9)","v":12.601729553318807},15.464788732394366,{"$f":"IF(AS9>O9,O9,AS9)","v":12.215081601008929},null,1.152112676056338,1.0929577464788733,1.0338028169014084,1.0042253521126761,0.9746478873239437,0.91549295774647887,0.85915492957746475,0.68976356764558389,0.7054851015568615,0.72299018072371202,0.73279537045772392,0.7426005601917357,0.76472034041507286,0.78986411081205277,{"$f":"IF(Y9<0.9,0.9,Y9*-3.6846+4.1276)","v":0.9},0.9,0.9,0.9,0.9,0.9,0.9,{"$f":"Y9*C9+($A$4-80)*AF9*$A$8/1000","v":14.304336295793771},{"$f":"Z9*E9+($A$4-80)*AG9*$A$8/1000","v":13.879177321896117},{"$f":"AA9*G9+($A$4-80)*AH9*$A$8/1000","v":13.453727137636173},{"$f":"AB9*I9+($A$4-80)*AI9*$A$8/1000","v":13.246050400640041},{"$f":"AC9*K9+($A$4-80)*AJ9*$A$8/1000","v":13.02793320809614},{"$f":"AD9*M9+($A$4-80)*AK9*$A$8/1000","v":12.601729553318807},{"$f":"AE9*O9+($A$4-80)*AL9*$A$8/1000","v":12.215081601008929}]
[null,62,19.115492957746476,17.363332290921086,18.152112676056337,16.899980309099874,17.138028169014085,16.390084567072119,16.630985915492957,16.142070207342638,{"$f":"V10*$K$13","v":16.123943661971833},15.879610763170573,15.109859154929577,15.109859154929577,14.146478873239436,14.146478873239436,null,1.0619718309859154,1.0084507042253521,0.95211267605633798,0.92394366197183098,0.89577464788732397,0.83943661971830985,0.78591549295774643,0.90833819087488743,0.93102002013197627,0.95635766293731128,0.97060212120708622,0.98484657947686116,1,1,0.78073710190238987,0.6971636338217202,0.60380455514118303,0.55131942420037028,0.49883429325955753,0.44300000000000006,0.44300000000000006,17.363332290921086,{"$f":"Z10*E10+($A$4-80)*AG10*$A$8/1000","v":16.899980309099874},{"$f":"AA10*G10+($A$4-80)*AH10*$A$8/1000","v":16.390084567072119},16.142070207342638,15.879610763170573,15.109859154929577,14.146478873239436]
[null,57,18.659154929577465,18.659154929577465,17.847887323943663,17.847887323943663,17.087323943661971,17.087323943661971,16.68169014084507,16.68169014084507,{"$f":"V11*$K$13","v":16.27605633802817},16.27605633802817,15.464788732394366,15.464788732394366,14.704225352112676,14.704225352112676,null,1.0366197183098591,0.9915492957746479,0.94929577464788728,0.92676056338028168,0.90422535211267607,0.85915492957746475,0.81690140845070425,1,1,1,1,1,1,1,0.44300000000000006,0.44300000000000006,0.44300000000000006,0.44300000000000006,0.44300000000000006,0.44300000000000006,0.44300000000000006,18.659154929577465,{"$f":"Z11*E11+($A$4-80)*AG11*$A$8/1000","v":17.847887323943663},{"$f":"AA11*G11+($A$4-80)*AH11*$A$8/1000","v":17.087323943661971},{"$f":"AB11*I11+($A$4-80)*AI11*$A$8/1000","v":16.68169014084507},16.27605633802817,15.464788732394366,14.704225352112676]
[1200,72,23.019718309859158,12.1066103441458,21.802816901408448,11.684186658735603,20.636619718309859,11.289103241550258,20.028169014084508,11.081582234707161,{"$f":"V12*$K$13","v":19.419718309859153},10.866446407855209,18.253521126760564,10.472399549380398,17.036619718309858,10.04950046864483,null,1.2788732394366198,1.2112676056338028,1.1464788732394366,1.1126760563380282,1.0788732394366196,1.0140845070422535,0.94647887323943658,0.52592347921827687,0.53590261806862272,0.54704226736968897,0.55329981621955582,0.55955736506942266,0.57371941975772245,0.58987643293136816,0.9,0.9,0.9,0.9,0.9,0.9,0.9,{"$f":"Y12*C12+($A$4-80)*AF12*$A$12/1000","v":12.1066103441458},{"$f":"Z12*E12+($A$4-80)*AG12*$A$12/1000","v":11.684186658735603},{"$f":"AA12*G12+($A$4-80)*AH12*$A$12/1000","v":11.289103241550258},{"$f":"AB12*I12+($A$4-80)*AI12*$A$12/1000","v":11.081582234707161},{"$f":"AC12*K12+($A$4-80)*AJ12*$A$12/1000","v":10.866446407855209},{"$f":"AD12*M12+($A$4-80)*AK12*$A$12/1000","v":10.472399549380398},{"$f":"AE12*O12+($A$4-80)*AL12*$A$12/1000","v":10.04950046864483}]
[null,67,21.194366197183097,15.641615492048873,20.129577464788735,15.269840322170648,19.064788732394366,14.89834193526886,18.532394366197181,14.719572222068978,18,14.527169779430405,16.935211267605634,14.156385827319767,15.870422535211269,13.786068809647242,null,1.1774647887323944,1.1183098591549296,1.0591549295774647,1.0295774647887324,1,0.94084507042253518,0.88169014084507047,0.7380081738008174,0.7585772900042792,0.78145853827134237,0.79426176300873808,0.80706498774613367,0.83591433278418448,0.86866425761888011,0.9,0.9,0.9,0.9,0.9,0.9,0.9,{"$f":"Y13*C13+($A$4-80)*AF13*$A$12/1000","v":15.641615492048873},{"$f":"Z13*E13+($A$4-80)*AG13*$A$12/1000","v":15.269840322170648},{"$f":"AA13*G13+($A$4-80)*AH13*$A$12/1000","v":14.89834193526886},{"$f":"AB13*I13+($A$4-80)*AI13*$A$12/1000","v":14.719572222068978},{"$f":"AC13*K13+($A$4-80)*AJ13*$A$12/1000","v":14.527169779430405},{"$f":"AD13*M13+($A$4-80)*AK13*$A$12/1000","v":14.156385827319767},{"$f":"AE13*O13+($A$4-80)*AL13*$A$12/1000","v":13.786068809647242}]
[null,62,19.419718309859153,19.115481042448796,18.659154929577465,18.45630495480356,17.898591549295773,17.797152925629835,17.518309859154929,17.468668153097447,{"$f":"V14*$K$13","v":17.138028169014085},17.138028169014085,16.377464788732393,16.377464788732393,15.616901408450703,15.616901408450703,null,1.0788732394366196,1.0366197183098591,0.9943661971830986,0.97323943661971835,0.95211267605633798,0.90985915492957747,0.86760563380281686,0.98433359008838461,0.98912866228189378,0.99433259184743339,0.99716629592371664,1,1,1,0.50072445396033816,0.4830565309561341,0.4638821320789468,0.45344106603947365,0.44300000000000006,0.44300000000000006,0.44300000000000006,19.115481042448796,{"$f":"Z14*E14+($A$4-80)*AG14*$A$12/1000","v":18.45630495480356},{"$f":"AA14*G14+($A$4-80)*AH14*$A$12/1000","v":17.797152925629835},17.468668153097447,17.138028169014085,16.377464788732393,15.616901408450703]
[null,57,19.673239436619721,19.673239436619721,18.811267605633802,18.811267605633802,17.949295774647887,17.949295774647887,17.518309859154929,17.518309859154929,17.087323943661971,17.087323943661971,16.225352112676056,16.225352112676056,15.363380281690141,15.363380281690141,null,1.0929577464788733,1.0450704225352112,0.9971830985915493,0.97323943661971835,0.94929577464788728,0.90140845070422537,0.85352112676056335,1,1,1,1,1,1,1,0.44300000000000006,0.44300000000000006,0.44300000000000006,0.44300000000000006,0.44300000000000006,0.44300000000000006,0.44300000000000006,19.673239436619721,{"$f":"Z15*E15+($A$4-80)*AG15*$A$12/1000","v":18.811267605633802},{"$f":"AA15*G15+($A$4-80)*AH15*$A$12/1000","v":17.949295774647887},17.518309859154929,17.087323943661971,16.225352112676056,15.363380281690141]
[1400,72,23.425352112676059,13.007688133325184,22.157746478873239,12.584643601532839,20.940845070422537,12.190328853364274,20.332394366197185,11.998368006783776,19.723943661971834,11.796697180923493,18.456338028169014,11.372642651210427,17.239436619718308,10.979779569564723,null,1.3014084507042254,1.2309859154929577,1.1633802816901408,1.1295774647887324,1.095774647887324,1.0253521126760563,0.95774647887323938,0.55528250208398744,0.56795683683500608,0.58213165764653174,0.59011092302691048,0.59809018840728922,0.6161917187392707,0.6368989782999146,0.9,0.9,0.9,0.9,0.9,0.9,0.9,{"$f":"Y16*C16+($A$4-80)*AF16*$A$16/1000","v":13.007688133325184},{"$f":"Z16*E16+($A$4-80)*AG16*$A$16/1000","v":12.584643601532839},{"$f":"AA16*G16+($A$4-80)*AH16*$A$16/1000","v":12.190328853364274},{"$f":"AB16*I16+($A$4-80)*AI16*$A$16/1000","v":11.998368006783776},{"$f":"AC16*K16+($A$4-80)*AJ16*$A$16/1000","v":11.796697180923493},{"$f":"AD16*M16+($A$4-80)*AK16*$A$16/1000","v":11.372642651210427},{"$f":"AE16*O16+($A$4-80)*AL16*$A$16/1000","v":10.979779569564723}]
[null,67,21.650704225352111,17.191319823249753,20.484507042253522,16.72088812751814,19.31830985915493,16.250013840565913,18.760563380281688,16.044178902762177,18.20281690140845,15.822686769095874,17.036619718309858,15.352267657867792,15.870422535211269,14.881310928727569,null,1.2028169014084507,1.1380281690140845,1.0732394366197182,1.0422535211267605,1.0112676056338028,0.94647887323943658,0.88169014084507047,0.79403051486516552,0.81626997872235141,0.84117161175282873,0.85520773430639241,0.86924385685995598,0.90113343560566572,0.93767578624392733,0.9,0.9,0.9,0.9,0.9,0.80728374316736407,0.67263979800562534,{"$f":"Y17*C17+($A$4-80)*AF17*$A$16/1000","v":17.191319823249753},{"$f":"Z17*E17+($A$4-80)*AG17*$A$16/1000","v":16.72088812751814},{"$f":"AA17*G17+($A$4-80)*AH17*$A$16/1000","v":16.250013840565913},{"$f":"AB17*I17+($A$4-80)*AI17*$A$16/1000","v":16.044178902762177},{"$f":"AC17*K17+($A$4-80)*AJ17*$A$16/1000","v":15.822686769095874},{"$f":"AD17*M17+($A$4-80)*AK17*$A$16/1000","v":15.352267657867792},{"$f":"AE17*O17+($A$4-80)*AL17*$A$16/1000","v":14.881310928727569}]
[null,62,20.535211267605636,20.535211267605636,19.622535211267607,19.622535211267607,18.659154929577465,18.659154929577465,18.20281690140845,18.20281690140845,17.746478873239436,17.746478873239436,16.833802816901407,16.833802816901407,15.92112676056338,15.92112676056338,null,1.1408450704225352,1.0901408450704226,1.0366197183098591,1.0112676056338028,0.9859154929577465,0.93521126760563378,0.88450704225352117,1,1,1,1,1,1,1,0.44300000000000006,0.44300000000000006,0.44300000000000006,0.44300000000000006,0.44300000000000006,0.44300000000000006,0.44300000000000006,20.535211267605636,{"$f":"Z18*E18+($A$4-80)*AG18*$A$16/1000","v":19.622535211267607},{"$f":"AA18*G18+($A$4-80)*AH18*$A$16/1000","v":18.659154929577465},18.20281690140845,17.746478873239436,16.833802816901407,15.92112676056338]
[null,57,20.484507042253522,20.484507042253522,19.571830985915494,19.571830985915494,18.659154929577465,18.659154929577465,18.20281690140845,18.20281690140845,17.746478873239436,17.746478873239436,16.783098591549294,16.783098591549294,15.870422535211269,15.870422535211269,null,1.1380281690140845,1.0873239436619719,1.0366197183098591,1.0112676056338028,0.9859154929577465,0.93239436619718308,0.88169014084507047,1,1,1,1,1,1,1,0.44300000000000006,0.44300000000000006,0.44300000000000006,0.44300000000000006,0.44300000000000006,0.44300000000000006,0.44300000000000006,20.484507042253522,{"$f":"Z19*E19+($A$4-80)*AG19*$A$16/1000","v":19.571830985915494},{"$f":"AA19*G19+($A$4-80)*AH19*$A$16/1000","v":18.659154929577465},18.20281690140845,17.746478873239436,16.783098591549294,15.870422535211269]

{"sheet":"4AC13L_42","index":7,"n_rows":19,"n_cols":45,"rows_kept":19,"cut":false,"hidden":true,"merged":[[2,0,2,1],[2,2,2,15],[3,2,3,3],[3,4,3,5],[3,6,3,7],[3,8,3,9],[3,10,3,11],[3,12,3,13],[3,14,3,15],[5,2,6,2],[5,3,6,3],[5,4,6,4],[5,5,6,5],[5,6,6,6],[5,7,6,7],[5,8,6,8],[4,0,6,0],[4,1,6,1],[4,2,4,3],[4,4,4,5],[4,6,4,7],[4,8,4,9],[5,9,6,9],[5,10,6,10],[5,11,6,11],[5,12,6,12],[5,13,6,13],[5,14,6,14],[5,15,6,15],[4,10,4,11],[4,12,4,13],[4,14,4,15],[7,0,10,0],[11,0,14,0],[15,0,18,0],[22,4,22,15],[23,4,23,5],[23,6,23,7],[23,8,23,9],[23,10,23,11],[23,12,23,13],[23,14,23,15],[25,12,26,12],[25,13,26,13],[25,14,26,14],[25,15,26,15],[27,0,30,0],[31,0,34,0],[24,12,24,13],[24,14,24,15],[25,4,26,4],[25,5,26,5],[25,6,26,6],[25,7,26,7],[25,8,26,8],[25,9,26,9],[25,10,26,10],[25,11,26,11],[24,0,26,0],[24,1,26,1],[24,4,24,5],[24,6,24,7],[24,8,24,9],[24,10,24,11],[35,0,38,0],[41,0,42,1],[41,4,41,15],[42,4,42,5],[42,6,42,7],[42,8,42,9],[42,10,42,11],[42,12,42,13],[42,14,42,15],[44,12,45,12],[44,13,45,13],[44,14,45,14],[44,15,45,15],[46,0,49,0],[50,0,53,0],[43,12,43,13],[43,14,43,15],[44,4,45,4],[44,5,45,5],[44,6,45,6],[44,7,45,7],[44,8,45,8],[44,9,45,9],[44,10,45,10],[44,11,45,11],[43,0,45,0],[43,1,45,1],[43,4,43,5],[43,6,43,7],[43,8,43,9],[43,10,43,11],[54,0,57,0],[60,0,61,1],[60,4,60,15],[61,4,61,5],[61,6,61,7],[61,8,61,9],[61,10,61,11],[61,12,61,13],[61,14,61,15],[63,12,64,12],[63,13,64,13],[63,14,64,14],[63,15,64,15],[65,0,68,0],[69,0,72,0],[62,12,62,13],[62,14,62,15],[63,4,64,4],[63,5,64,5],[63,6,64,6],[63,7,64,7],[63,8,64,8],[63,9,64,9],[63,10,64,10],[63,11,64,11],[62,0,64,0],[62,1,64,1],[62,4,62,5],[62,6,62,7],[62,8,62,9],[62,10,62,11],[73,0,76,0],[79,0,80,1],[79,4,79,15],[80,4,80,5],[80,6,80,7],[80,8,80,9],[80,10,80,11],[80,12,80,13],[80,14,80,15],[82,12,83,12],[82,13,83,13],[82,14,83,14],[82,15,83,15],[84,0,87,0],[88,0,91,0],[81,12,81,13],[81,14,81,15],[82,4,83,4],[82,5,83,5],[82,6,83,6],[82,7,83,7],[82,8,83,8],[82,9,83,9],[82,10,83,10],[82,11,83,11],[81,0,83,0],[81,1,83,1],[81,4,81,5],[81,6,81,7],[81,8,81,9],[81,10,81,11],[92,0,95,0],[98,0,99,1],[98,4,98,15],[99,4,99,5],[99,6,99,7],[99,8,99,9],[99,10,99,11],[99,12,99,13],[99,14,99,15],[101,12,102,12],[101,13,102,13],[101,14,102,14],[101,15,102,15],[103,0,106,0],[107,0,110,0],[100,12,100,13],[100,14,100,15],[101,4,102,4],[101,5,102,5],[101,6,102,6],[101,7,102,7],[101,8,102,8],[101,9,102,9],[101,10,102,10],[101,11,102,11],[100,0,102,0],[100,1,102,1],[100,4,100,5],[100,6,100,7],[100,8,100,9],[100,10,100,11],[111,0,114,0],[117,0,118,1],[117,4,117,15],[118,4,118,5],[118,6,118,7],[118,8,118,9],[118,10,118,11],[118,12,118,13],[118,14,118,15],[130,0,133,0],[120,12,121,12],[120,13,121,13],[120,14,121,14],[120,15,121,15],[122,0,125,0],[126,0,129,0],[119,12,119,13],[119,14,119,15],[120,4,121,4],[120,5,121,5],[120,6,121,6],[120,7,121,7],[120,8,121,8],[120,9,121,9],[120,10,121,10],[120,11,121,11],[119,0,121,0],[119,1,121,1],[119,4,119,5],[119,6,119,7],[119,8,119,9],[119,10,119,11]]}
[]
["4AC13L_42"]
["Evaporator Air \n",null,"Condenser  Entering Air Temperature ˚F"]
[80,"°F DB",65,null,75,null,85,null,90,null,95,null,105,null,115]
["CFM","EWB†\n˚F","Capacity Mbtuh",null,"Capacity Mbtuh",null,"Capacity Mbtuh",null,"Capacity Mbtuh",null,"Capacity Mbtuh",null,"Capacity Mbtuh",null,"Capacity Mbtuh"]
[null,null,"Total","Sens.","Total","Sens.","Total","Sens.","Total","Sens.","Total","Sens.","Total","Sens.","Total","Sens."]
[null,null,null,null,null,null,null,null,null,null,null,null,null,null,null,null,null,"Total Factors",null,null,null,null,null,null,"Sens. %",null,null,null,null,null,null,"IDB Adj",null,null,null,null,null,null,"Sens Calc"]
[1200,72,{"$f":"R8*$K$13","v":22.532374100719423},{"$f":"IF(AM8>C8,C8,AM8)","v":11.37603942215112},{"$f":"S8*$K$13","v":21.366906474820144},{"$f":"IF(AN8>E8,E8,AN8)","v":10.967088556850307},{"$f":"T8*$K$13","v":20.244604316546759},{"$f":"IF(AO8>G8,G8,AO8)","v":10.580067610854879},{"$f":"U8*$K$13","v":19.683453237410074},{"$f":"IF(AP8>I8,I8,AP8)","v":10.389567309255913},{"$f":"V8*$K$13","v":19.122302158273381},{"$f":"IF(AQ8>K8,K8,AQ8)","v":10.19320766632427},{"$f":"W8*$K$13","v":18},{"$f":"IF(AR8>M8,M8,AR8)","v":9.8065390845281648},{"$f":"X8*$K$13","v":16.877697841726619},{"$f":"IF(AS8>O8,O8,AS8)","v":9.4201003727271946},null,1.2517985611510791,1.1870503597122302,1.1247002398081534,1.0935251798561152,1.0623501199040768,1,0.93764988009592332,0.50487531279661746,0.51327451495023324,0.52261172633575992,0.52783254970269433,0.53305337306962886,0.54480772691823143,0.55813893939005965,{"$f":"IF(Y8<0.9,0.9,Y8*-3.6846+4.1276)","v":0.9},{"$f":"IF(Z8<0.9,0.9,Z8*-3.6846+4.1276)","v":0.9},0.9,0.9,0.9,0.9,0.9,{"$f":"Y8*C8+($A$4-80)*AF8*$A$8/1000","v":11.37603942215112},{"$f":"Z8*E8+($A$4-80)*AG8*$A$8/1000","v":10.967088556850307},{"$f":"AA8*G8+($A$4-80)*AH8*$A$8/1000","v":10.580067610854879},{"$f":"AB8*I8+($A$4-80)*AI8*$A$8/1000","v":10.389567309255913},{"$f":"AC8*K8+($A$4-80)*AJ8*$A$8/1000","v":10.19320766632427},{"$f":"AD8*M8+($A$4-80)*AK8*$A$8/1000","v":9.8065390845281648},{"$f":"AE8*O8+($A$4-80)*AL8*$A$8/1000","v":9.4201003727271946}]
[null,67,20.848920863309353,14.478921176296998,19.769784172661872,{"$f":"IF(AN9>E9,E9,AN9)","v":14.046270738831621},18.733812949640289,{"$f":"IF(AO9>G9,G9,AO9)","v":13.644220044185021},18.194244604316545,{"$f":"IF(AP9>I9,I9,AP9)","v":13.43279610151051},{"$f":"V9*$K$13","v":17.654676258992804},{"$f":"IF(AQ9>K9,K9,AQ9)","v":13.210603787232561},16.618705035971225,{"$f":"IF(AR9>M9,M9,AR9)","v":12.809190482082045},15.582733812949639,{"$f":"IF(AS9>O9,O9,AS9)","v":12.408697352797374},null,1.1582733812949639,1.0983213429256595,1.0407673860911271,1.0107913669064748,0.98081534772182255,0.9232613908872902,0.86570743405275774,0.69446861404599125,0.71049186051586433,0.72832050159052142,0.73829919260971177,0.74827788362890224,0.77076947056684153,0.79631067961165047,{"$f":"IF(Y9<0.9,0.9,Y9*-3.6846+4.1276)","v":0.9},0.9,0.9,0.9,0.9,0.9,0.9,{"$f":"Y9*C9+($A$4-80)*AF9*$A$8/1000","v":14.478921176296998},{"$f":"Z9*E9+($A$4-80)*AG9*$A$8/1000","v":14.046270738831621},{"$f":"AA9*G9+($A$4-80)*AH9*$A$8/1000","v":13.644220044185021},{"$f":"AB9*I9+($A$4-80)*AI9*$A$8/1000","v":13.43279610151051},{"$f":"AC9*K9+($A$4-80)*AJ9*$A$8/1000","v":13.210603787232561},{"$f":"AD9*M9+($A$4-80)*AK9*$A$8/1000","v":12.809190482082045},{"$f":"AE9*O9+($A$4-80)*AL9*$A$8/1000","v":12.408697352797374}]
[null,62,19.208633093525179,17.21650363445638,18.258992805755394,16.780412965940187,17.309352517985612,16.344972762817147,16.812949640287769,16.113655695049907,{"$f":"V10*$K$13","v":16.31654676258993},15.868318427590962,15.366906474820144,15.366906474820144,14.417266187050361,14.417266187050361,null,1.0671462829736211,1.014388489208633,0.9616306954436451,0.93405275779376495,0.90647482014388492,0.8537170263788969,0.80095923261390889,0.89628988958405875,0.91902182910389518,0.94428562511703384,0.95840742045868077,0.97252921580032781,1,1,0.9,0.74137216848378795,0.64828518569377724,0.59625201857794474,0.54421885146211224,0.44300000000000006,0.44300000000000006,17.21650363445638,{"$f":"Z10*E10+($A$4-80)*AG10*$A$8/1000","v":16.780412965940187},{"$f":"AA10*G10+($A$4-80)*AH10*$A$8/1000","v":16.344972762817147},16.113655695049907,15.868318427590962,15.366906474820144,14.417266187050361]
[null,57,18.820143884892087,18.820143884892087,18,18,17.223021582733814,17.223021582733814,16.812949640287769,16.812949640287769,{"$f":"V11*$K$13","v":16.402877697841728},16.402877697841728,15.62589928057554,15.62589928057554,14.848920863309353,14.848920863309353,null,1.0455635491606714,1,0.95683453237410077,0.93405275779376495,0.91127098321342925,0.86810551558753002,0.82494004796163067,1,1,1,1,1,1,1,0.44300000000000006,0.44300000000000006,0.44300000000000006,0.44300000000000006,0.44300000000000006,0.44300000000000006,0.44300000000000006,18.820143884892087,{"$f":"Z11*E11+($A$4-80)*AG11*$A$8/1000","v":18},{"$f":"AA11*G11+($A$4-80)*AH11*$A$8/1000","v":17.223021582733814},{"$f":"AB11*I11+($A$4-80)*AI11*$A$8/1000","v":16.812949640287769},16.402877697841728,15.62589928057554,14.848920863309353]
[1400,72,22.964028776978417,12.116210475746341,21.798561151079138,11.721236032678169,20.589928057553955,11.302928988382284,20.007194244604317,11.109241831950047,{"$f":"V12*$K$13","v":19.424460431654676},10.908202807932174,18.215827338129493,10.489063535650033,17.050359712230215,10.094613958768438,null,1.275779376498801,1.2110311750599521,1.1438848920863309,1.1115107913669064,1.079136690647482,1.0119904076738608,0.94724220623501199,0.52761693487742523,0.53770686750569818,0.54895427302066302,0.55526235693673376,0.5615704408528045,0.57582141842628543,0.59204697901637682,0.9,0.9,0.9,0.9,0.9,0.9,0.9,{"$f":"Y12*C12+($A$4-80)*AF12*$A$12/1000","v":12.116210475746341},{"$f":"Z12*E12+($A$4-80)*AG12*$A$12/1000","v":11.721236032678169},{"$f":"AA12*G12+($A$4-80)*AH12*$A$12/1000","v":11.302928988382284},{"$f":"AB12*I12+($A$4-80)*AI12*$A$12/1000","v":11.109241831950047},{"$f":"AC12*K12+($A$4-80)*AJ12*$A$12/1000","v":10.908202807932174},{"$f":"AD12*M12+($A$4-80)*AK12*$A$12/1000","v":10.489063535650033},{"$f":"AE12*O12+($A$4-80)*AL12*$A$12/1000","v":10.094613958768438}]
[null,67,21.280575539568346,15.738754498135103,20.201438848920862,15.32850640393452,19.079136690647484,14.885523891188985,18.53956834532374,14.687396445562248,18,14.476297914216451,16.877697841726619,14.03238320596112,15.798561151079136,13.624471018660877,null,1.1822541966426858,1.1223021582733812,1.0599520383693046,1.0299760191846523,1,0.93764988009592332,0.87769784172661869,0.73958312212331956,0.75878290247396674,0.78019902747936221,0.79221890024569364,0.80423877301202507,0.83141571424918825,0.86238682677316114,0.9,0.9,0.9,0.9,0.9,0.9,0.9,{"$f":"Y13*C13+($A$4-80)*AF13*$A$12/1000","v":15.738754498135103},{"$f":"Z13*E13+($A$4-80)*AG13*$A$12/1000","v":15.32850640393452},{"$f":"AA13*G13+($A$4-80)*AH13*$A$12/1000","v":14.885523891188985},{"$f":"AB13*I13+($A$4-80)*AI13*$A$12/1000","v":14.687396445562248},{"$f":"AC13*K13+($A$4-80)*AJ13*$A$12/1000","v":14.476297914216451},{"$f":"AD13*M13+($A$4-80)*AK13*$A$12/1000","v":14.03238320596112},{"$f":"AE13*O13+($A$4-80)*AL13*$A$12/1000","v":13.624471018660877}]
[null,62,19.467625899280574,18.843418636120539,18.690647482014388,18.274349703019865,17.913669064748202,17.705433381471938,17.503597122302157,17.401862701135258,{"$f":"V14*$K$13","v":17.093525179856115},17.093525179856115,16.31654676258993,16.31654676258993,15.53956834532374,15.53956834532374,null,1.0815347721822541,1.0383693045563549,0.99520383693045567,0.97242206235011985,0.94964028776978415,0.90647482014388492,0.86330935251798557,0.96793613836687176,0.97772694715926156,0.98837559840345357,0.99418779920172673,1,1,1,0.56114250457342418,0.52506729049698508,0.48583127012263505,0.46441563506131756,0.44300000000000006,0.44300000000000006,0.44300000000000006,18.843418636120539,{"$f":"Z14*E14+($A$4-80)*AG14*$A$12/1000","v":18.274349703019865},{"$f":"AA14*G14+($A$4-80)*AH14*$A$12/1000","v":17.705433381471938},17.401862701135258,17.093525179856115,16.31654676258993,15.53956834532374]
[null,57,19.640287769784173,19.640287769784173,18.820143884892087,18.820143884892087,17.956834532374103,17.956834532374103,17.525179856115109,17.525179856115109,17.093525179856115,17.093525179856115,16.230215827338128,16.230215827338128,15.366906474820144,15.366906474820144,null,1.091127098321343,1.0455635491606714,0.99760191846522783,0.97362110311750605,0.94964028776978415,0.90167865707434047,0.8537170263788969,1,1,1,1,1,1,1,0.44300000000000006,0.44300000000000006,0.44300000000000006,0.44300000000000006,0.44300000000000006,0.44300000000000006,0.44300000000000006,19.640287769784173,{"$f":"Z15*E15+($A$4-80)*AG15*$A$12/1000","v":18.820143884892087},{"$f":"AA15*G15+($A$4-80)*AH15*$A$12/1000","v":17.956834532374103},17.525179856115109,17.093525179856115,16.230215827338128,15.366906474820144]
[1600,72,23.266187050359711,12.795528703995453,22.057553956834532,12.406645326910278,20.848920863309353,12.018011963099427,20.223021582733811,11.815977127397039,19.597122302158272,11.604115448672008,18.388489208633096,11.215366697806529,17.179856115107913,10.82694020693781,null,1.2925659472422062,1.2254196642685851,1.1582733812949639,1.1235011990407673,1.0887290167865706,1.0215827338129497,0.95443645083932849,0.5499624272898479,0.56246696035242294,0.57643328601477584,0.58428346521102403,0.59213364440727212,0.60991235171952551,0.63021134370366649,0.9,0.9,0.9,0.9,0.9,0.9,0.9,{"$f":"Y16*C16+($A$4-80)*AF16*$A$16/1000","v":12.795528703995453},{"$f":"Z16*E16+($A$4-80)*AG16*$A$16/1000","v":12.406645326910278},{"$f":"AA16*G16+($A$4-80)*AH16*$A$16/1000","v":12.018011963099427},{"$f":"AB16*I16+($A$4-80)*AI16*$A$16/1000","v":11.815977127397039},{"$f":"AC16*K16+($A$4-80)*AJ16*$A$16/1000","v":11.604115448672008},{"$f":"AD16*M16+($A$4-80)*AK16*$A$16/1000","v":11.215366697806529},{"$f":"AE16*O16+($A$4-80)*AL16*$A$16/1000","v":10.82694020693781}]
[null,67,21.582733812949641,17.156137117900162,20.46043165467626,16.501532252468074,19.294964028776977,15.811917710601765,18.733812949640289,15.488793698201958,18.172661870503596,15.157478462624216,17.050359712230215,14.503473567465496,15.884892086330934,13.812462278786008,null,1.1990407673860912,1.1366906474820144,1.0719424460431655,1.0407673860911271,1.0095923261390887,0.94724220623501199,0.88249400479616302,0.79490101979604078,0.80650948772611186,0.81948417664938311,0.82678276653228577,0.83408135641518844,0.85062566492730129,0.86953453657212643,0.9,0.9,0.9,0.9,0.9,0.9,0.9,{"$f":"Y17*C17+($A$4-80)*AF17*$A$16/1000","v":17.156137117900162},{"$f":"Z17*E17+($A$4-80)*AG17*$A$16/1000","v":16.501532252468074},{"$f":"AA17*G17+($A$4-80)*AH17*$A$16/1000","v":15.811917710601765},{"$f":"AB17*I17+($A$4-80)*AI17*$A$16/1000","v":15.488793698201958},{"$f":"AC17*K17+($A$4-80)*AJ17*$A$16/1000","v":15.157478462624216},{"$f":"AD17*M17+($A$4-80)*AK17*$A$16/1000","v":14.503473567465496},{"$f":"AE17*O17+($A$4-80)*AL17*$A$16/1000","v":13.812462278786008}]
[null,62,20.374100719424462,20.374100719424462,19.467625899280574,19.467625899280574,18.561151079136692,18.561151079136692,18.086330935251798,18.086330935251798,17.611510791366907,17.611510791366907,16.705035971223023,16.705035971223023,15.798561151079136,15.798561151079136,null,1.1318944844124701,1.0815347721822541,1.0311750599520384,1.0047961630695443,0.97841726618705038,0.92805755395683454,0.87769784172661869,1,1,1,1,1,1,1,0.44300000000000006,0.44300000000000006,0.44300000000000006,0.44300000000000006,0.44300000000000006,0.44300000000000006,0.44300000000000006,20.374100719424462,{"$f":"Z18*E18+($A$4-80)*AG18*$A$16/1000","v":19.467625899280574},{"$f":"AA18*G18+($A$4-80)*AH18*$A$16/1000","v":18.561151079136692},18.086330935251798,17.611510791366907,16.705035971223023,15.798561151079136]
[null,57,20.330935251798564,20.330935251798564,19.424460431654676,19.424460431654676,18.517985611510792,18.517985611510792,18.064748201438849,18.064748201438849,17.611510791366907,17.611510791366907,16.705035971223023,16.705035971223023,15.798561151079136,15.798561151079136,null,1.1294964028776979,1.079136690647482,1.0287769784172662,1.0035971223021583,0.97841726618705038,0.92805755395683454,0.87769784172661869,1,1,1,1,1,1,1,0.44300000000000006,0.44300000000000006,0.44300000000000006,0.44300000000000006,0.44300000000000006,0.44300000000000006,0.44300000000000006,20.330935251798564,{"$f":"Z19*E19+($A$4-80)*AG19*$A$16/1000","v":19.424460431654676},{"$f":"AA19*G19+($A$4-80)*AH19*$A$16/1000","v":18.517985611510792},18.064748201438849,17.611510791366907,16.705035971223023,15.798561151079136]

{"sheet":"4AC13L_48","index":8,"n_rows":19,"n_cols":45,"rows_kept":19,"cut":false,"hidden":true,"merged":[[2,0,2,1],[2,2,2,15],[3,2,3,3],[3,4,3,5],[3,6,3,7],[3,8,3,9],[3,10,3,11],[3,12,3,13],[3,14,3,15],[5,2,6,2],[5,3,6,3],[5,4,6,4],[5,5,6,5],[5,6,6,6],[5,7,6,7],[5,8,6,8],[4,0,6,0],[4,1,6,1],[4,2,4,3],[4,4,4,5],[4,6,4,7],[4,8,4,9],[5,9,6,9],[5,10,6,10],[5,11,6,11],[5,12,6,12],[5,13,6,13],[5,14,6,14],[5,15,6,15],[4,10,4,11],[4,12,4,13],[4,14,4,15],[7,0,10,0],[11,0,14,0],[15,0,18,0],[22,4,22,15],[23,4,23,5],[23,6,23,7],[23,8,23,9],[23,10,23,11],[23,12,23,13],[23,14,23,15],[25,12,26,12],[25,13,26,13],[25,14,26,14],[25,15,26,15],[27,0,30,0],[31,0,34,0],[24,12,24,13],[24,14,24,15],[25,4,26,4],[25,5,26,5],[25,6,26,6],[25,7,26,7],[25,8,26,8],[25,9,26,9],[25,10,26,10],[25,11,26,11],[24,0,26,0],[24,1,26,1],[24,4,24,5],[24,6,24,7],[24,8,24,9],[24,10,24,11],[35,0,38,0],[41,0,42,1],[41,4,41,15],[42,4,42,5],[42,6,42,7],[42,8,42,9],[42,10,42,11],[42,12,42,13],[42,14,42,15],[44,12,45,12],[44,13,45,13],[44,14,45,14],[44,15,45,15],[46,0,49,0],[50,0,53,0],[43,12,43,13],[43,14,43,15],[44,4,45,4],[44,5,45,5],[44,6,45,6],[44,7,45,7],[44,8,45,8],[44,9,45,9],[44,10,45,10],[44,11,45,11],[43,0,45,0],[43,1,45,1],[43,4,43,5],[43,6,43,7],[43,8,43,9],[43,10,43,11],[54,0,57,0],[60,0,61,1],[60,4,60,15],[61,4,61,5],[61,6,61,7],[61,8,61,9],[61,10,61,11],[61,12,61,13],[61,14,61,15],[63,12,64,12],[63,13,64,13],[63,14,64,14],[63,15,64,15],[65,0,68,0],[69,0,72,0],[62,12,62,13],[62,14,62,15],[63,4,64,4],[63,5,64,5],[63,6,64,6],[63,7,64,7],[63,8,64,8],[63,9,64,9],[63,10,64,10],[63,11,64,11],[62,0,64,0],[62,1,64,1],[62,4,62,5],[62,6,62,7],[62,8,62,9],[62,10,62,11],[73,0,76,0],[79,0,80,1],[79,4,79,15],[80,4,80,5],[80,6,80,7],[80,8,80,9],[80,10,80,11],[80,12,80,13],[80,14,80,15],[82,12,83,12],[82,13,83,13],[82,14,83,14],[82,15,83,15],[84,0,87,0],[88,0,91,0],[81,12,81,13],[81,14,81,15],[82,4,83,4],[82,5,83,5],[82,6,83,6],[82,7,83,7],[82,8,83,8],[82,9,83,9],[82,10,83,10],[82,11,83,11],[81,0,83,0],[81,1,83,1],[81,4,81,5],[81,6,81,7],[81,8,81,9],[81,10,81,11],[92,0,95,0],[98,0,99,1],[98,4,98,15],[99,4,99,5],[99,6,99,7],[99,8,99,9],[99,10,99,11],[99,12,99,13],[99,14,99,15],[101,12,102,12],[101,13,102,13],[101,14,102,14],[101,15,102,15],[103,0,106,0],[107,0,110,0],[100,12,100,13],[100,14,100,15],[101,4,102,4],[101,5,102,5],[101,6,102,6],[101,7,102,7],[101,8,102,8],[101,9,102,9],[101,10,102,10],[101,11,102,11],[100,0,102,0],[100,1,102,1],[100,4,100,5],[100,6,100,7],[100,8,100,9],[100,10,100,11],[111,0,114,0],[117,0,118,1],[117,4,117,15],[118,4,118,5],[118,6,118,7],[118,8,118,9],[118,10,118,11],[118,12,118,13],[118,14,118,15],[130,0,133,0],[120,12,121,12],[120,13,121,13],[120,14,121,14],[120,15,121,15],[122,0,125,0],[126,0,129,0],[119,12,119,13],[119,14,119,15],[120,4,121,4],[120,5,121,5],[120,6,121,6],[120,7,121,7],[120,8,121,8],[120,9,121,9],[120,10,121,10],[120,11,121,11],[119,0,121,0],[119,1,121,1],[119,4,119,5],[119,6,119,7],[119,8,119,9],[119,10,119,11]]}
[]
["4AC13L_48"]
["Evaporator Air \n",null,"Condenser  Entering Air Temperature ˚F"]
[80,"°F DB",65,null,75,null,85,null,90,null,95,null,105,null,115]
["CFM","EWB†\n˚F","Capacity Mbtuh",null,"Capacity Mbtuh",null,"Capacity Mbtuh",null,"Capacity Mbtuh",null,"Capacity Mbtuh",null,"Capacity Mbtuh",null,"Capacity Mbtuh"]
[null,null,"Total","Sens.","Total","Sens.","Total","Sens.","Total","Sens.","Total","Sens.","Total","Sens.","Total","Sens."]
[null,null,null,null,null,null,null,null,null,null,null,null,null,null,null,null,null,"Total Factors",null,null,null,null,null,null,"Sens. %",null,null,null,null,null,null,"IDB Adj",null,null,null,null,null,null,"Sens Calc"]
[1400,72,{"$f":"R8*$K$13","v":22.347305389221557},{"$f":"IF(AM8>C8,C8,AM8)","v":11.251560402369812},{"$f":"S8*$K$13","v":21.305389221556887},{"$f":"IF(AN8>E8,E8,AN8)","v":10.882022330698943},{"$f":"T8*$K$13","v":20.263473053892216},{"$f":"IF(AO8>G8,G8,AO8)","v":10.512622123334413},{"$f":"U8*$K$13","v":19.742514970059879},{"$f":"IF(AP8>I8,I8,AP8)","v":10.330323663494191},{"$f":"V8*$K$13","v":19.221556886227546},{"$f":"IF(AQ8>K8,K8,AQ8)","v":10.143382414291249},{"$f":"W8*$K$13","v":18.143712574850298},{"$f":"IF(AR8>M8,M8,AR8)","v":9.7550142192021259},{"$f":"X8*$K$13","v":17.101796407185628},{"$f":"IF(AS8>O8,O8,AS8)","v":9.3857848096728933},null,1.2415169660678642,1.1836327345309381,1.125748502994012,1.0968063872255489,1.0678642714570858,1.0079840319361277,0.95009980039920161,0.50348622379307573,0.51076383620762322,0.51879665915982476,0.5232526696401365,0.52770868012044814,0.53765259888011718,0.54881864958521476,{"$f":"IF(Y8<0.9,0.9,Y8*-3.6846+4.1276)","v":0.9},{"$f":"IF(Z8<0.9,0.9,Z8*-3.6846+4.1276)","v":0.9},0.9,0.9,0.9,0.9,0.9,{"$f":"Y8*C8+($A$4-80)*AF8*$A$8/1000","v":11.251560402369812},{"$f":"Z8*E8+($A$4-80)*AG8*$A$8/1000","v":10.882022330698943},{"$f":"AA8*G8+($A$4-80)*AH8*$A$8/1000","v":10.512622123334413},{"$f":"AB8*I8+($A$4-80)*AI8*$A$8/1000","v":10.330323663494191},{"$f":"AC8*K8+($A$4-80)*AJ8*$A$8/1000","v":10.143382414291249},{"$f":"AD8*M8+($A$4-80)*AK8*$A$8/1000","v":9.7550142192021259},{"$f":"AE8*O8+($A$4-80)*AL8*$A$8/1000","v":9.3857848096728933}]
[null,67,20.802395209580837,14.380092396587708,19.760479041916167,{"$f":"IF(AN9>E9,E9,AN9)","v":13.930136021427112},18.754491017964071,{"$f":"IF(AO9>G9,G9,AO9)","v":13.505389221556886},18.251497005988021,{"$f":"IF(AP9>I9,I9,AP9)","v":13.297487463469759},{"$f":"V9*$K$13","v":17.748502994011975},{"$f":"IF(AQ9>K9,K9,AQ9)","v":13.081080333559211},16.706586826347305,{"$f":"IF(AR9>M9,M9,AR9)","v":12.630127930880565},15.700598802395209,{"$f":"IF(AS9>O9,O9,AS9)","v":12.206185897673134},null,1.1556886227544909,1.0978043912175648,1.0419161676646707,1.0139720558882235,0.98602794411177641,0.92814371257485029,0.87225548902195604,0.69127099315778562,0.70494930775100839,0.72011494252873565,0.72856968713892722,0.7370244317491188,0.75599690482331705,0.77743441834912785,{"$f":"IF(Y9<0.9,0.9,Y9*-3.6846+4.1276)","v":0.9},0.9,0.9,0.9,0.9,0.9,0.9,{"$f":"Y9*C9+($A$4-80)*AF9*$A$8/1000","v":14.380092396587708},{"$f":"Z9*E9+($A$4-80)*AG9*$A$8/1000","v":13.930136021427112},{"$f":"AA9*G9+($A$4-80)*AH9*$A$8/1000","v":13.505389221556886},{"$f":"AB9*I9+($A$4-80)*AI9*$A$8/1000","v":13.297487463469759},{"$f":"AC9*K9+($A$4-80)*AJ9*$A$8/1000","v":13.081080333559211},{"$f":"AD9*M9+($A$4-80)*AK9*$A$8/1000","v":12.630127930880565},{"$f":"AE9*O9+($A$4-80)*AL9*$A$8/1000","v":12.206185897673134}]
[null,62,19.185628742514968,16.874877425979189,18.287425149700599,16.442970614616861,17.353293413173652,15.978853372623774,16.886227544910181,15.752061542266537,{"$f":"V10*$K$13","v":16.419161676646706},15.514024389525611,15.520958083832335,15.08327224047922,14.586826347305388,14.586826347305388,null,1.0658682634730539,1.0159680638722555,0.9640718562874252,0.93812375249501001,0.91217564870259482,0.86227544910179643,0.81037924151696605,0.87955821789591915,0.89914082928651473,0.9207965884155177,0.93283485019805368,0.94487311198058976,0.97180033339507321,1,0.9,0.9,0.73483289032418364,0.69047671096025143,0.64612053159631921,0.54690449157251342,0.44300000000000006,16.874877425979189,{"$f":"Z10*E10+($A$4-80)*AG10*$A$8/1000","v":16.442970614616861},{"$f":"AA10*G10+($A$4-80)*AH10*$A$8/1000","v":15.978853372623774},15.752061542266537,15.514024389525611,15.08327224047922,14.586826347305388]
[null,57,18.682634730538922,18.682634730538922,17.928143712574851,17.928143712574851,17.17365269461078,17.17365269461078,16.796407185628741,16.796407185628741,{"$f":"V11*$K$13","v":16.419161676646706},16.419161676646706,15.700598802395209,15.700598802395209,14.946107784431137,14.946107784431137,null,1.0379241516966067,0.99600798403193613,0.95409181636726548,0.93313373253493015,0.91217564870259482,0.87225548902195604,0.83033932135728539,1,1,1,1,1,1,1,0.44300000000000006,0.44300000000000006,0.44300000000000006,0.44300000000000006,0.44300000000000006,0.44300000000000006,0.44300000000000006,18.682634730538922,{"$f":"Z11*E11+($A$4-80)*AG11*$A$8/1000","v":17.928143712574851},{"$f":"AA11*G11+($A$4-80)*AH11*$A$8/1000","v":17.17365269461078},{"$f":"AB11*I11+($A$4-80)*AI11*$A$8/1000","v":16.796407185628741},16.419161676646706,15.700598802395209,14.946107784431137]
[1600,72,22.742514970059883,11.847740961033079,21.62874251497006,11.459825820111144,20.550898203592816,11.090838323353292,20.011976047904191,10.90941437067425,{"$f":"V12*$K$13","v":19.473053892215567},10.722097076362534,18.359281437125752,10.333423933218558,17.281437125748504,9.964822771247178,null,1.2634730538922156,1.2015968063872255,1.1417165668662674,1.1117764471057885,1.0818363273453093,1.0199600798403194,0.96007984031936133,0.52095122182530906,0.52984244517125167,0.53967657342657338,0.54514428483022137,0.55061199623386936,0.56284468259866238,0.57662002868963225,0.9,0.9,0.9,0.9,0.9,0.9,0.9,{"$f":"Y12*C12+($A$4-80)*AF12*$A$12/1000","v":11.847740961033079},{"$f":"Z12*E12+($A$4-80)*AG12*$A$12/1000","v":11.459825820111144},{"$f":"AA12*G12+($A$4-80)*AH12*$A$12/1000","v":11.090838323353292},{"$f":"AB12*I12+($A$4-80)*AI12*$A$12/1000","v":10.90941437067425},{"$f":"AC12*K12+($A$4-80)*AJ12*$A$12/1000","v":10.722097076362534},{"$f":"AD12*M12+($A$4-80)*AK12*$A$12/1000","v":10.333423933218558},{"$f":"AE12*O12+($A$4-80)*AL12*$A$12/1000","v":9.964822771247178}]
[null,67,21.161676646706585,14.971270905849391,20.119760479041915,14.539228218569562,19.04191616766467,14.081104602075674,18.520958083832333,13.870178253668502,18,13.64944583125312,16.922155688622755,13.190377873721106,15.880239520958083,12.759167895682783,null,1.1756487025948104,1.1177644710578842,1.0578842315369261,1.0289421157684631,1,0.94011976047904189,0.88223552894211577,0.707470922828763,0.72263425967295147,0.73947939262472884,0.74889096940272881,0.7583025461807289,0.77947385170255645,0.80346193008258848,0.9,0.9,0.9,0.9,0.9,0.9,0.9,{"$f":"Y13*C13+($A$4-80)*AF13*$A$12/1000","v":14.971270905849391},{"$f":"Z13*E13+($A$4-80)*AG13*$A$12/1000","v":14.539228218569562},{"$f":"AA13*G13+($A$4-80)*AH13*$A$12/1000","v":14.081104602075674},{"$f":"AB13*I13+($A$4-80)*AI13*$A$12/1000","v":13.870178253668502},{"$f":"AC13*K13+($A$4-80)*AJ13*$A$12/1000","v":13.64944583125312},{"$f":"AD13*M13+($A$4-80)*AK13*$A$12/1000","v":13.190377873721106},{"$f":"AE13*O13+($A$4-80)*AL13*$A$12/1000","v":12.759167895682783}]
[null,62,19.473053892215567,17.999943957096558,18.646706586826348,17.665187524069427,17.820359281437124,17.329902206366494,17.425149700598801,17.185359699178182,{"$f":"V14*$K$13","v":17.029940119760479},17.029940119760479,16.203592814371259,16.203592814371259,15.377245508982037,15.377245508982037,null,1.0818363273453093,1.0359281437125749,0.99001996007984028,0.96806387225548907,0.94610778443113774,0.90019960079840322,0.8542914171656687,0.92435136557045683,0.94736233671149472,0.97247771117715209,0.98623885558857605,1,1,1,0.72173495841909485,0.63694873415282682,0.54440862539666535,0.4937043126983327,0.44300000000000006,0.44300000000000006,0.44300000000000006,17.999943957096558,{"$f":"Z14*E14+($A$4-80)*AG14*$A$12/1000","v":17.665187524069427},{"$f":"AA14*G14+($A$4-80)*AH14*$A$12/1000","v":17.329902206366494},17.185359699178182,17.029940119760479,16.203592814371259,15.377245508982037]
[null,57,19.401197604790418,19.401197604790418,18.574850299401199,18.574850299401199,17.78443113772455,17.78443113772455,17.389221556886227,17.389221556886227,16.994011976047904,16.994011976047904,16.203592814371259,16.203592814371259,15.41317365269461,15.41317365269461,null,1.0778443113772456,1.0319361277445109,0.9880239520958084,0.96606786427145708,0.94411177644710575,0.90019960079840322,0.85628742514970058,1,1,1,1,1,1,1,0.44300000000000006,0.44300000000000006,0.44300000000000006,0.44300000000000006,0.44300000000000006,0.44300000000000006,0.44300000000000006,19.401197604790418,{"$f":"Z15*E15+($A$4-80)*AG15*$A$12/1000","v":18.574850299401199},{"$f":"AA15*G15+($A$4-80)*AH15*$A$12/1000","v":17.78443113772455},17.389221556886227,16.994011976047904,16.203592814371259,15.41317365269461]
[1800,72,22.994011976047904,12.467600726340077,21.880239520958082,12.035029792655699,20.766467065868266,11.602292920103171,20.227544910179638,11.398633240526596,19.688622754491018,11.189781488789061,18.574850299401199,10.757009596418712,17.461077844311376,10.324014907248438,null,1.2774451097804391,1.215568862275449,1.1536926147704591,1.12375249500998,1.093812375249501,1.0319361277445109,0.97005988023952094,0.54221076075489394,0.55004104416351995,0.55870326345364163,0.56352035262520483,0.56833744179676804,0.57911689316632009,0.59125874125874123,0.9,0.9,0.9,0.9,0.9,0.9,0.9,{"$f":"Y16*C16+($A$4-80)*AF16*$A$16/1000","v":12.467600726340077},{"$f":"Z16*E16+($A$4-80)*AG16*$A$16/1000","v":12.035029792655699},{"$f":"AA16*G16+($A$4-80)*AH16*$A$16/1000","v":11.602292920103171},{"$f":"AB16*I16+($A$4-80)*AI16*$A$16/1000","v":11.398633240526596},{"$f":"AC16*K16+($A$4-80)*AJ16*$A$16/1000","v":11.189781488789061},{"$f":"AD16*M16+($A$4-80)*AK16*$A$16/1000","v":10.757009596418712},{"$f":"AE16*O16+($A$4-80)*AL16*$A$16/1000","v":10.324014907248438}]
[null,67,21.41317365269461,15.704396174155491,20.335329341317369,15.311864819978366,19.257485029940121,14.918849964406851,18.736526946107787,14.742736131974761,18.21556886227545,14.553972713107482,17.137724550898202,14.16069578148854,16.059880239520957,13.766740198165515,null,1.1896207584830338,1.1297405189620759,1.0698602794411178,1.0409181636726548,1.0119760479041917,0.95209580838323349,0.89221556886227549,0.73339881462079615,0.75296861747243427,0.77470396270396269,0.78684465773083567,0.79898535275770854,0.82628797886393657,0.8572131294159735,0.9,0.9,0.9,0.9,0.9,0.9,0.9,{"$f":"Y17*C17+($A$4-80)*AF17*$A$16/1000","v":15.704396174155491},{"$f":"Z17*E17+($A$4-80)*AG17*$A$16/1000","v":15.311864819978366},{"$f":"AA17*G17+($A$4-80)*AH17*$A$16/1000","v":14.918849964406851},{"$f":"AB17*I17+($A$4-80)*AI17*$A$16/1000","v":14.742736131974761},{"$f":"AC17*K17+($A$4-80)*AJ17*$A$16/1000","v":14.553972713107482},{"$f":"AD17*M17+($A$4-80)*AK17*$A$16/1000","v":14.16069578148854},{"$f":"AE17*O17+($A$4-80)*AL17*$A$16/1000","v":13.766740198165515}]
[null,62,19.688622754491018,19.279293261946293,18.934131736526947,18.661478515231813,18.21556886227545,18.079099084008298,17.838323353293411,17.771501612751358,17.461077844311376,17.461077844311376,16.706586826347305,16.706586826347305,15.988023952095809,15.988023952095809,null,1.093812375249501,1.0518962075848304,1.0119760479041917,0.99101796407185627,0.97005988023952094,0.92814371257485029,0.88822355289421162,0.97920984633364683,0.98559990893223037,0.9925080693719216,0.99625403468596074,1,1,1,0.51960340019904505,0.49605857554830424,0.47060476759221759,0.45680238379610927,0.44300000000000006,0.44300000000000006,0.44300000000000006,19.279293261946293,{"$f":"Z18*E18+($A$4-80)*AG18*$A$16/1000","v":18.661478515231813},{"$f":"AA18*G18+($A$4-80)*AH18*$A$16/1000","v":18.079099084008298},17.771501612751358,17.461077844311376,16.706586826347305,15.988023952095809]
[null,57,19.976047904191617,19.976047904191617,19.113772455089823,19.113772455089823,18.287425149700599,18.287425149700599,17.856287425149702,17.856287425149702,17.425149700598801,17.425149700598801,16.598802395209582,16.598802395209582,15.736526946107784,15.736526946107784,null,1.1097804391217565,1.0618762475049901,1.0159680638722555,0.99201596806387227,0.96806387225548907,0.92215568862275454,0.87425149700598803,1,1,1,1,1,1,1,0.44300000000000006,0.44300000000000006,0.44300000000000006,0.44300000000000006,0.44300000000000006,0.44300000000000006,0.44300000000000006,19.976047904191617,{"$f":"Z19*E19+($A$4-80)*AG19*$A$16/1000","v":19.113772455089823},{"$f":"AA19*G19+($A$4-80)*AH19*$A$16/1000","v":18.287425149700599},17.856287425149702,17.425149700598801,16.598802395209582,15.736526946107784]

{"sheet":"4AC13L_60","index":9,"n_rows":19,"n_cols":45,"rows_kept":19,"cut":false,"hidden":true,"merged":[[2,0,2,1],[2,2,2,15],[3,2,3,3],[3,4,3,5],[3,6,3,7],[3,8,3,9],[3,10,3,11],[3,12,3,13],[3,14,3,15],[5,2,6,2],[5,3,6,3],[5,4,6,4],[5,5,6,5],[5,6,6,6],[5,7,6,7],[5,8,6,8],[4,0,6,0],[4,1,6,1],[4,2,4,3],[4,4,4,5],[4,6,4,7],[4,8,4,9],[5,9,6,9],[5,10,6,10],[5,11,6,11],[5,12,6,12],[5,13,6,13],[5,14,6,14],[5,15,6,15],[4,10,4,11],[4,12,4,13],[4,14,4,15],[7,0,10,0],[11,0,14,0],[15,0,18,0],[22,4,22,15],[23,4,23,5],[23,6,23,7],[23,8,23,9],[23,10,23,11],[23,12,23,13],[23,14,23,15],[25,12,26,12],[25,13,26,13],[25,14,26,14],[25,15,26,15],[27,0,30,0],[31,0,34,0],[24,12,24,13],[24,14,24,15],[25,4,26,4],[25,5,26,5],[25,6,26,6],[25,7,26,7],[25,8,26,8],[25,9,26,9],[25,10,26,10],[25,11,26,11],[24,0,26,0],[24,1,26,1],[24,4,24,5],[24,6,24,7],[24,8,24,9],[24,10,24,11],[35,0,38,0],[41,0,42,1],[41,4,41,15],[42,4,42,5],[42,6,42,7],[42,8,42,9],[42,10,42,11],[42,12,42,13],[42,14,42,15],[44,12,45,12],[44,13,45,13],[44,14,45,14],[44,15,45,15],[46,0,49,0],[50,0,53,0],[43,12,43,13],[43,14,43,15],[44,4,45,4],[44,5,45,5],[44,6,45,6],[44,7,45,7],[44,8,45,8],[44,9,45,9],[44,10,45,10],[44,11,45,11],[43,0,45,0],[43,1,45,1],[43,4,43,5],[43,6,43,7],[43,8,43,9],[43,10,43,11],[54,0,57,0],[60,0,61,1],[60,4,60,15],[61,4,61,5],[61,6,61,7],[61,8,61,9],[61,10,61,11],[61,12,61,13],[61,14,61,15],[63,12,64,12],[63,13,64,13],[63,14,64,14],[63,15,64,15],[65,0,68,0],[69,0,72,0],[62,12,62,13],[62,14,62,15],[63,4,64,4],[63,5,64,5],[63,6,64,6],[63,7,64,7],[63,8,64,8],[63,9,64,9],[63,10,64,10],[63,11,64,11],[62,0,64,0],[62,1,64,1],[62,4,62,5],[62,6,62,7],[62,8,62,9],[62,10,62,11],[73,0,76,0],[79,0,80,1],[79,4,79,15],[80,4,80,5],[80,6,80,7],[80,8,80,9],[80,10,80,11],[80,12,80,13],[80,14,80,15],[82,12,83,12],[82,13,83,13],[82,14,83,14],[82,15,83,15],[84,0,87,0],[88,0,91,0],[81,12,81,13],[81,14,81,15],[82,4,83,4],[82,5,83,5],[82,6,83,6],[82,7,83,7],[82,8,83,8],[82,9,83,9],[82,10,83,10],[82,11,83,11],[81,0,83,0],[81,1,83,1],[81,4,81,5],[81,6,81,7],[81,8,81,9],[81,10,81,11],[92,0,95,0],[98,0,99,1],[98,4,98,15],[99,4,99,5],[99,6,99,7],[99,8,99,9],[99,10,99,11],[99,12,99,13],[99,14,99,15],[101,12,102,12],[101,13,102,13],[101,14,102,14],[101,15,102,15],[103,0,106,0],[107,0,110,0],[100,12,100,13],[100,14,100,15],[101,4,102,4],[101,5,102,5],[101,6,102,6],[101,7,102,7],[101,8,102,8],[101,9,102,9],[101,10,102,10],[101,11,102,11],[100,0,102,0],[100,1,102,1],[100,4,100,5],[100,6,100,7],[100,8,100,9],[100,10,100,11],[111,0,114,0],[117,0,118,1],[117,4,117,15],[118,4,118,5],[118,6,118,7],[118,8,118,9],[118,10,118,11],[118,12,118,13],[118,14,118,15],[130,0,133,0],[120,12,121,12],[120,13,121,13],[120,14,121,14],[120,15,121,15],[122,0,125,0],[126,0,129,0],[119,12,119,13],[119,14,119,15],[120,4,121,4],[120,5,121,5],[120,6,121,6],[120,7,121,7],[120,8,121,8],[120,9,121,9],[120,10,121,10],[120,11,121,11],[119,0,121,0],[119,1,121,1],[119,4,119,5],[119,6,119,7],[119,8,119,9],[119,10,119,11]]}
[]
["4AC13L_60"]
["Evaporator Air \n",null,"Condenser  Entering Air Temperature ˚F"]
[80,"°F DB",65,null,75,null,85,null,90,null,95,null,105,null,115]
["CFM","EWB†\n˚F","Capacity Mbtuh",null,"Capacity Mbtuh",null,"Capacity Mbtuh",null,"Capacity Mbtuh",null,"Capacity Mbtuh",null,"Capacity Mbtuh",null,"Capacity Mbtuh"]
[null,null,"Total","Sens.","Total","Sens.","Total","Sens.","Total","Sens.","Total","Sens.","Total","Sens.","Total","Sens."]
[null,null,null,null,null,null,null,null,null,null,null,null,null,null,null,null,null,"Total Factors",null,null,null,null,null,null,"Sens. %",null,null,null,null,null,null,"IDB Adj",null,null,null,null,null,null,"Sens Calc"]
[1600,72,{"$f":"R8*$K$13","v":21.92568659127625},{"$f":"IF(AM8>C8,C8,AM8)","v":11.027059814017409},{"$f":"S8*$K$13","v":20.966074313408726},{"$f":"IF(AN8>E8,E8,AN8)","v":10.533626475133099},{"$f":"T8*$K$13","v":20.035541195476576},{"$f":"IF(AO8>G8,G8,AO8)","v":10.05479935656512},{"$f":"U8*$K$13","v":19.555735056542812},{"$f":"IF(AP8>I8,I8,AP8)","v":9.8079385655624574},{"$f":"V8*$K$13","v":19.075928917609044},{"$f":"IF(AQ8>K8,K8,AQ8)","v":9.5613756807011807},{"$f":"W8*$K$13","v":18.11631663974152},{"$f":"IF(AR8>M8,M8,AR8)","v":9.0679672618777261},{"$f":"X8*$K$13","v":17.18578352180937},{"$f":"IF(AS8>O8,O8,AS8)","v":8.5891098063090343},null,1.2180936995153473,1.1647819063004847,1.1130856219709209,1.0864297253634896,1.0597738287560581,1.0064620355411955,0.95476575121163165,0.50292882588246224,0.50241291324606163,0.50184815366181335,0.50153770938316078,0.5012272651045081,0.50054144240256038,0.49977993702813422,{"$f":"IF(Y8<0.9,0.9,Y8*-3.6846+4.1276)","v":0.9},{"$f":"IF(Z8<0.9,0.9,Z8*-3.6846+4.1276)","v":0.9},0.9,0.9,0.9,0.9,0.9,{"$f":"Y8*C8+($A$4-80)*AF8*$A$8/1000","v":11.027059814017409},{"$f":"Z8*E8+($A$4-80)*AG8*$A$8/1000","v":10.533626475133099},{"$f":"AA8*G8+($A$4-80)*AH8*$A$8/1000","v":10.05479935656512},{"$f":"AB8*I8+($A$4-80)*AI8*$A$8/1000","v":9.8079385655624574},{"$f":"AC8*K8+($A$4-80)*AJ8*$A$8/1000","v":9.5613756807011807},{"$f":"AD8*M8+($A$4-80)*AK8*$A$8/1000","v":9.0679672618777261},{"$f":"AE8*O8+($A$4-80)*AL8*$A$8/1000","v":8.5891098063090343}]
[null,67,20.471728594507272,13.723174524578445,19.453957996768985,{"$f":"IF(AN9>E9,E9,AN9)","v":13.365130475583097},18.436187399030697,{"$f":"IF(AO9>G9,G9,AO9)","v":13.006915695117593},17.94184168012924,{"$f":"IF(AP9>I9,I9,AP9)","v":12.843369362394265},{"$f":"V9*$K$13","v":17.447495961227787},{"$f":"IF(AQ9>K9,K9,AQ9)","v":12.669616442072471},16.429725363489499,{"$f":"IF(AR9>M9,M9,AR9)","v":12.311638027939683},15.411954765751211,{"$f":"IF(AS9>O9,O9,AS9)","v":11.953463831245561},null,1.137318255250404,1.0807754442649435,1.0242326332794831,0.99676898222940225,0.96930533117932149,0.91276252019386106,0.85621970920840063,0.67034761921670272,0.68701343334877396,0.70551006092514801,0.71583339053863226,0.72615672015211663,0.74935141979298558,0.77559686703784092,{"$f":"IF(Y9<0.9,0.9,Y9*-3.6846+4.1276)","v":0.9},0.9,0.9,0.9,0.9,0.9,0.9,{"$f":"Y9*C9+($A$4-80)*AF9*$A$8/1000","v":13.723174524578445},{"$f":"Z9*E9+($A$4-80)*AG9*$A$8/1000","v":13.365130475583097},{"$f":"AA9*G9+($A$4-80)*AH9*$A$8/1000","v":13.006915695117593},{"$f":"AB9*I9+($A$4-80)*AI9*$A$8/1000","v":12.843369362394265},{"$f":"AC9*K9+($A$4-80)*AJ9*$A$8/1000","v":12.669616442072471},{"$f":"AD9*M9+($A$4-80)*AK9*$A$8/1000","v":12.311638027939683},{"$f":"AE9*O9+($A$4-80)*AL9*$A$8/1000","v":11.953463831245561}]
[null,62,18.785137318255249,16.107130816102249,17.94184168012924,15.777744499063918,17.12762520193861,15.474378964373054,16.705977382875606,15.31540369203737,{"$f":"V10*$K$13","v":16.284329563812602},15.145223519514611,15.441033925686591,14.815814325505302,14.597738287560581,14.48610766917119,null,1.0436187399030694,0.99676898222940225,0.9515347334410339,0.92810985460420037,0.90468497576736673,0.85783521809369956,0.81098546042003228,0.85744014234324839,0.8793826620674019,0.90347487067976995,0.91676190749164799,0.93004894430352614,0.95950921400792866,0.99235288260479937,0.9,0.9,0.79865649149331963,0.74969907565627381,0.70074165981922754,0.59219235006638593,0.47117656875435632,16.107130816102249,{"$f":"Z10*E10+($A$4-80)*AG10*$A$8/1000","v":15.777744499063918},{"$f":"AA10*G10+($A$4-80)*AH10*$A$8/1000","v":15.474378964373054},15.31540369203737,15.145223519514611,14.815814325505302,14.48610766917119]
[null,57,18.203554119547658,18.203554119547658,17.563812600969307,17.563812600969307,16.924071082390952,16.924071082390952,16.604200323101779,16.604200323101779,{"$f":"V11*$K$13","v":16.284329563812602},16.284329563812602,15.644588045234249,15.644588045234249,15.004846526655896,15.004846526655896,null,1.0113085621970921,0.975767366720517,0.94022617124394181,0.92245557350565432,0.90468497576736673,0.86914378029079165,0.83360258481421645,1,1,1,1,1,1,1,0.44300000000000006,0.44300000000000006,0.44300000000000006,0.44300000000000006,0.44300000000000006,0.44300000000000006,0.44300000000000006,18.203554119547658,{"$f":"Z11*E11+($A$4-80)*AG11*$A$8/1000","v":17.563812600969307},{"$f":"AA11*G11+($A$4-80)*AH11*$A$8/1000","v":16.924071082390952},{"$f":"AB11*I11+($A$4-80)*AI11*$A$8/1000","v":16.604200323101779},16.284329563812602,15.644588045234249,15.004846526655896]
[1800,72,22.303715670436187,11.308531184273432,21.315024232633277,11.023407816396503,20.297253634894989,10.723217227061129,19.802907915993536,10.583835446010461,{"$f":"V12*$K$13","v":19.308562197092083},10.438373336584304,18.290791599353796,10.137770699376517,17.302100161550889,9.8532633735657384,null,1.2390953150242325,1.184168012924071,1.1276252019386106,1.1001615508885298,1.0726978998384491,1.0161550888529887,0.96122778675282716,0.50702454027707189,0.51716609355384535,0.52830877615017824,0.53445865076525334,0.54060852538032833,0.55425543745928851,0.56948366276724482,0.9,0.9,0.9,0.9,0.9,0.9,0.9,{"$f":"Y12*C12+($A$4-80)*AF12*$A$12/1000","v":11.308531184273432},{"$f":"Z12*E12+($A$4-80)*AG12*$A$12/1000","v":11.023407816396503},{"$f":"AA12*G12+($A$4-80)*AH12*$A$12/1000","v":10.723217227061129},{"$f":"AB12*I12+($A$4-80)*AI12*$A$12/1000","v":10.583835446010461},{"$f":"AC12*K12+($A$4-80)*AJ12*$A$12/1000","v":10.438373336584304},{"$f":"AD12*M12+($A$4-80)*AK12*$A$12/1000","v":10.137770699376517},{"$f":"AE12*O12+($A$4-80)*AL12*$A$12/1000","v":9.8532633735657384}]
[null,67,20.704361873990305,14.620661918393221,19.802907915993536,14.185416605599013,18.901453957996768,13.750215260879399,18.450726978998386,13.535402198443219,18,13.315064506741681,17.06946688206785,12.858067651072464,16.168012924071082,12.422605836184443,null,1.1502423263327948,1.1001615508885298,1.0500807754442649,1.0250403877221326,1,0.94830371567043614,0.89822294022617122,0.70616336824948545,0.7163299786968339,0.72746865354567081,0.73359722973788211,0.73972580593009341,0.75327880711847961,0.76834462555936955,0.9,0.9,0.9,0.9,0.9,0.9,0.9,{"$f":"Y13*C13+($A$4-80)*AF13*$A$12/1000","v":14.620661918393221},{"$f":"Z13*E13+($A$4-80)*AG13*$A$12/1000","v":14.185416605599013},{"$f":"AA13*G13+($A$4-80)*AH13*$A$12/1000","v":13.750215260879399},{"$f":"AB13*I13+($A$4-80)*AI13*$A$12/1000","v":13.535402198443219},{"$f":"AC13*K13+($A$4-80)*AJ13*$A$12/1000","v":13.315064506741681},{"$f":"AD13*M13+($A$4-80)*AK13*$A$12/1000","v":12.858067651072464},{"$f":"AE13*O13+($A$4-80)*AL13*$A$12/1000","v":12.422605836184443}]
[null,62,19.337641357027465,17.312665360148827,18.348949919224559,16.892130181414107,17.360258481421649,16.471834641332141,16.865912762520193,16.269650353246117,{"$f":"V14*$K$13","v":16.371567043618739},16.051822376189033,15.382875605815833,15.382875605815833,14.365105008077546,14.365105008077546,null,1.074313408723748,1.0193861066235865,0.96445880452342492,0.93699515347334406,0.9095315024232633,0.8546042003231018,0.79806138933764137,0.89528319615138874,0.92060473519064367,0.94882427349568166,0.96464689354974587,0.98046951360381018,1,1,0.9,0.73553979271655434,0.63156208187781138,0.57326205602660663,0.51496203017540099,0.44300000000000006,0.44300000000000006,17.312665360148827,{"$f":"Z14*E14+($A$4-80)*AG14*$A$12/1000","v":16.892130181414107},{"$f":"AA14*G14+($A$4-80)*AH14*$A$12/1000","v":16.471834641332141},16.269650353246117,16.051822376189033,15.382875605815833,14.365105008077546]
[null,57,18.901453957996768,18.901453957996768,18.203554119547658,18.203554119547658,17.534733441033925,17.534733441033925,17.200323101777059,17.200323101777059,16.865912762520193,16.865912762520193,16.168012924071082,16.168012924071082,15.499192245557349,15.499192245557349,null,1.0500807754442649,1.0113085621970921,0.97415185783521807,0.95557350565428112,0.93699515347334406,0.89822294022617122,0.8610662358642972,1,1,1,1,1,1,1,0.44300000000000006,0.44300000000000006,0.44300000000000006,0.44300000000000006,0.44300000000000006,0.44300000000000006,0.44300000000000006,18.901453957996768,{"$f":"Z15*E15+($A$4-80)*AG15*$A$12/1000","v":18.203554119547658},{"$f":"AA15*G15+($A$4-80)*AH15*$A$12/1000","v":17.534733441033925},17.200323101777059,16.865912762520193,16.168012924071082,15.499192245557349]
[2000,72,22.536348949919223,11.921604367185818,21.576736672051698,11.497762015837319,20.617124394184167,11.0738717155392,20.137318255250406,10.863015560537352,19.657512116316642,10.649926491550721,18.697899838449111,10.225917947453368,17.767366720516964,9.8179044668868318,null,1.2520193861066236,1.198707592891761,1.1453957996768982,1.1187399030694669,1.0920840064620356,1.0387722132471728,0.98707592891760909,0.52899448769089763,0.53287770947913293,0.53712009026161767,0.53944698210771125,0.54177387395380472,0.54690195347102433,0.55258072967839134,0.9,0.9,0.9,0.9,0.9,0.9,0.9,{"$f":"Y16*C16+($A$4-80)*AF16*$A$16/1000","v":11.921604367185818},{"$f":"Z16*E16+($A$4-80)*AG16*$A$16/1000","v":11.497762015837319},{"$f":"AA16*G16+($A$4-80)*AH16*$A$16/1000","v":11.0738717155392},{"$f":"AB16*I16+($A$4-80)*AI16*$A$16/1000","v":10.863015560537352},{"$f":"AC16*K16+($A$4-80)*AJ16*$A$16/1000","v":10.649926491550721},{"$f":"AD16*M16+($A$4-80)*AK16*$A$16/1000","v":10.225917947453368},{"$f":"AE16*O16+($A$4-80)*AL16*$A$16/1000","v":9.8179044668868318}]
[null,67,20.849757673667206,15.231022478270571,20.006462035541194,14.912269770033495,19.163166397415182,14.593429014354356,18.741518578352181,14.437678594402037,18.319870759289177,14.274488096976555,17.505654281098547,13.978652928156349,16.662358642972535,13.660084675415419,null,1.1583198707592892,1.1114701130856219,1.0646203554119547,1.0411954765751212,1.0177705977382876,0.97253634894991925,0.92568659127625197,0.73051316550825063,0.74537265727153856,0.76153537007969552,0.77035799068484279,0.77918061128999005,0.79852216339320592,0.81981698798547076,0.9,0.9,0.9,0.9,0.9,0.9,0.9,{"$f":"Y17*C17+($A$4-80)*AF17*$A$16/1000","v":15.231022478270571},{"$f":"Z17*E17+($A$4-80)*AG17*$A$16/1000","v":14.912269770033495},{"$f":"AA17*G17+($A$4-80)*AH17*$A$16/1000","v":14.593429014354356},{"$f":"AB17*I17+($A$4-80)*AI17*$A$16/1000","v":14.437678594402037},{"$f":"AC17*K17+($A$4-80)*AJ17*$A$16/1000","v":14.274488096976555},{"$f":"AD17*M17+($A$4-80)*AK17*$A$16/1000","v":13.978652928156349},{"$f":"AE17*O17+($A$4-80)*AL17*$A$16/1000","v":13.660084675415419}]
[null,62,19.395799676898221,18.300128908305073,18.610662358642973,17.880165591742486,17.825525040387721,17.460249675063839,17.432956381260098,17.254340898787287,17.040387722132472,17.040387722132472,16.255250403877223,16.255250403877223,15.470113085621971,15.470113085621971,null,1.0775444264943457,1.0339256865912763,0.99030694668820674,0.96849757673667203,0.94668820678513732,0.90306946688206791,0.85945072697899838,0.94350989457278378,0.96074848101463539,0.97950829697883968,0.98975414848941989,1,1,1,0.65114344245712097,0.58762614685347447,0.51850372895176733,0.48075186447588347,0.44300000000000006,0.44300000000000006,0.44300000000000006,18.300128908305073,{"$f":"Z18*E18+($A$4-80)*AG18*$A$16/1000","v":17.880165591742486},{"$f":"AA18*G18+($A$4-80)*AH18*$A$16/1000","v":17.460249675063839},17.254340898787287,17.040387722132472,16.255250403877223,15.470113085621971]
[null,57,19.279483037156702,19.279483037156702,18.756058158319874,18.756058158319874,18.203554119547658,18.203554119547658,17.927302100161551,17.927302100161551,17.651050080775445,17.651050080775445,17.12762520193861,17.12762520193861,16.575121163166397,16.575121163166397,null,1.0710823909531502,1.0420032310177707,1.0113085621970921,0.99596122778675278,0.98061389337641358,0.9515347334410339,0.92084006462035539,1,1,1,1,1,1,1,0.44300000000000006,0.44300000000000006,0.44300000000000006,0.44300000000000006,0.44300000000000006,0.44300000000000006,0.44300000000000006,19.279483037156702,{"$f":"Z19*E19+($A$4-80)*AG19*$A$16/1000","v":18.756058158319874},{"$f":"AA19*G19+($A$4-80)*AH19*$A$16/1000","v":18.203554119547658},17.927302100161551,17.651050080775445,17.12762520193861,16.575121163166397]

{"sheet":"4SCU13L_18","index":10,"n_rows":19,"n_cols":45,"rows_kept":19,"cut":false,"hidden":true,"merged":[[2,0,2,1],[2,2,2,15],[3,2,3,3],[3,4,3,5],[3,6,3,7],[3,8,3,9],[3,10,3,11],[3,12,3,13],[3,14,3,15],[5,2,6,2],[5,3,6,3],[5,4,6,4],[5,5,6,5],[5,6,6,6],[5,7,6,7],[5,8,6,8],[4,0,6,0],[4,1,6,1],[4,2,4,3],[4,4,4,5],[4,6,4,7],[4,8,4,9],[5,9,6,9],[5,10,6,10],[5,11,6,11],[5,12,6,12],[5,13,6,13],[5,14,6,14],[5,15,6,15],[4,10,4,11],[4,12,4,13],[4,14,4,15],[7,0,10,0],[11,0,14,0],[15,0,18,0],[22,4,22,15],[23,4,23,5],[23,6,23,7],[23,8,23,9],[23,10,23,11],[23,12,23,13],[23,14,23,15],[25,12,26,12],[25,13,26,13],[25,14,26,14],[25,15,26,15],[27,0,30,0],[31,0,34,0],[24,12,24,13],[24,14,24,15],[25,4,26,4],[25,5,26,5],[25,6,26,6],[25,7,26,7],[25,8,26,8],[25,9,26,9],[25,10,26,10],[25,11,26,11],[24,0,26,0],[24,1,26,1],[24,4,24,5],[24,6,24,7],[24,8,24,9],[24,10,24,11],[35,0,38,0],[41,0,42,1],[41,4,41,15],[42,4,42,5],[42,6,42,7],[42,8,42,9],[42,10,42,11],[42,12,42,13],[42,14,42,15],[44,12,45,12],[44,13,45,13],[44,14,45,14],[44,15,45,15],[46,0,49,0],[50,0,53,0],[43,12,43,13],[43,14,43,15],[44,4,45,4],[44,5,45,5],[44,6,45,6],[44,7,45,7],[44,8,45,8],[44,9,45,9],[44,10,45,10],[44,11,45,11],[43,0,45,0],[43,1,45,1],[43,4,43,5],[43,6,43,7],[43,8,43,9],[43,10,43,11],[54,0,57,0],[60,0,61,1],[60,4,60,15],[61,4,61,5],[61,6,61,7],[61,8,61,9],[61,10,61,11],[61,12,61,13],[61,14,61,15],[63,12,64,12],[63,13,64,13],[63,14,64,14],[63,15,64,15],[65,0,68,0],[69,0,72,0],[62,12,62,13],[62,14,62,15],[63,4,64,4],[63,5,64,5],[63,6,64,6],[63,7,64,7],[63,8,64,8],[63,9,64,9],[63,10,64,10],[63,11,64,11],[62,0,64,0],[62,1,64,1],[62,4,62,5],[62,6,62,7],[62,8,62,9],[62,10,62,11],[73,0,76,0],[79,0,80,1],[79,4,79,15],[80,4,80,5],[80,6,80,7],[80,8,80,9],[80,10,80,11],[80,12,80,13],[80,14,80,15],[82,12,83,12],[82,13,83,13],[82,14,83,14],[82,15,83,15],[84,0,87,0],[88,0,91,0],[81,12,81,13],[81,14,81,15],[82,4,83,4],[82,5,83,5],[82,6,83,6],[82,7,83,7],[82,8,83,8],[82,9,83,9],[82,10,83,10],[82,11,83,11],[81,0,83,0],[81,1,83,1],[81,4,81,5],[81,6,81,7],[81,8,81,9],[81,10,81,11],[92,0,95,0],[98,0,99,1],[98,4,98,15],[99,4,99,5],[99,6,99,7],[99,8,99,9],[99,10,99,11],[99,12,99,13],[99,14,99,15],[101,12,102,12],[101,13,102,13],[101,14,102,14],[101,15,102,15],[103,0,106,0],[107,0,110,0],[100,12,100,13],[100,14,100,15],[101,4,102,4],[101,5,102,5],[101,6,102,6],[101,7,102,7],[101,8,102,8],[101,9,102,9],[101,10,102,10],[101,11,102,11],[100,0,102,0],[100,1,102,1],[100,4,100,5],[100,6,100,7],[100,8,100,9],[100,10,100,11],[111,0,114,0],[117,0,118,1],[117,4,117,15],[118,4,118,5],[118,6,118,7],[118,8,118,9],[118,10,118,11],[118,12,118,13],[118,14,118,15],[130,0,133,0],[120,12,121,12],[120,13,121,13],[120,14,121,14],[120,15,121,15],[122,0,125,0],[126,0,129,0],[119,12,119,13],[119,14,119,15],[120,4,121,4],[120,5,121,5],[120,6,121,6],[120,7,121,7],[120,8,121,8],[120,9,121,9],[120,10,121,10],[120,11,121,11],[119,0,121,0],[119,1,121,1],[119,4,119,5],[119,6,119,7],[119,8,119,9],[119,10,119,11]]}
[]
["4SCU13L_18"]
["Evaporator Air \n",null,"Condenser  Entering Air Temperature ˚F"]
[80,"°F DB",65,null,75,null,85,null,90,null,95,null,105,null,115]
["CFM","EWB†\n˚F","Capacity Mbtuh",null,"Capacity Mbtuh",null,"Capacity Mbtuh",null,"Capacity Mbtuh",null,"Capacity Mbtuh",null,"Capacity Mbtuh",null,"Capacity Mbtuh"]
[null,null,"Total","Sens.","Total","Sens.","Total","Sens.","Total","Sens.","Total","Sens.","Total","Sens.","Total","Sens."]
[null,null,null,null,null,null,null,null,null,null,null,null,null,null,null,null,null,"Total Factors",null,null,null,null,null,null,"Sens. %",null,null,null,null,null,null,"IDB Adj",null,null,null,null,null,null,"Sens Calc"]
[450,72,{"$f":"R8*$K$13","v":22.206521739130437},{"$f":"IF(AM8>C8,C8,AM8)","v":10.859606453458941},{"$f":"S8*$K$13","v":21.130434782608699},{"$f":"IF(AN8>E8,E8,AN8)","v":10.462404803159126},{"$f":"T8*$K$13","v":19.956521739130437},{"$f":"IF(AO8>G8,G8,AO8)","v":10.016575907511797},{"$f":"U8*$K$13","v":19.418478260869563},{"$f":"IF(AP8>I8,I8,AP8)","v":9.8201599104739046},{"$f":"V8*$K$13","v":18.880434782608699},{"$f":"IF(AQ8>K8,K8,AQ8)","v":9.6196631769058776},{"$f":"W8*$K$13","v":17.804347826086957},{"$f":"IF(AR8>M8,M8,AR8)","v":9.2233194511409451},{"$f":"X8*$K$13","v":16.630434782608695},{"$f":"IF(AS8>O8,O8,AS8)","v":8.7760348867482421},null,1.2336956521739131,1.173913043478261,1.1086956521739131,1.0788043478260869,1.048913043478261,0.98913043478260865,0.92391304347826086,0.48902779917680983,0.49513438368860058,0.50191992564873922,0.50571212525250453,0.50950432485626973,0.51803747833026059,0.52770928730773747,{"$f":"IF(Y8<0.9,0.9,Y8*-3.6846+4.1276)","v":0.9},{"$f":"IF(Z8<0.9,0.9,Z8*-3.6846+4.1276)","v":0.9},0.9,0.9,0.9,0.9,0.9,{"$f":"Y8*C8+($A$4-80)*AF8*$A$8/1000","v":10.859606453458941},{"$f":"Z8*E8+($A$4-80)*AG8*$A$8/1000","v":10.462404803159126},{"$f":"AA8*G8+($A$4-80)*AH8*$A$8/1000","v":10.016575907511797},{"$f":"AB8*I8+($A$4-80)*AI8*$A$8/1000","v":9.8201599104739046},{"$f":"AC8*K8+($A$4-80)*AJ8*$A$8/1000","v":9.6196631769058776},{"$f":"AD8*M8+($A$4-80)*AK8*$A$8/1000","v":9.2233194511409451},{"$f":"AE8*O8+($A$4-80)*AL8*$A$8/1000","v":8.7760348867482421}]
[null,67,20.445652173913043,13.580924823857222,19.369565217391301,{"$f":"IF(AN9>E9,E9,AN9)","v":13.096872962882481},18.39130434782609,{"$f":"IF(AO9>G9,G9,AO9)","v":12.678909446068397},17.853260869565219,{"$f":"IF(AP9>I9,I9,AP9)","v":12.440117244509585},{"$f":"V9*$K$13","v":17.315217391304348},{"$f":"IF(AQ9>K9,K9,AQ9)","v":12.193360841590717},16.336956521739133,{"$f":"IF(AR9>M9,M9,AR9)","v":11.77662090007628},15.260869565217391,{"$f":"IF(AS9>O9,O9,AS9)","v":11.28915672706937},null,1.1358695652173914,1.076086956521739,1.0217391304347827,0.99184782608695654,0.96195652173913049,0.90760869565217395,0.84782608695652173,0.66424512695101778,0.67615730223635717,0.6893969675167213,0.69679804352808627,0.70419911953945136,0.7208576998050682,0.73974531259998721,{"$f":"IF(Y9<0.9,0.9,Y9*-3.6846+4.1276)","v":0.9},0.9,0.9,0.9,0.9,0.9,0.9,{"$f":"Y9*C9+($A$4-80)*AF9*$A$8/1000","v":13.580924823857222},{"$f":"Z9*E9+($A$4-80)*AG9*$A$8/1000","v":13.096872962882481},{"$f":"AA9*G9+($A$4-80)*AH9*$A$8/1000","v":12.678909446068397},{"$f":"AB9*I9+($A$4-80)*AI9*$A$8/1000","v":12.440117244509585},{"$f":"AC9*K9+($A$4-80)*AJ9*$A$8/1000","v":12.193360841590717},{"$f":"AD9*M9+($A$4-80)*AK9*$A$8/1000","v":11.77662090007628},{"$f":"AE9*O9+($A$4-80)*AL9*$A$8/1000","v":11.28915672706937}]
[null,62,18.586956521739129,15.660166029779944,17.608695652173914,15.183750714666527,16.728260869565219,14.791727199919531,16.239130434782609,14.558423794227433,{"$f":"V10*$K$13","v":15.75},14.313120193500371,14.869565217391305,13.923467143821085,13.891304347826086,13.442095208986016,null,1.0326086956521738,0.97826086956521741,0.92934782608695654,0.90217391304347827,0.875,0.82608695652173914,0.77173913043478259,0.84253524838582161,0.86228707762303725,0.88423580402377955,0.89650267005952067,0.90876953609526168,0.9363735213680846,0.96766256590509669,0.9,0.9,0.9,0.9,0.77914776730339907,0.67743812316715557,0.56215050966608082,15.660166029779944,{"$f":"Z10*E10+($A$4-80)*AG10*$A$8/1000","v":15.183750714666527},{"$f":"AA10*G10+($A$4-80)*AH10*$A$8/1000","v":14.791727199919531},14.558423794227433,14.313120193500371,13.923467143821085,13.442095208986016]
[null,57,17.706521739130437,17.706521739130437,16.923913043478262,16.923913043478262,16.239130434782609,16.239130434782609,15.847826086956522,15.847826086956522,{"$f":"V11*$K$13","v":15.456521739130435},15.456521739130435,14.67391304347826,14.67391304347826,13.989130434782609,13.989130434782609,null,0.98369565217391308,0.94021739130434778,0.90217391304347827,0.88043478260869568,0.85869565217391308,0.81521739130434778,0.77717391304347827,1,1,1,1,1,1,1,0.44300000000000006,0.44300000000000006,0.44300000000000006,0.44300000000000006,0.44300000000000006,0.44300000000000006,0.44300000000000006,17.706521739130437,{"$f":"Z11*E11+($A$4-80)*AG11*$A$8/1000","v":16.923913043478262},{"$f":"AA11*G11+($A$4-80)*AH11*$A$8/1000","v":16.239130434782609},{"$f":"AB11*I11+($A$4-80)*AI11*$A$8/1000","v":15.847826086956522},15.456521739130435,14.67391304347826,13.989130434782609]
[600,72,23.282608695652172,12.039540184730077,22.10869565217391,11.667007876747977,20.836956521739129,11.242649158811012,20.25,11.060681921905147,{"$f":"V12*$K$13","v":19.663043478260871},10.870904418008214,18.39130434782609,10.444788080708729,17.217391304347828,10.073984724522333,null,1.2934782608695652,1.2282608695652173,1.1576086956521738,1.125,1.0923913043478262,1.0217391304347827,0.95652173913043481,0.51710443370455983,0.52771127072803048,0.53955332426218738,0.54620651466198256,0.55285970506177762,0.56791991928203489,0.58510517339397383,0.9,0.9,0.9,0.9,0.9,0.9,0.9,{"$f":"Y12*C12+($A$4-80)*AF12*$A$12/1000","v":12.039540184730077},{"$f":"Z12*E12+($A$4-80)*AG12*$A$12/1000","v":11.667007876747977},{"$f":"AA12*G12+($A$4-80)*AH12*$A$12/1000","v":11.242649158811012},{"$f":"AB12*I12+($A$4-80)*AI12*$A$12/1000","v":11.060681921905147},{"$f":"AC12*K12+($A$4-80)*AJ12*$A$12/1000","v":10.870904418008214},{"$f":"AD12*M12+($A$4-80)*AK12*$A$12/1000","v":10.444788080708729},{"$f":"AE12*O12+($A$4-80)*AL12*$A$12/1000","v":10.073984724522333}]
[null,67,21.423913043478262,15.105619491413389,20.25,14.645298629872636,19.173913043478262,14.255491806826923,18.586956521739129,14.030703142654547,18,13.792550018977391,16.923913043478262,13.404232159663644,15.847826086956522,13.018207429890698,null,1.1902173913043479,1.125,1.0652173913043479,1.0326086956521738,1,0.94021739130434778,0.88043478260869568,0.70508218833588621,0.72322462369741414,0.74348369967578054,0.75486823925392887,0.76625277883207721,0.79202913210600845,0.82145067458843912,0.9,0.9,0.9,0.9,0.9,0.9,0.9,{"$f":"Y13*C13+($A$4-80)*AF13*$A$12/1000","v":15.105619491413389},{"$f":"Z13*E13+($A$4-80)*AG13*$A$12/1000","v":14.645298629872636},{"$f":"AA13*G13+($A$4-80)*AH13*$A$12/1000","v":14.255491806826923},{"$f":"AB13*I13+($A$4-80)*AI13*$A$12/1000","v":14.030703142654547},{"$f":"AC13*K13+($A$4-80)*AJ13*$A$12/1000","v":13.792550018977391},{"$f":"AD13*M13+($A$4-80)*AK13*$A$12/1000","v":13.404232159663644},{"$f":"AE13*O13+($A$4-80)*AL13*$A$12/1000","v":13.018207429890698}]
[null,62,19.369565217391301,18.177870099332189,18.586956521739129,17.790246675576114,17.706521739130437,17.309133135295706,17.315217391304348,17.120914123683498,{"$f":"V14*$K$13","v":16.923913043478262},16.923913043478262,16.043478260869563,16.043478260869563,15.163043478260869,15.163043478260869,null,1.076086956521739,1.0326086956521738,0.98369565217391308,0.96195652173913049,0.94021739130434778,0.89130434782608692,0.84239130434782605,0.9384758973841536,0.95713607845204829,0.97755693581780534,0.98877846790890267,1,1,1,0.6696917084983478,0.60093640533558279,0.52569371428571454,0.48434685714285708,0.44300000000000006,0.44300000000000006,0.44300000000000006,18.177870099332189,{"$f":"Z14*E14+($A$4-80)*AG14*$A$12/1000","v":17.790246675576114},{"$f":"AA14*G14+($A$4-80)*AH14*$A$12/1000","v":17.309133135295706},17.120914123683498,16.923913043478262,16.043478260869563,15.163043478260869]
[null,57,19.369565217391301,19.369565217391301,18.586956521739129,18.586956521739129,17.706521739130437,17.706521739130437,17.266304347826086,17.266304347826086,16.826086956521738,16.826086956521738,16.043478260869563,16.043478260869563,15.163043478260869,15.163043478260869,null,1.076086956521739,1.0326086956521738,0.98369565217391308,0.95923913043478259,0.93478260869565222,0.89130434782608692,0.84239130434782605,1,1,1,1,1,1,1,0.44300000000000006,0.44300000000000006,0.44300000000000006,0.44300000000000006,0.44300000000000006,0.44300000000000006,0.44300000000000006,19.369565217391301,{"$f":"Z15*E15+($A$4-80)*AG15*$A$12/1000","v":18.586956521739129},{"$f":"AA15*G15+($A$4-80)*AH15*$A$12/1000","v":17.706521739130437},17.266304347826086,16.826086956521738,16.043478260869563,15.163043478260869]
[750,72,23.967391304347828,13.438372404001132,22.59782608695652,12.920023199936828,21.326086956521738,12.457430322020537,20.64130434782609,12.202221377033084,19.956521739130437,11.937404830161714,18.684782608695652,11.475643195127558,17.413043478260867,11.015254843021006,null,1.3315217391304348,1.2554347826086956,1.1847826086956521,1.1467391304347827,1.1086956521739131,1.0380434782608696,0.96739130434782605,0.56069399599460501,0.57173743838104296,0.58414046362175809,0.59115553801318776,0.59817061240461744,0.61417054912840918,0.63258642044814772,0.9,0.9,0.9,0.9,0.9,0.9,0.9,{"$f":"Y16*C16+($A$4-80)*AF16*$A$16/1000","v":13.438372404001132},{"$f":"Z16*E16+($A$4-80)*AG16*$A$16/1000","v":12.920023199936828},{"$f":"AA16*G16+($A$4-80)*AH16*$A$16/1000","v":12.457430322020537},{"$f":"AB16*I16+($A$4-80)*AI16*$A$16/1000","v":12.202221377033084},{"$f":"AC16*K16+($A$4-80)*AJ16*$A$16/1000","v":11.937404830161714},{"$f":"AD16*M16+($A$4-80)*AK16*$A$16/1000","v":11.475643195127558},{"$f":"AE16*O16+($A$4-80)*AL16*$A$16/1000","v":11.015254843021006}]
[null,67,22.010869565217391,16.829163399084656,20.739130434782609,16.308001031493291,19.565217391304348,15.863214020660676,18.978260869565219,15.649886923637773,18.39130434782609,15.420318425155264,17.119565217391305,14.894602758512937,15.945652173913045,14.45325499917281,null,1.2228260869565217,1.1521739130434783,1.0869565217391304,1.0543478260869565,1.0217391304347827,0.95108695652173914,0.88586956521739135,0.76458421368680918,0.78633967237808322,0.81078649438932349,0.82462176229935569,0.83845703020938778,0.87003393890996206,0.90640726647845837,0.9,0.9,0.9,0.9,0.9,0.9,0.78785178593347238,{"$f":"Y17*C17+($A$4-80)*AF17*$A$16/1000","v":16.829163399084656},{"$f":"Z17*E17+($A$4-80)*AG17*$A$16/1000","v":16.308001031493291},{"$f":"AA17*G17+($A$4-80)*AH17*$A$16/1000","v":15.863214020660676},{"$f":"AB17*I17+($A$4-80)*AI17*$A$16/1000","v":15.649886923637773},{"$f":"AC17*K17+($A$4-80)*AJ17*$A$16/1000","v":15.420318425155264},{"$f":"AD17*M17+($A$4-80)*AK17*$A$16/1000","v":14.894602758512937},{"$f":"AE17*O17+($A$4-80)*AL17*$A$16/1000","v":14.45325499917281}]
[null,62,20.64130434782609,20.64130434782609,19.663043478260871,19.663043478260871,18.782608695652172,18.782608695652172,18.293478260869563,18.293478260869563,17.804347826086957,17.804347826086957,16.826086956521738,16.826086956521738,15.945652173913045,15.945652173913045,null,1.1467391304347827,1.0923913043478262,1.0434782608695652,1.0163043478260869,0.98913043478260865,0.93478260869565222,0.88586956521739135,1,1,1,1,1,1,1,0.44300000000000006,0.44300000000000006,0.44300000000000006,0.44300000000000006,0.44300000000000006,0.44300000000000006,0.44300000000000006,20.64130434782609,{"$f":"Z18*E18+($A$4-80)*AG18*$A$16/1000","v":19.663043478260871},{"$f":"AA18*G18+($A$4-80)*AH18*$A$16/1000","v":18.782608695652172},18.293478260869563,17.804347826086957,16.826086956521738,15.945652173913045]
[null,57,20.64130434782609,20.64130434782609,19.663043478260871,19.663043478260871,18.684782608695652,18.684782608695652,18.244565217391301,18.244565217391301,17.804347826086957,17.804347826086957,16.826086956521738,16.826086956521738,15.945652173913045,15.945652173913045,null,1.1467391304347827,1.0923913043478262,1.0380434782608696,1.013586956521739,0.98913043478260865,0.93478260869565222,0.88586956521739135,1,1,1,1,1,1,1,0.44300000000000006,0.44300000000000006,0.44300000000000006,0.44300000000000006,0.44300000000000006,0.44300000000000006,0.44300000000000006,20.64130434782609,{"$f":"Z19*E19+($A$4-80)*AG19*$A$16/1000","v":19.663043478260871},{"$f":"AA19*G19+($A$4-80)*AH19*$A$16/1000","v":18.684782608695652},18.244565217391301,17.804347826086957,16.826086956521738,15.945652173913045]

{"sheet":"4SCU13L_24","index":11,"n_rows":19,"n_cols":45,"rows_kept":19,"cut":false,"hidden":true,"merged":[[2,0,2,1],[2,2,2,15],[3,2,3,3],[3,4,3,5],[3,6,3,7],[3,8,3,9],[3,10,3,11],[3,12,3,13],[3,14,3,15],[5,2,6,2],[5,3,6,3],[5,4,6,4],[5,5,6,5],[5,6,6,6],[5,7,6,7],[5,8,6,8],[4,0,6,0],[4,1,6,1],[4,2,4,3],[4,4,4,5],[4,6,4,7],[4,8,4,9],[5,9,6,9],[5,10,6,10],[5,11,6,11],[5,12,6,12],[5,13,6,13],[5,14,6,14],[5,15,6,15],[4,10,4,11],[4,12,4,13],[4,14,4,15],[7,0,10,0],[11,0,14,0],[15,0,18,0],[22,4,22,15],[23,4,23,5],[23,6,23,7],[23,8,23,9],[23,10,23,11],[23,12,23,13],[23,14,23,15],[25,12,26,12],[25,13,26,13],[25,14,26,14],[25,15,26,15],[27,0,30,0],[31,0,34,0],[24,12,24,13],[24,14,24,15],[25,4,26,4],[25,5,26,5],[25,6,26,6],[25,7,26,7],[25,8,26,8],[25,9,26,9],[25,10,26,10],[25,11,26,11],[24,0,26,0],[24,1,26,1],[24,4,24,5],[24,6,24,7],[24,8,24,9],[24,10,24,11],[35,0,38,0],[41,0,42,1],[41,4,41,15],[42,4,42,5],[42,6,42,7],[42,8,42,9],[42,10,42,11],[42,12,42,13],[42,14,42,15],[44,12,45,12],[44,13,45,13],[44,14,45,14],[44,15,45,15],[46,0,49,0],[50,0,53,0],[43,12,43,13],[43,14,43,15],[44,4,45,4],[44,5,45,5],[44,6,45,6],[44,7,45,7],[44,8,45,8],[44,9,45,9],[44,10,45,10],[44,11,45,11],[43,0,45,0],[43,1,45,1],[43,4,43,5],[43,6,43,7],[43,8,43,9],[43,10,43,11],[54,0,57,0],[60,0,61,1],[60,4,60,15],[61,4,61,5],[61,6,61,7],[61,8,61,9],[61,10,61,11],[61,12,61,13],[61,14,61,15],[63,12,64,12],[63,13,64,13],[63,14,64,14],[63,15,64,15],[65,0,68,0],[69,0,72,0],[62,12,62,13],[62,14,62,15],[63,4,64,4],[63,5,64,5],[63,6,64,6],[63,7,64,7],[63,8,64,8],[63,9,64,9],[63,10,64,10],[63,11,64,11],[62,0,64,0],[62,1,64,1],[62,4,62,5],[62,6,62,7],[62,8,62,9],[62,10,62,11],[73,0,76,0],[79,0,80,1],[79,4,79,15],[80,4,80,5],[80,6,80,7],[80,8,80,9],[80,10,80,11],[80,12,80,13],[80,14,80,15],[82,12,83,12],[82,13,83,13],[82,14,83,14],[82,15,83,15],[84,0,87,0],[88,0,91,0],[81,12,81,13],[81,14,81,15],[82,4,83,4],[82,5,83,5],[82,6,83,6],[82,7,83,7],[82,8,83,8],[82,9,83,9],[82,10,83,10],[82,11,83,11],[81,0,83,0],[81,1,83,1],[81,4,81,5],[81,6,81,7],[81,8,81,9],[81,10,81,11],[92,0,95,0],[98,0,99,1],[98,4,98,15],[99,4,99,5],[99,6,99,7],[99,8,99,9],[99,10,99,11],[99,12,99,13],[99,14,99,15],[101,12,102,12],[101,13,102,13],[101,14,102,14],[101,15,102,15],[103,0,106,0],[107,0,110,0],[100,12,100,13],[100,14,100,15],[101,4,102,4],[101,5,102,5],[101,6,102,6],[101,7,102,7],[101,8,102,8],[101,9,102,9],[101,10,102,10],[101,11,102,11],[100,0,102,0],[100,1,102,1],[100,4,100,5],[100,6,100,7],[100,8,100,9],[100,10,100,11],[111,0,114,0],[117,0,118,1],[117,4,117,15],[118,4,118,5],[118,6,118,7],[118,8,118,9],[118,10,118,11],[118,12,118,13],[118,14,118,15],[130,0,133,0],[120,12,121,12],[120,13,121,13],[120,14,121,14],[120,15,121,15],[122,0,125,0],[126,0,129,0],[119,12,119,13],[119,14,119,15],[120,4,121,4],[120,5,121,5],[120,6,121,6],[120,7,121,7],[120,8,121,8],[120,9,121,9],[120,10,121,10],[120,11,121,11],[119,0,121,0],[119,1,121,1],[119,4,119,5],[119,6,119,7],[119,8,119,9],[119,10,119,11]]}
[]
["4SCU13L_24"]
["Evaporator Air \n",null,"Condenser  Entering Air Temperature ˚F"]
[80,"°F DB",65,null,75,null,85,null,90,null,95,null,105,null,115]
["CFM","EWB†\n˚F","Capacity Mbtuh",null,"Capacity Mbtuh",null,"Capacity Mbtuh",null,"Capacity Mbtuh",null,"Capacity Mbtuh",null,"Capacity Mbtuh",null,"Capacity Mbtuh"]
[null,null,"Total","Sens.","Total","Sens.","Total","Sens.","Total","Sens.","Total","Sens.","Total","Sens.","Total","Sens."]
[null,null,null,null,null,null,null,null,null,null,null,null,null,null,null,null,null,"Total Factors",null,null,null,null,null,null,"Sens. %",null,null,null,null,null,null,"IDB Adj",null,null,null,null,null,null,"Sens Calc"]
[600,72,{"$f":"R8*$K$13","v":22.057377049180328},{"$f":"IF(AM8>C8,C8,AM8)","v":10.783917611459449},{"$f":"S8*$K$13","v":20.950819672131146},{"$f":"IF(AN8>E8,E8,AN8)","v":10.365281938277747},{"$f":"T8*$K$13","v":19.844262295081968},{"$f":"IF(AO8>G8,G8,AO8)","v":9.9466220526988796},{"$f":"U8*$K$13","v":19.290983606557376},{"$f":"IF(AP8>I8,I8,AP8)","v":9.7392850871818109},{"$f":"V8*$K$13","v":18.737704918032787},{"$f":"IF(AQ8>K8,K8,AQ8)","v":9.527933673633763},{"$f":"W8*$K$13","v":17.631147540983608},{"$f":"IF(AR8>M8,M8,AR8)","v":9.1092114475082901},{"$f":"X8*$K$13","v":16.524590163934427},{"$f":"IF(AS8>O8,O8,AS8)","v":8.6904485899798622},null,1.2254098360655739,1.1639344262295082,1.1024590163934427,1.0717213114754098,1.040983606557377,0.97950819672131151,0.91803278688524592,0.48890299093201517,0.49474350409619916,0.50123415548503236,0.50486202703895522,0.50848989859287796,0.51665448470293407,0.52591008332219402,{"$f":"IF(Y8<0.9,0.9,Y8*-3.6846+4.1276)","v":0.9},{"$f":"IF(Z8<0.9,0.9,Z8*-3.6846+4.1276)","v":0.9},0.9,0.9,0.9,0.9,0.9,{"$f":"Y8*C8+($A$4-80)*AF8*$A$8/1000","v":10.783917611459449},{"$f":"Z8*E8+($A$4-80)*AG8*$A$8/1000","v":10.365281938277747},{"$f":"AA8*G8+($A$4-80)*AH8*$A$8/1000","v":9.9466220526988796},{"$f":"AB8*I8+($A$4-80)*AI8*$A$8/1000","v":9.7392850871818109},{"$f":"AC8*K8+($A$4-80)*AJ8*$A$8/1000","v":9.527933673633763},{"$f":"AD8*M8+($A$4-80)*AK8*$A$8/1000","v":9.1092114475082901},{"$f":"AE8*O8+($A$4-80)*AL8*$A$8/1000","v":8.6904485899798622}]
[null,67,20.360655737704917,13.461660746399536,19.327868852459016,{"$f":"IF(AN9>E9,E9,AN9)","v":13.025687899994617},18.295081967213115,{"$f":"IF(AO9>G9,G9,AO9)","v":12.589343370377639},17.778688524590166,{"$f":"IF(AP9>I9,I9,AP9)","v":12.375049302114645},{"$f":"V9*$K$13","v":17.262295081967213},{"$f":"IF(AQ9>K9,K9,AQ9)","v":12.152561440428949},16.303278688524589,{"$f":"IF(AR9>M9,M9,AR9)","v":11.768511111722377},15.270491803278688,{"$f":"IF(AS9>O9,O9,AS9)","v":11.332079040662398},null,1.1311475409836065,1.0737704918032787,1.0163934426229508,0.98770491803278693,0.95901639344262291,0.90573770491803274,0.84836065573770492,0.66116047144152312,0.67393296174696493,0.68812719139160927,0.69606086438819115,0.70399453738477291,0.7218493492358623,0.74208998548621186,{"$f":"IF(Y9<0.9,0.9,Y9*-3.6846+4.1276)","v":0.9},0.9,0.9,0.9,0.9,0.9,0.9,{"$f":"Y9*C9+($A$4-80)*AF9*$A$8/1000","v":13.461660746399536},{"$f":"Z9*E9+($A$4-80)*AG9*$A$8/1000","v":13.025687899994617},{"$f":"AA9*G9+($A$4-80)*AH9*$A$8/1000","v":12.589343370377639},{"$f":"AB9*I9+($A$4-80)*AI9*$A$8/1000","v":12.375049302114645},{"$f":"AC9*K9+($A$4-80)*AJ9*$A$8/1000","v":12.152561440428949},{"$f":"AD9*M9+($A$4-80)*AK9*$A$8/1000","v":11.768511111722377},{"$f":"AE9*O9+($A$4-80)*AL9*$A$8/1000","v":11.332079040662398}]
[null,62,18.590163934426229,15.975565385746972,17.704918032786885,15.593586440668698,16.745901639344261,15.146843044960233,16.303278688524589,14.962883617934366,{"$f":"V10*$K$13","v":15.860655737704919},14.767174091839019,14.901639344262296,14.31911200090205,14.016393442622951,13.942432208690056,null,1.0327868852459017,0.98360655737704916,0.93032786885245899,0.90573770491803274,0.88114754098360659,0.82786885245901642,0.77868852459016391,0.85935580999168015,0.88074886377850981,0.90451045104510452,0.91778371110507428,0.93105697116504404,0.96090850611113865,0.99472323360244841,0.9,0.9,0.79484079207920777,0.74593413806224351,0.69702748404527881,0.58703651838289872,0.46244277346841844,15.975565385746972,{"$f":"Z10*E10+($A$4-80)*AG10*$A$8/1000","v":15.593586440668698},{"$f":"AA10*G10+($A$4-80)*AH10*$A$8/1000","v":15.146843044960233},14.962883617934366,14.767174091839019,14.31911200090205,13.942432208690056]
[null,57,17.778688524590166,17.778688524590166,17.040983606557376,17.040983606557376,16.303278688524589,16.303278688524589,15.934426229508196,15.934426229508196,{"$f":"V11*$K$13","v":15.565573770491804},15.565573770491804,14.827868852459016,14.827868852459016,14.090163934426229,14.090163934426229,null,0.98770491803278693,0.94672131147540983,0.90573770491803274,0.88524590163934425,0.86475409836065575,0.82377049180327866,0.78278688524590168,1,1,1,1,1,1,1,0.44300000000000006,0.44300000000000006,0.44300000000000006,0.44300000000000006,0.44300000000000006,0.44300000000000006,0.44300000000000006,17.778688524590166,{"$f":"Z11*E11+($A$4-80)*AG11*$A$8/1000","v":17.040983606557376},{"$f":"AA11*G11+($A$4-80)*AH11*$A$8/1000","v":16.303278688524589},{"$f":"AB11*I11+($A$4-80)*AI11*$A$8/1000","v":15.934426229508196},15.565573770491804,14.827868852459016,14.090163934426229]
[800,72,23.090163934426229,12.041269908595424,21.909836065573771,11.643154204445624,20.655737704918032,11.205609681858968,20.065573770491802,11.010414026478532,{"$f":"V12*$K$13","v":19.475409836065577},10.807867511024915,18.295081967213115,10.410844083036803,17.040983606557376,9.9715252196993536,null,1.2827868852459017,1.2172131147540983,1.1475409836065573,1.1147540983606556,1.0819672131147542,1.0163934426229508,0.94672131147540983,0.5214891476211011,0.53141220087630603,0.54249380205825171,0.5487216140646981,0.5549494260711445,0.56905151349932348,0.58514962809202564,0.9,0.9,0.9,0.9,0.9,0.9,0.9,{"$f":"Y12*C12+($A$4-80)*AF12*$A$12/1000","v":12.041269908595424},{"$f":"Z12*E12+($A$4-80)*AG12*$A$12/1000","v":11.643154204445624},{"$f":"AA12*G12+($A$4-80)*AH12*$A$12/1000","v":11.205609681858968},{"$f":"AB12*I12+($A$4-80)*AI12*$A$12/1000","v":11.010414026478532},{"$f":"AC12*K12+($A$4-80)*AJ12*$A$12/1000","v":10.807867511024915},{"$f":"AD12*M12+($A$4-80)*AK12*$A$12/1000","v":10.410844083036803},{"$f":"AE12*O12+($A$4-80)*AL12*$A$12/1000","v":9.9715252196993536}]
[null,67,21.319672131147541,15.761721427708792,20.21311475409836,15.148584012279372,19.106557377049178,14.535736051446406,18.553278688524593,14.233008449918398,18,13.923231659756148,16.819672131147541,13.253012091428916,15.713114754098362,12.640203413077391,null,1.1844262295081966,1.1229508196721312,1.0614754098360655,1.0307377049180328,1,0.93442622950819676,0.87295081967213117,0.73930411925431472,0.74944332907464861,0.76077211423271629,0.76714249210958441,0.77351286998645263,0.78794711264830786,0.80443652394128407,0.9,0.9,0.9,0.9,0.9,0.9,0.9,{"$f":"Y13*C13+($A$4-80)*AF13*$A$12/1000","v":15.761721427708792},{"$f":"Z13*E13+($A$4-80)*AG13*$A$12/1000","v":15.148584012279372},{"$f":"AA13*G13+($A$4-80)*AH13*$A$12/1000","v":14.535736051446406},{"$f":"AB13*I13+($A$4-80)*AI13*$A$12/1000","v":14.233008449918398},{"$f":"AC13*K13+($A$4-80)*AJ13*$A$12/1000","v":13.923231659756148},{"$f":"AD13*M13+($A$4-80)*AK13*$A$12/1000","v":13.253012091428916},{"$f":"AE13*O13+($A$4-80)*AL13*$A$12/1000","v":12.640203413077391}]
[null,62,19.401639344262293,18.48138599870467,18.590163934426229,17.976222903447677,17.778688524590166,17.471478222144444,17.372950819672131,17.222851180199168,{"$f":"V14*$K$13","v":16.967213114754099},16.967213114754099,16.081967213114755,16.081967213114755,15.270491803278688,15.270491803278688,null,1.0778688524590163,1.0327868852459017,0.98770491803278693,0.9651639344262295,0.94262295081967218,0.89344262295081966,0.84836065573770492,0.95256826862778632,0.96697495336006034,0.98272030571766811,0.99136015285883405,1,1,1,0.61776695741405874,0.56468408684952154,0.50666876155268037,0.47483438077634021,0.44300000000000006,0.44300000000000006,0.44300000000000006,18.48138599870467,{"$f":"Z14*E14+($A$4-80)*AG14*$A$12/1000","v":17.976222903447677},{"$f":"AA14*G14+($A$4-80)*AH14*$A$12/1000","v":17.471478222144444},17.222851180199168,16.967213114754099,16.081967213114755,15.270491803278688]
[null,57,19.475409836065577,19.475409836065577,18.590163934426229,18.590163934426229,17.778688524590166,17.778688524590166,17.33606557377049,17.33606557377049,16.893442622950818,16.893442622950818,16.081967213114755,16.081967213114755,15.196721311475411,15.196721311475411,null,1.0819672131147542,1.0327868852459017,0.98770491803278693,0.96311475409836067,0.93852459016393441,0.89344262295081966,0.84426229508196726,1,1,1,1,1,1,1,0.44300000000000006,0.44300000000000006,0.44300000000000006,0.44300000000000006,0.44300000000000006,0.44300000000000006,0.44300000000000006,19.475409836065577,{"$f":"Z15*E15+($A$4-80)*AG15*$A$12/1000","v":18.590163934426229},{"$f":"AA15*G15+($A$4-80)*AH15*$A$12/1000","v":17.778688524590166},17.33606557377049,16.893442622950818,16.081967213114755,15.196721311475411]
[1000,72,23.680327868852459,13.297715833707665,22.352459016393446,12.845538162869225,21.098360655737707,12.435345313986639,20.471311475409838,12.235790319907936,19.844262295081968,12.025819260603246,18.590163934426229,11.617097554634491,17.262295081967213,11.161658978049482,null,1.3155737704918034,1.2418032786885247,1.1721311475409837,1.1372950819672132,1.1024590163934427,1.0327868852459017,0.95901639344262291,0.56155117054771031,0.57468120860654393,0.58939865124567592,0.59770427188339059,0.60600989252110526,0.62490560038157317,0.64659183063724446,0.9,0.9,0.9,0.9,0.9,0.9,0.9,{"$f":"Y16*C16+($A$4-80)*AF16*$A$16/1000","v":13.297715833707665},{"$f":"Z16*E16+($A$4-80)*AG16*$A$16/1000","v":12.845538162869225},{"$f":"AA16*G16+($A$4-80)*AH16*$A$16/1000","v":12.435345313986639},{"$f":"AB16*I16+($A$4-80)*AI16*$A$16/1000","v":12.235790319907936},{"$f":"AC16*K16+($A$4-80)*AJ16*$A$16/1000","v":12.025819260603246},{"$f":"AD16*M16+($A$4-80)*AK16*$A$16/1000","v":11.617097554634491},{"$f":"AE16*O16+($A$4-80)*AL16*$A$16/1000","v":11.161658978049482}]
[null,67,21.762295081967213,16.808618043440624,20.655737704918032,16.449728065025329,19.475409836065577,16.032630473480761,18.885245901639344,15.832272052919894,18.295081967213115,15.614071203201888,17.188524590163933,15.259245605881357,16.008196721311478,14.839688302628661,null,1.209016393442623,1.1475409836065573,1.0819672131147542,1.0491803278688525,1.0163934426229508,0.95491803278688525,0.88934426229508201,0.77237340915245056,0.79637572378297239,0.82322429198849012,0.83834079446884857,0.85345729694920713,0.88775773195876284,0.9270056184949802,0.9,0.9,0.9,0.9,0.9,0.9,0.71195509809339619,{"$f":"Y17*C17+($A$4-80)*AF17*$A$16/1000","v":16.808618043440624},{"$f":"Z17*E17+($A$4-80)*AG17*$A$16/1000","v":16.449728065025329},{"$f":"AA17*G17+($A$4-80)*AH17*$A$16/1000","v":16.032630473480761},{"$f":"AB17*I17+($A$4-80)*AI17*$A$16/1000","v":15.832272052919894},{"$f":"AC17*K17+($A$4-80)*AJ17*$A$16/1000","v":15.614071203201888},{"$f":"AD17*M17+($A$4-80)*AK17*$A$16/1000","v":15.259245605881357},{"$f":"AE17*O17+($A$4-80)*AL17*$A$16/1000","v":14.839688302628661}]
[null,62,20.655737704918032,20.655737704918032,19.696721311475407,19.696721311475407,18.737704918032787,18.737704918032787,18.295081967213115,18.295081967213115,17.852459016393443,17.852459016393443,16.893442622950818,16.893442622950818,15.934426229508196,15.934426229508196,null,1.1475409836065573,1.0942622950819672,1.040983606557377,1.0163934426229508,0.99180327868852458,0.93852459016393441,0.88524590163934425,1,1,1,1,1,1,1,0.44300000000000006,0.44300000000000006,0.44300000000000006,0.44300000000000006,0.44300000000000006,0.44300000000000006,0.44300000000000006,20.655737704918032,{"$f":"Z18*E18+($A$4-80)*AG18*$A$16/1000","v":19.696721311475407},{"$f":"AA18*G18+($A$4-80)*AH18*$A$16/1000","v":18.737704918032787},18.295081967213115,17.852459016393443,16.893442622950818,15.934426229508196]
[null,57,20.655737704918032,20.655737704918032,19.696721311475407,19.696721311475407,18.737704918032787,18.737704918032787,18.258196721311478,18.258196721311478,17.778688524590166,17.778688524590166,16.819672131147541,16.819672131147541,15.860655737704919,15.860655737704919,null,1.1475409836065573,1.0942622950819672,1.040983606557377,1.014344262295082,0.98770491803278693,0.93442622950819676,0.88114754098360659,1,1,1,1,1,1,1,0.44300000000000006,0.44300000000000006,0.44300000000000006,0.44300000000000006,0.44300000000000006,0.44300000000000006,0.44300000000000006,20.655737704918032,{"$f":"Z19*E19+($A$4-80)*AG19*$A$16/1000","v":19.696721311475407},{"$f":"AA19*G19+($A$4-80)*AH19*$A$16/1000","v":18.737704918032787},18.258196721311478,17.778688524590166,16.819672131147541,15.860655737704919]

{"sheet":"4SCU13L_30","index":12,"n_rows":19,"n_cols":45,"rows_kept":19,"cut":false,"hidden":true,"merged":[[2,0,2,1],[2,2,2,15],[3,2,3,3],[3,4,3,5],[3,6,3,7],[3,8,3,9],[3,10,3,11],[3,12,3,13],[3,14,3,15],[5,2,6,2],[5,3,6,3],[5,4,6,4],[5,5,6,5],[5,6,6,6],[5,7,6,7],[5,8,6,8],[4,0,6,0],[4,1,6,1],[4,2,4,3],[4,4,4,5],[4,6,4,7],[4,8,4,9],[5,9,6,9],[5,10,6,10],[5,11,6,11],[5,12,6,12],[5,13,6,13],[5,14,6,14],[5,15,6,15],[4,10,4,11],[4,12,4,13],[4,14,4,15],[7,0,10,0],[11,0,14,0],[15,0,18,0],[22,4,22,15],[23,4,23,5],[23,6,23,7],[23,8,23,9],[23,10,23,11],[23,12,23,13],[23,14,23,15],[25,12,26,12],[25,13,26,13],[25,14,26,14],[25,15,26,15],[27,0,30,0],[31,0,34,0],[24,12,24,13],[24,14,24,15],[25,4,26,4],[25,5,26,5],[25,6,26,6],[25,7,26,7],[25,8,26,8],[25,9,26,9],[25,10,26,10],[25,11,26,11],[24,0,26,0],[24,1,26,1],[24,4,24,5],[24,6,24,7],[24,8,24,9],[24,10,24,11],[35,0,38,0],[41,0,42,1],[41,4,41,15],[42,4,42,5],[42,6,42,7],[42,8,42,9],[42,10,42,11],[42,12,42,13],[42,14,42,15],[44,12,45,12],[44,13,45,13],[44,14,45,14],[44,15,45,15],[46,0,49,0],[50,0,53,0],[43,12,43,13],[43,14,43,15],[44,4,45,4],[44,5,45,5],[44,6,45,6],[44,7,45,7],[44,8,45,8],[44,9,45,9],[44,10,45,10],[44,11,45,11],[43,0,45,0],[43,1,45,1],[43,4,43,5],[43,6,43,7],[43,8,43,9],[43,10,43,11],[54,0,57,0],[60,0,61,1],[60,4,60,15],[61,4,61,5],[61,6,61,7],[61,8,61,9],[61,10,61,11],[61,12,61,13],[61,14,61,15],[63,12,64,12],[63,13,64,13],[63,14,64,14],[63,15,64,15],[65,0,68,0],[69,0,72,0],[62,12,62,13],[62,14,62,15],[63,4,64,4],[63,5,64,5],[63,6,64,6],[63,7,64,7],[63,8,64,8],[63,9,64,9],[63,10,64,10],[63,11,64,11],[62,0,64,0],[62,1,64,1],[62,4,62,5],[62,6,62,7],[62,8,62,9],[62,10,62,11],[73,0,76,0],[79,0,80,1],[79,4,79,15],[80,4,80,5],[80,6,80,7],[80,8,80,9],[80,10,80,11],[80,12,80,13],[80,14,80,15],[82,12,83,12],[82,13,83,13],[82,14,83,14],[82,15,83,15],[84,0,87,0],[88,0,91,0],[81,12,81,13],[81,14,81,15],[82,4,83,4],[82,5,83,5],[82,6,83,6],[82,7,83,7],[82,8,83,8],[82,9,83,9],[82,10,83,10],[82,11,83,11],[81,0,83,0],[81,1,83,1],[81,4,81,5],[81,6,81,7],[81,8,81,9],[81,10,81,11],[92,0,95,0],[98,0,99,1],[98,4,98,15],[99,4,99,5],[99,6,99,7],[99,8,99,9],[99,10,99,11],[99,12,99,13],[99,14,99,15],[101,12,102,12],[101,13,102,13],[101,14,102,14],[101,15,102,15],[103,0,106,0],[107,0,110,0],[100,12,100,13],[100,14,100,15],[101,4,102,4],[101,5,102,5],[101,6,102,6],[101,7,102,7],[101,8,102,8],[101,9,102,9],[101,10,102,10],[101,11,102,11],[100,0,102,0],[100,1,102,1],[100,4,100,5],[100,6,100,7],[100,8,100,9],[100,10,100,11],[111,0,114,0],[117,0,118,1],[117,4,117,15],[118,4,118,5],[118,6,118,7],[118,8,118,9],[118,10,118,11],[118,12,118,13],[118,14,118,15],[130,0,133,0],[120,12,121,12],[120,13,121,13],[120,14,121,14],[120,15,121,15],[122,0,125,0],[126,0,129,0],[119,12,119,13],[119,14,119,15],[120,4,121,4],[120,5,121,5],[120,6,121,6],[120,7,121,7],[120,8,121,8],[120,9,121,9],[120,10,121,10],[120,11,121,11],[119,0,121,0],[119,1,121,1],[119,4,119,5],[119,6,119,7],[119,8,119,9],[119,10,119,11]]}
[]
["4SCU13L_30"]
["Evaporator Air \n",null,"Condenser  Entering Air Temperature ˚F"]
[80,"°F DB",65,null,75,null,85,null,90,null,95,null,105,null,115]
["CFM","EWB†\n˚F","Capacity Mbtuh",null,"Capacity Mbtuh",null,"Capacity Mbtuh",null,"Capacity Mbtuh",null,"Capacity Mbtuh",null,"Capacity Mbtuh",null,"Capacity Mbtuh"]
[null,null,"Total","Sens.","Total","Sens.","Total","Sens.","Total","Sens.","Total","Sens.","Total","Sens.","Total","Sens."]
[null,null,null,null,null,null,null,null,null,null,null,null,null,null,null,null,null,"Total Factors",null,null,null,null,null,null,"Sens. %",null,null,null,null,null,null,"IDB Adj",null,null,null,null,null,null,"Sens Calc"]
[800,72,{"$f":"R8*$K$13","v":22.391752577319586},{"$f":"IF(AM8>C8,C8,AM8)","v":11.246127773886968},{"$f":"S8*$K$13","v":21.278350515463917},{"$f":"IF(AN8>E8,E8,AN8)","v":10.834471827553889},{"$f":"T8*$K$13","v":20.103092783505154},{"$f":"IF(AO8>G8,G8,AO8)","v":10.391122531548614},{"$f":"U8*$K$13","v":19.546391752577318},{"$f":"IF(AP8>I8,I8,AP8)","v":10.187734706610557},{"$f":"V8*$K$13","v":18.989690721649485},{"$f":"IF(AQ8>K8,K8,AQ8)","v":9.979541204221448},{"$f":"W8*$K$13","v":17.876288659793815},{"$f":"IF(AR8>M8,M8,AR8)","v":9.568284046644699},{"$f":"X8*$K$13","v":16.762886597938145},{"$f":"IF(AS8>O8,O8,AS8)","v":9.1574168165030745},null,1.2439862542955327,1.1821305841924399,1.1168384879725086,1.0859106529209621,1.0549828178694158,0.99312714776632305,0.93127147766323026,0.50224419616346039,0.50917818181818186,0.51689173618472595,0.52120794648798741,0.52552415679124886,0.53525003029096641,0.54629116310012193,{"$f":"IF(Y8<0.9,0.9,Y8*-3.6846+4.1276)","v":0.9},{"$f":"IF(Z8<0.9,0.9,Z8*-3.6846+4.1276)","v":0.9},0.9,0.9,0.9,0.9,0.9,{"$f":"Y8*C8+($A$4-80)*AF8*$A$8/1000","v":11.246127773886968},{"$f":"Z8*E8+($A$4-80)*AG8*$A$8/1000","v":10.834471827553889},{"$f":"AA8*G8+($A$4-80)*AH8*$A$8/1000","v":10.391122531548614},{"$f":"AB8*I8+($A$4-80)*AI8*$A$8/1000","v":10.187734706610557},{"$f":"AC8*K8+($A$4-80)*AJ8*$A$8/1000","v":9.979541204221448},{"$f":"AD8*M8+($A$4-80)*AK8*$A$8/1000","v":9.568284046644699},{"$f":"AE8*O8+($A$4-80)*AL8*$A$8/1000","v":9.1574168165030745}]
[null,67,20.659793814432987,14.180454497058129,19.60824742268041,{"$f":"IF(AN9>E9,E9,AN9)","v":13.761204200175097},18.556701030927833,{"$f":"IF(AO9>G9,G9,AO9)","v":13.341821078021423},18.030927835051546,{"$f":"IF(AP9>I9,I9,AP9)","v":13.137104584264776},{"$f":"V9*$K$13","v":17.505154639175256},{"$f":"IF(AQ9>K9,K9,AQ9)","v":12.922281297739515},16.453608247422679,{"$f":"IF(AR9>M9,M9,AR9)","v":12.502554961976575},15.402061855670102,{"$f":"IF(AS9>O9,O9,AS9)","v":12.082604048877595},null,1.1477663230240549,1.0893470790378006,1.0309278350515463,1.0017182130584192,0.97250859106529208,0.91408934707903777,0.85567010309278346,0.68637928453824282,0.70180694396266274,0.71897591364893232,0.72858727539947588,0.73819863715001943,0.75986706222539335,0.78447964708241424,{"$f":"IF(Y9<0.9,0.9,Y9*-3.6846+4.1276)","v":0.9},0.9,0.9,0.9,0.9,0.9,0.9,{"$f":"Y9*C9+($A$4-80)*AF9*$A$8/1000","v":14.180454497058129},{"$f":"Z9*E9+($A$4-80)*AG9*$A$8/1000","v":13.761204200175097},{"$f":"AA9*G9+($A$4-80)*AH9*$A$8/1000","v":13.341821078021423},{"$f":"AB9*I9+($A$4-80)*AI9*$A$8/1000","v":13.137104584264776},{"$f":"AC9*K9+($A$4-80)*AJ9*$A$8/1000","v":12.922281297739515},{"$f":"AD9*M9+($A$4-80)*AK9*$A$8/1000","v":12.502554961976575},{"$f":"AE9*O9+($A$4-80)*AL9*$A$8/1000","v":12.082604048877595}]
[null,62,18.927835051546392,17.09247980584793,18,16.54341698178068,17.072164948453608,15.994972725915934,16.577319587628864,15.696450292501604,{"$f":"V10*$K$13","v":16.082474226804123},15.388071144792452,15.154639175257731,14.839832362206016,14.226804123711339,14.226804123711339,null,1.0515463917525774,1,0.94845360824742264,0.92096219931271472,0.89347079037800692,0.84192439862542956,0.7903780068728522,0.90303406381658446,0.91907872121003786,0.93690359566053483,0.94686298406259684,0.95682237246465884,0.97922703342447859,1,0.80028068846141309,0.74116254382949442,0.67548501142919326,0.63878864892295573,0.60209228641671819,0.51954007264416635,0.44300000000000006,17.09247980584793,{"$f":"Z10*E10+($A$4-80)*AG10*$A$8/1000","v":16.54341698178068},{"$f":"AA10*G10+($A$4-80)*AH10*$A$8/1000","v":15.994972725915934},15.696450292501604,15.388071144792452,14.839832362206016,14.226804123711339]
[null,57,18.494845360824741,18.494845360824741,17.690721649484534,17.690721649484534,16.948453608247423,16.948453608247423,16.546391752577318,16.546391752577318,{"$f":"V11*$K$13","v":16.144329896907216},16.144329896907216,15.340206185567009,15.340206185567009,14.597938144329897,14.597938144329897,null,1.0274914089347078,0.98281786941580751,0.94158075601374569,0.91924398625429549,0.89690721649484539,0.85223367697594499,0.81099656357388317,1,1,1,1,1,1,1,0.44300000000000006,0.44300000000000006,0.44300000000000006,0.44300000000000006,0.44300000000000006,0.44300000000000006,0.44300000000000006,18.494845360824741,{"$f":"Z11*E11+($A$4-80)*AG11*$A$8/1000","v":17.690721649484534},{"$f":"AA11*G11+($A$4-80)*AH11*$A$8/1000","v":16.948453608247423},{"$f":"AB11*I11+($A$4-80)*AI11*$A$8/1000","v":16.546391752577318},16.144329896907216,15.340206185567009,14.597938144329897]
[1000,72,23.010309278350512,12.156430612734734,21.83505154639175,11.780826627773495,20.659793814432987,11.40547040191155,20.072164948453608,11.222066799194907,{"$f":"V12*$K$13","v":19.484536082474225},11.030407214039085,18.309278350515463,10.655694091943545,17.072164948453608,10.244286905848089,null,1.2783505154639174,1.2130584192439862,1.1477663230240549,1.1151202749140894,1.0824742268041236,1.0171821305841924,0.94845360824742264,0.52830366014124974,0.53953738569123189,0.55206119210849325,0.5590860192716518,0.56611084643481024,0.58198329218385358,0.60005786827733376,0.9,0.9,0.9,0.9,0.9,0.9,0.9,{"$f":"Y12*C12+($A$4-80)*AF12*$A$12/1000","v":12.156430612734734},{"$f":"Z12*E12+($A$4-80)*AG12*$A$12/1000","v":11.780826627773495},{"$f":"AA12*G12+($A$4-80)*AH12*$A$12/1000","v":11.40547040191155},{"$f":"AB12*I12+($A$4-80)*AI12*$A$12/1000","v":11.222066799194907},{"$f":"AC12*K12+($A$4-80)*AJ12*$A$12/1000","v":11.030407214039085},{"$f":"AD12*M12+($A$4-80)*AK12*$A$12/1000","v":10.655694091943545},{"$f":"AE12*O12+($A$4-80)*AL12*$A$12/1000","v":10.244286905848089}]
[null,67,21.278350515463917,15.871513381297165,20.164948453608247,15.421892256718614,19.051546391752577,14.971300818593912,18.525773195876287,14.776667730856991,18,14.569630266552021,16.88659793814433,14.118171440606014,15.835051546391753,13.718877912873406,null,1.1821305841924399,1.1202749140893471,1.0584192439862543,1.029209621993127,1,0.93814432989690721,0.8797250859106529,0.74589961142724082,0.76478709044054483,0.78583126591104413,0.79762758480418938,0.80942390369733452,0.83605777151329874,0.86636143069578153,0.9,0.9,0.9,0.9,0.9,0.9,0.9,{"$f":"Y13*C13+($A$4-80)*AF13*$A$12/1000","v":15.871513381297165},{"$f":"Z13*E13+($A$4-80)*AG13*$A$12/1000","v":15.421892256718614},{"$f":"AA13*G13+($A$4-80)*AH13*$A$12/1000","v":14.971300818593912},{"$f":"AB13*I13+($A$4-80)*AI13*$A$12/1000","v":14.776667730856991},{"$f":"AC13*K13+($A$4-80)*AJ13*$A$12/1000","v":14.569630266552021},{"$f":"AD13*M13+($A$4-80)*AK13*$A$12/1000","v":14.118171440606014},{"$f":"AE13*O13+($A$4-80)*AL13*$A$12/1000","v":13.718877912873406}]
[null,62,19.793814432989691,19.793814432989691,18.927835051546392,18.927835051546392,18.061855670103093,18.061855670103093,17.597938144329895,17.597938144329895,{"$f":"V14*$K$13","v":17.134020618556701},17.134020618556701,16.268041237113401,16.147614996082456,15.402061855670102,15.161173015290276,null,1.0996563573883162,1.0515463917525774,1.0034364261168385,0.9776632302405498,0.95189003436426112,0.90378006872852235,0.85567010309278346,1.0183006944878934,1.012761780104712,1.0066886190574191,1.0033443095287096,1,0.99259737301647555,0.98435996150144367,0.37556926108990796,0.39597794502617845,0.41835511422103355,0.43067755711051658,0.44300000000000006,0.47027571938349411,0.50062728585178062,20.15605498367789,{"$f":"Z14*E14+($A$4-80)*AG14*$A$12/1000","v":19.169387920332486},{"$f":"AA14*G14+($A$4-80)*AH14*$A$12/1000","v":18.182664542150498},17.656791096551618,17.134020618556701,16.147614996082456,15.161173015290276]
[null,57,19.731958762886599,19.731958762886599,18.865979381443299,18.865979381443299,18,18,17.567010309278349,17.567010309278349,17.134020618556701,17.134020618556701,16.268041237113401,16.268041237113401,15.402061855670102,15.402061855670102,null,1.0962199312714778,1.0481099656357389,1,0.97594501718213056,0.95189003436426112,0.90378006872852235,0.85567010309278346,1,1,1,1,1,1,1,0.44300000000000006,0.44300000000000006,0.44300000000000006,0.44300000000000006,0.44300000000000006,0.44300000000000006,0.44300000000000006,19.731958762886599,{"$f":"Z15*E15+($A$4-80)*AG15*$A$12/1000","v":18.865979381443299},{"$f":"AA15*G15+($A$4-80)*AH15*$A$12/1000","v":18},17.567010309278349,17.134020618556701,16.268041237113401,15.402061855670102]
[1200,72,23.443298969072167,13.289820489644857,22.206185567010309,12.836184657882637,21.030927835051546,12.418795860140337,20.412371134020617,12.196436477292171,19.793814432989691,11.965416529660935,18.556701030927833,11.511755409265099,17.319587628865978,11.057752641354657,null,1.302405498281787,1.2336769759450172,1.168384879725086,1.134020618556701,1.0996563573883162,1.0309278350515463,0.96219931271477666,0.56689207893383953,0.57804545580994238,0.59050156785961405,0.59750219105926294,0.60450281425891184,0.62035570816595265,0.63845357512583445,0.9,0.9,0.9,0.9,0.9,0.9,0.9,{"$f":"Y16*C16+($A$4-80)*AF16*$A$16/1000","v":13.289820489644857},{"$f":"Z16*E16+($A$4-80)*AG16*$A$16/1000","v":12.836184657882637},{"$f":"AA16*G16+($A$4-80)*AH16*$A$16/1000","v":12.418795860140337},{"$f":"AB16*I16+($A$4-80)*AI16*$A$16/1000","v":12.196436477292171},{"$f":"AC16*K16+($A$4-80)*AJ16*$A$16/1000","v":11.965416529660935},{"$f":"AD16*M16+($A$4-80)*AK16*$A$16/1000","v":11.511755409265099},{"$f":"AE16*O16+($A$4-80)*AL16*$A$16/1000","v":11.057752641354657}]
[null,67,21.773195876288657,17.031708814336245,20.536082474226802,16.548277618881251,19.36082474226804,16.114424224530453,18.742268041237114,15.880823574745992,18.123711340206185,15.628659414409382,16.948453608247423,15.195847699841483,15.773195876288661,14.764841093967215,null,1.2096219931271477,1.140893470790378,1.0756013745704467,1.0412371134020619,1.006872852233677,0.94158075601374569,0.87628865979381443,0.78223283853722347,0.80581472340937821,0.83232116601674866,0.84732667037973664,0.86233217474272472,0.89659198715609723,0.93607162491164686,0.9,0.9,0.9,0.9,0.9,0.9,0.67855049085054597,{"$f":"Y17*C17+($A$4-80)*AF17*$A$16/1000","v":17.031708814336245},{"$f":"Z17*E17+($A$4-80)*AG17*$A$16/1000","v":16.548277618881251},{"$f":"AA17*G17+($A$4-80)*AH17*$A$16/1000","v":16.114424224530453},{"$f":"AB17*I17+($A$4-80)*AI17*$A$16/1000","v":15.880823574745992},{"$f":"AC17*K17+($A$4-80)*AJ17*$A$16/1000","v":15.628659414409382},{"$f":"AD17*M17+($A$4-80)*AK17*$A$16/1000","v":15.195847699841483},{"$f":"AE17*O17+($A$4-80)*AL17*$A$16/1000","v":14.764841093967215}]
[null,62,20.659793814432987,20.659793814432987,19.731958762886599,19.731958762886599,18.804123711340207,18.804123711340207,18.340206185567009,18.340206185567009,17.876288659793815,17.876288659793815,16.948453608247423,16.948453608247423,15.958762886597938,15.958762886597938,null,1.1477663230240549,1.0962199312714778,1.0446735395189004,1.0189003436426116,0.99312714776632305,0.94158075601374569,0.88659793814432986,1,1,1,1,1,1,1,0.44300000000000006,0.44300000000000006,0.44300000000000006,0.44300000000000006,0.44300000000000006,0.44300000000000006,0.44300000000000006,20.659793814432987,{"$f":"Z18*E18+($A$4-80)*AG18*$A$16/1000","v":19.731958762886599},{"$f":"AA18*G18+($A$4-80)*AH18*$A$16/1000","v":18.804123711340207},18.340206185567009,17.876288659793815,16.948453608247423,15.958762886597938]
[null,57,20.659793814432987,20.659793814432987,19.731958762886599,19.731958762886599,18.804123711340207,18.804123711340207,18.309278350515463,18.309278350515463,17.814432989690722,17.814432989690722,16.88659793814433,16.88659793814433,15.958762886597938,15.958762886597938,null,1.1477663230240549,1.0962199312714778,1.0446735395189004,1.0171821305841924,0.98969072164948457,0.93814432989690721,0.88659793814432986,1,1,1,1,1,1,1,0.44300000000000006,0.44300000000000006,0.44300000000000006,0.44300000000000006,0.44300000000000006,0.44300000000000006,0.44300000000000006,20.659793814432987,{"$f":"Z19*E19+($A$4-80)*AG19*$A$16/1000","v":19.731958762886599},{"$f":"AA19*G19+($A$4-80)*AH19*$A$16/1000","v":18.804123711340207},18.309278350515463,17.814432989690722,16.88659793814433,15.958762886597938]

{"sheet":"4SCU13L_36","index":13,"n_rows":19,"n_cols":45,"rows_kept":19,"cut":false,"hidden":true,"merged":[[2,0,2,1],[2,2,2,15],[3,2,3,3],[3,4,3,5],[3,6,3,7],[3,8,3,9],[3,10,3,11],[3,12,3,13],[3,14,3,15],[5,2,6,2],[5,3,6,3],[5,4,6,4],[5,5,6,5],[5,6,6,6],[5,7,6,7],[5,8,6,8],[4,0,6,0],[4,1,6,1],[4,2,4,3],[4,4,4,5],[4,6,4,7],[4,8,4,9],[5,9,6,9],[5,10,6,10],[5,11,6,11],[5,12,6,12],[5,13,6,13],[5,14,6,14],[5,15,6,15],[4,10,4,11],[4,12,4,13],[4,14,4,15],[7,0,10,0],[11,0,14,0],[15,0,18,0],[22,4,22,15],[23,4,23,5],[23,6,23,7],[23,8,23,9],[23,10,23,11],[23,12,23,13],[23,14,23,15],[25,12,26,12],[25,13,26,13],[25,14,26,14],[25,15,26,15],[27,0,30,0],[31,0,34,0],[24,12,24,13],[24,14,24,15],[25,4,26,4],[25,5,26,5],[25,6,26,6],[25,7,26,7],[25,8,26,8],[25,9,26,9],[25,10,26,10],[25,11,26,11],[24,0,26,0],[24,1,26,1],[24,4,24,5],[24,6,24,7],[24,8,24,9],[24,10,24,11],[35,0,38,0],[41,0,42,1],[41,4,41,15],[42,4,42,5],[42,6,42,7],[42,8,42,9],[42,10,42,11],[42,12,42,13],[42,14,42,15],[44,12,45,12],[44,13,45,13],[44,14,45,14],[44,15,45,15],[46,0,49,0],[50,0,53,0],[43,12,43,13],[43,14,43,15],[44,4,45,4],[44,5,45,5],[44,6,45,6],[44,7,45,7],[44,8,45,8],[44,9,45,9],[44,10,45,10],[44,11,45,11],[43,0,45,0],[43,1,45,1],[43,4,43,5],[43,6,43,7],[43,8,43,9],[43,10,43,11],[54,0,57,0],[60,0,61,1],[60,4,60,15],[61,4,61,5],[61,6,61,7],[61,8,61,9],[61,10,61,11],[61,12,61,13],[61,14,61,15],[63,12,64,12],[63,13,64,13],[63,14,64,14],[63,15,64,15],[65,0,68,0],[69,0,72,0],[62,12,62,13],[62,14,62,15],[63,4,64,4],[63,5,64,5],[63,6,64,6],[63,7,64,7],[63,8,64,8],[63,9,64,9],[63,10,64,10],[63,11,64,11],[62,0,64,0],[62,1,64,1],[62,4,62,5],[62,6,62,7],[62,8,62,9],[62,10,62,11],[73,0,76,0],[79,0,80,1],[79,4,79,15],[80,4,80,5],[80,6,80,7],[80,8,80,9],[80,10,80,11],[80,12,80,13],[80,14,80,15],[82,12,83,12],[82,13,83,13],[82,14,83,14],[82,15,83,15],[84,0,87,0],[88,0,91,0],[81,12,81,13],[81,14,81,15],[82,4,83,4],[82,5,83,5],[82,6,83,6],[82,7,83,7],[82,8,83,8],[82,9,83,9],[82,10,83,10],[82,11,83,11],[81,0,83,0],[81,1,83,1],[81,4,81,5],[81,6,81,7],[81,8,81,9],[81,10,81,11],[92,0,95,0],[98,0,99,1],[98,4,98,15],[99,4,99,5],[99,6,99,7],[99,8,99,9],[99,10,99,11],[99,12,99,13],[99,14,99,15],[101,12,102,12],[101,13,102,13],[101,14,102,14],[101,15,102,15],[103,0,106,0],[107,0,110,0],[100,12,100,13],[100,14,100,15],[101,4,102,4],[101,5,102,5],[101,6,102,6],[101,7,102,7],[101,8,102,8],[101,9,102,9],[101,10,102,10],[101,11,102,11],[100,0,102,0],[100,1,102,1],[100,4,100,5],[100,6,100,7],[100,8,100,9],[100,10,100,11],[111,0,114,0],[117,0,118,1],[117,4,117,15],[118,4,118,5],[118,6,118,7],[118,8,118,9],[118,10,118,11],[118,12,118,13],[118,14,118,15],[130,0,133,0],[120,12,121,12],[120,13,121,13],[120,14,121,14],[120,15,121,15],[122,0,125,0],[126,0,129,0],[119,12,119,13],[119,14,119,15],[120,4,121,4],[120,5,121,5],[120,6,121,6],[120,7,121,7],[120,8,121,8],[120,9,121,9],[120,10,121,10],[120,11,121,11],[119,0,121,0],[119,1,121,1],[119,4,119,5],[119,6,119,7],[119,8,119,9],[119,10,119,11]]}
[]
["4SCU13L_36"]
["Evaporator Air \n",null,"Condenser  Entering Air Temperature ˚F"]
[80,"°F DB",65,null,75,null,85,null,90,null,95,null,105,null,115]
["CFM","EWB†\n˚F","Capacity Mbtuh",null,"Capacity Mbtuh",null,"Capacity Mbtuh",null,"Capacity Mbtuh",null,"Capacity Mbtuh",null,"Capacity Mbtuh",null,"Capacity Mbtuh"]
[null,null,"Total","Sens.","Total","Sens.","Total","Sens.","Total","Sens.","Total","Sens.","Total","Sens.","Total","Sens."]
[null,null,null,null,null,null,null,null,null,null,null,null,null,null,null,null,null,"Total Factors",null,null,null,null,null,null,"Sens. %",null,null,null,null,null,null,"IDB Adj",null,null,null,null,null,null,"Sens Calc"]
[1000,72,{"$f":"R8*$K$13","v":22.538243626062322},{"$f":"IF(AM8>C8,C8,AM8)","v":11.333826854975911},{"$f":"S8*$K$13","v":21.416430594900849},{"$f":"IF(AN8>E8,E8,AN8)","v":10.939555394032077},{"$f":"T8*$K$13","v":20.243626062322946},{"$f":"IF(AO8>G8,G8,AO8)","v":10.519256418324801},{"$f":"U8*$K$13","v":19.682719546742209},{"$f":"IF(AP8>I8,I8,AP8)","v":10.325154766317056},{"$f":"V8*$K$13","v":19.121813031161473},{"$f":"IF(AQ8>K8,K8,AQ8)","v":10.125503876994484},{"$f":"W8*$K$13","v":17.94900849858357},{"$f":"IF(AR8>M8,M8,AR8)","v":9.7047767906299143},{"$f":"X8*$K$13","v":16.827195467422097},{"$f":"IF(AS8>O8,O8,AS8)","v":9.3116912946941284},null,1.2521246458923512,1.1898016997167138,1.1246458923512748,1.0934844192634561,1.0623229461756374,0.99716713881019825,0.93484419263456087,0.50287089992540179,0.51080199128218562,0.51963301366759795,0.52457968228409912,0.52952635090060041,0.54068595440220324,0.55337155337155342,{"$f":"IF(Y8<0.9,0.9,Y8*-3.6846+4.1276)","v":0.9},{"$f":"IF(Z8<0.9,0.9,Z8*-3.6846+4.1276)","v":0.9},0.9,0.9,0.9,0.9,0.9,{"$f":"Y8*C8+($A$4-80)*AF8*$A$8/1000","v":11.333826854975911},{"$f":"Z8*E8+($A$4-80)*AG8*$A$8/1000","v":10.939555394032077},{"$f":"AA8*G8+($A$4-80)*AH8*$A$8/1000","v":10.519256418324801},{"$f":"AB8*I8+($A$4-80)*AI8*$A$8/1000","v":10.325154766317056},{"$f":"AC8*K8+($A$4-80)*AJ8*$A$8/1000","v":10.125503876994484},{"$f":"AD8*M8+($A$4-80)*AK8*$A$8/1000","v":9.7047767906299143},{"$f":"AE8*O8+($A$4-80)*AL8*$A$8/1000","v":9.3116912946941284}]
[null,67,20.804532577903682,14.357292625195473,19.733711048158639,{"$f":"IF(AN9>E9,E9,AN9)","v":13.932468138272791},18.6628895184136,{"$f":"IF(AO9>G9,G9,AO9)","v":13.507517709880794},18.127478753541077,{"$f":"IF(AP9>I9,I9,AP9)","v":13.300292974500989},{"$f":"V9*$K$13","v":17.592067988668557},{"$f":"IF(AQ9>K9,K9,AQ9)","v":13.082418432115743},16.521246458923514,{"$f":"IF(AR9>M9,M9,AR9)","v":12.65714148275832},15.450424929178471,{"$f":"IF(AS9>O9,O9,AS9)","v":12.231650084896161},null,1.1558073654390935,1.0963172804532577,1.0368271954674222,1.0070821529745042,0.97733711048158645,0.9178470254957507,0.85835694050991507,0.69010407090059944,0.70602372276920689,0.72376347170429867,0.73370892639456931,0.74365438108484005,0.76611298755378709,0.79167078840637051,{"$f":"IF(Y9<0.9,0.9,Y9*-3.6846+4.1276)","v":0.9},0.9,0.9,0.9,0.9,0.9,0.9,{"$f":"Y9*C9+($A$4-80)*AF9*$A$8/1000","v":14.357292625195473},{"$f":"Z9*E9+($A$4-80)*AG9*$A$8/1000","v":13.932468138272791},{"$f":"AA9*G9+($A$4-80)*AH9*$A$8/1000","v":13.507517709880794},{"$f":"AB9*I9+($A$4-80)*AI9*$A$8/1000","v":13.300292974500989},{"$f":"AC9*K9+($A$4-80)*AJ9*$A$8/1000","v":13.082418432115743},{"$f":"AD9*M9+($A$4-80)*AK9*$A$8/1000","v":12.65714148275832},{"$f":"AE9*O9+($A$4-80)*AL9*$A$8/1000","v":12.231650084896161}]
[null,62,19.121813031161473,17.483783696518486,18.152974504249293,16.916384739234111,17.18413597733711,16.3494465840439,16.674220963172804,16.047021497967346,{"$f":"V10*$K$13","v":16.164305949008497},15.733420772940779,15.195467422096318,15.166415427427477,14.226628895184135,14.226628895184135,null,1.0623229461756374,1.0084985835694051,0.95467422096317278,0.92634560906515584,0.89801699716713879,0.84419263456090654,0.79036827195467418,0.91433713257348526,0.93187949640287771,0.95142674648326675,0.96238508134258804,0.97334341620190945,0.9980881144447985,1,0.75863340131973622,0.69399680755395687,0.62197300990775561,0.58159592928510007,0.54121884866244452,0.45004453351669538,0.44300000000000006,17.483783696518486,{"$f":"Z10*E10+($A$4-80)*AG10*$A$8/1000","v":16.916384739234111},{"$f":"AA10*G10+($A$4-80)*AH10*$A$8/1000","v":16.3494465840439},16.047021497967346,15.733420772940779,15.166415427427477,14.226628895184135]
[null,57,18.611898016997166,18.611898016997166,17.847025495750707,17.847025495750707,17.03116147308782,17.03116147308782,16.648725212464587,16.648725212464587,{"$f":"V11*$K$13","v":16.266288951841361},16.266288951841361,15.450424929178471,15.450424929178471,14.634560906515581,14.634560906515581,null,1.0339943342776203,0.99150141643059486,0.94617563739376775,0.92492917847025491,0.90368271954674217,0.85835694050991507,0.81303116147308785,1,1,1,1,1,1,1,0.44300000000000006,0.44300000000000006,0.44300000000000006,0.44300000000000006,0.44300000000000006,0.44300000000000006,0.44300000000000006,18.611898016997166,{"$f":"Z11*E11+($A$4-80)*AG11*$A$8/1000","v":17.847025495750707},{"$f":"AA11*G11+($A$4-80)*AH11*$A$8/1000","v":17.03116147308782},{"$f":"AB11*I11+($A$4-80)*AI11*$A$8/1000","v":16.648725212464587},16.266288951841361,15.450424929178471,14.634560906515581]
[1200,72,23.150141643059492,12.250733089611897,21.926345609065155,11.824269807652533,20.702549575070822,11.39752883201967,20.090651558073652,11.187868118927728,{"$f":"V12*$K$13","v":19.478753541076486},10.970458447849902,18.305949008498587,10.572442951062239,17.08215297450425,10.145333866158476,null,1.2861189801699717,1.2181303116147308,1.1501416430594902,1.1161473087818696,1.0821529745042493,1.0169971671388103,0.94900849858356939,0.52918609650428283,0.53927225350146568,0.55053744905623203,0.55686935222525213,0.56320125539427224,0.5775413744544986,0.59391423793597709,0.9,0.9,0.9,0.9,0.9,0.9,0.9,{"$f":"Y12*C12+($A$4-80)*AF12*$A$12/1000","v":12.250733089611897},{"$f":"Z12*E12+($A$4-80)*AG12*$A$12/1000","v":11.824269807652533},{"$f":"AA12*G12+($A$4-80)*AH12*$A$12/1000","v":11.39752883201967},{"$f":"AB12*I12+($A$4-80)*AI12*$A$12/1000","v":11.187868118927728},{"$f":"AC12*K12+($A$4-80)*AJ12*$A$12/1000","v":10.970458447849902},{"$f":"AD12*M12+($A$4-80)*AK12*$A$12/1000","v":10.572442951062239},{"$f":"AE12*O12+($A$4-80)*AL12*$A$12/1000","v":10.145333866158476}]
[null,67,21.314447592067989,15.773506887016877,20.192634560906516,15.336416757587203,19.121813031161473,14.938597393404713,18.560906515580736,14.726901684567492,18,14.501516225024798,16.878186968838527,14.063796444677925,15.756373937677054,13.625303352409855,null,1.1841359773371105,1.1218130311614731,1.0623229461756374,1.0311614730878187,1,0.93767705382436262,0.87535410764872523,0.74003826835685238,0.75950548757411374,0.78123331553657238,0.79343655290786397,0.80563979027915544,0.83325279371790995,0.8647486665589138,0.9,0.9,0.9,0.9,0.9,0.9,0.9,{"$f":"Y13*C13+($A$4-80)*AF13*$A$12/1000","v":15.773506887016877},{"$f":"Z13*E13+($A$4-80)*AG13*$A$12/1000","v":15.336416757587203},{"$f":"AA13*G13+($A$4-80)*AH13*$A$12/1000","v":14.938597393404713},{"$f":"AB13*I13+($A$4-80)*AI13*$A$12/1000","v":14.726901684567492},{"$f":"AC13*K13+($A$4-80)*AJ13*$A$12/1000","v":14.501516225024798},{"$f":"AD13*M13+($A$4-80)*AK13*$A$12/1000","v":14.063796444677925},{"$f":"AE13*O13+($A$4-80)*AL13*$A$12/1000","v":13.625303352409855}]
[null,62,19.42776203966006,19.053503623437489,18.6628895184136,18.413227293362873,17.847025495750707,17.722465158524425,17.464589235127477,17.403643641556048,{"$f":"V14*$K$13","v":17.08215297450425},17.08215297450425,16.317280453257791,16.317280453257791,15.552407932011333,15.552407932011333,null,1.0793201133144477,1.0368271954674222,0.99150141643059486,0.97025495750708213,0.94900849858356939,0.90651558073654392,0.86402266288951846,0.98073589662779703,0.98662253104995346,0.99302066681890844,0.99651033340945427,1,1,1,0.51398051528521904,0.4922906220933414,0.46871605103905001,0.45585802551952481,0.44300000000000006,0.44300000000000006,0.44300000000000006,19.053503623437489,{"$f":"Z14*E14+($A$4-80)*AG14*$A$12/1000","v":18.413227293362873},{"$f":"AA14*G14+($A$4-80)*AH14*$A$12/1000","v":17.722465158524425},17.403643641556048,17.08215297450425,16.317280453257791,15.552407932011333]
[null,57,19.682719546742209,19.682719546742209,18.815864022662886,18.815864022662886,17.94900849858357,17.94900849858357,17.51558073654391,17.51558073654391,17.08215297450425,17.08215297450425,16.215297450424931,16.215297450424931,15.348441926345608,15.348441926345608,null,1.0934844192634561,1.0453257790368271,0.99716713881019825,0.97308781869688388,0.94900849858356939,0.90084985835694054,0.85269121813031157,1,1,1,1,1,1,1,0.44300000000000006,0.44300000000000006,0.44300000000000006,0.44300000000000006,0.44300000000000006,0.44300000000000006,0.44300000000000006,19.682719546742209,{"$f":"Z15*E15+($A$4-80)*AG15*$A$12/1000","v":18.815864022662886},{"$f":"AA15*G15+($A$4-80)*AH15*$A$12/1000","v":17.94900849858357},17.51558073654391,17.08215297450425,16.215297450424931,15.348441926345608]
[1400,72,23.507082152974505,13.121879746705773,22.232294617563738,12.653644050660331,20.957507082152976,12.185242823584161,20.345609065155809,11.970357709900529,19.733711048158639,11.746998106026595,18.458923512747873,11.278964504574772,17.18413597733711,10.8107585466167,null,1.3059490084985836,1.2351274787535411,1.1643059490084986,1.1303116147308783,1.0963172804532577,1.0254957507082152,0.95467422096317278,0.55820963492252806,0.56915600788520604,0.58142615797853592,0.58835091500903458,0.59527567203953324,0.61103045888810537,0.62911272122579875,0.9,0.9,0.9,0.9,0.9,0.9,0.9,{"$f":"Y16*C16+($A$4-80)*AF16*$A$16/1000","v":13.121879746705773},{"$f":"Z16*E16+($A$4-80)*AG16*$A$16/1000","v":12.653644050660331},{"$f":"AA16*G16+($A$4-80)*AH16*$A$16/1000","v":12.185242823584161},{"$f":"AB16*I16+($A$4-80)*AI16*$A$16/1000","v":11.970357709900529},{"$f":"AC16*K16+($A$4-80)*AJ16*$A$16/1000","v":11.746998106026595},{"$f":"AD16*M16+($A$4-80)*AK16*$A$16/1000","v":11.278964504574772},{"$f":"AE16*O16+($A$4-80)*AL16*$A$16/1000","v":10.8107585466167}]
[null,67,21.773371104815862,16.839189530942271,20.498583569405099,16.21989641559442,19.274787535410766,15.640352062887438,18.6628895184136,15.357783049607965,18.05099150141643,15.061184521585664,16.827195467422097,14.482476678548181,15.603399433427761,13.904337654221917,null,1.2096317280453257,1.1388101983002832,1.0708215297450425,1.0368271954674222,1.0028328611898016,0.93484419263456087,0.86685552407932009,0.77338458293294587,0.79126913138541044,0.81144095799518889,0.82290489018087598,0.83436882236656307,0.86065896759722349,0.89110951197173882,0.9,0.9,0.9,0.9,0.9,0.9,0.9,{"$f":"Y17*C17+($A$4-80)*AF17*$A$16/1000","v":16.839189530942271},{"$f":"Z17*E17+($A$4-80)*AG17*$A$16/1000","v":16.21989641559442},{"$f":"AA17*G17+($A$4-80)*AH17*$A$16/1000","v":15.640352062887438},{"$f":"AB17*I17+($A$4-80)*AI17*$A$16/1000","v":15.357783049607965},{"$f":"AC17*K17+($A$4-80)*AJ17*$A$16/1000","v":15.061184521585664},{"$f":"AD17*M17+($A$4-80)*AK17*$A$16/1000","v":14.482476678548181},{"$f":"AE17*O17+($A$4-80)*AL17*$A$16/1000","v":13.904337654221917}]
[null,62,20.498583569405099,20.498583569405099,19.580736543909349,19.580736543909349,18.611898016997166,18.611898016997166,18.152974504249293,18.152974504249293,17.694050991501417,17.694050991501417,16.776203966005667,16.776203966005667,15.858356940509916,15.858356940509916,null,1.1388101983002832,1.0878186968838528,1.0339943342776203,1.0084985835694051,0.98300283286118983,0.93201133144475923,0.88101983002832862,1,1,1,1,1,1,1,0.44300000000000006,0.44300000000000006,0.44300000000000006,0.44300000000000006,0.44300000000000006,0.44300000000000006,0.44300000000000006,20.498583569405099,{"$f":"Z18*E18+($A$4-80)*AG18*$A$16/1000","v":19.580736543909349},{"$f":"AA18*G18+($A$4-80)*AH18*$A$16/1000","v":18.611898016997166},18.152974504249293,17.694050991501417,16.776203966005667,15.858356940509916]
[null,57,20.447592067988669,20.447592067988669,19.529745042492916,19.529745042492916,18.611898016997166,18.611898016997166,18.152974504249293,18.152974504249293,17.694050991501417,17.694050991501417,16.725212464589234,16.725212464589234,15.807365439093484,15.807365439093484,null,1.1359773371104815,1.0849858356940509,1.0339943342776203,1.0084985835694051,0.98300283286118983,0.92917847025495748,0.87818696883852687,1,1,1,1,1,1,1,0.44300000000000006,0.44300000000000006,0.44300000000000006,0.44300000000000006,0.44300000000000006,0.44300000000000006,0.44300000000000006,20.447592067988669,{"$f":"Z19*E19+($A$4-80)*AG19*$A$16/1000","v":19.529745042492916},{"$f":"AA19*G19+($A$4-80)*AH19*$A$16/1000","v":18.611898016997166},18.152974504249293,17.694050991501417,16.725212464589234,15.807365439093484]

{"sheet":"4SCU13L_42","index":14,"n_rows":19,"n_cols":45,"rows_kept":19,"cut":false,"hidden":true,"merged":[[2,0,2,1],[2,2,2,15],[3,2,3,3],[3,4,3,5],[3,6,3,7],[3,8,3,9],[3,10,3,11],[3,12,3,13],[3,14,3,15],[5,2,6,2],[5,3,6,3],[5,4,6,4],[5,5,6,5],[5,6,6,6],[5,7,6,7],[5,8,6,8],[4,0,6,0],[4,1,6,1],[4,2,4,3],[4,4,4,5],[4,6,4,7],[4,8,4,9],[5,9,6,9],[5,10,6,10],[5,11,6,11],[5,12,6,12],[5,13,6,13],[5,14,6,14],[5,15,6,15],[4,10,4,11],[4,12,4,13],[4,14,4,15],[7,0,10,0],[11,0,14,0],[15,0,18,0],[22,4,22,15],[23,4,23,5],[23,6,23,7],[23,8,23,9],[23,10,23,11],[23,12,23,13],[23,14,23,15],[25,12,26,12],[25,13,26,13],[25,14,26,14],[25,15,26,15],[27,0,30,0],[31,0,34,0],[24,12,24,13],[24,14,24,15],[25,4,26,4],[25,5,26,5],[25,6,26,6],[25,7,26,7],[25,8,26,8],[25,9,26,9],[25,10,26,10],[25,11,26,11],[24,0,26,0],[24,1,26,1],[24,4,24,5],[24,6,24,7],[24,8,24,9],[24,10,24,11],[35,0,38,0],[41,0,42,1],[41,4,41,15],[42,4,42,5],[42,6,42,7],[42,8,42,9],[42,10,42,11],[42,12,42,13],[42,14,42,15],[44,12,45,12],[44,13,45,13],[44,14,45,14],[44,15,45,15],[46,0,49,0],[50,0,53,0],[43,12,43,13],[43,14,43,15],[44,4,45,4],[44,5,45,5],[44,6,45,6],[44,7,45,7],[44,8,45,8],[44,9,45,9],[44,10,45,10],[44,11,45,11],[43,0,45,0],[43,1,45,1],[43,4,43,5],[43,6,43,7],[43,8,43,9],[43,10,43,11],[54,0,57,0],[60,0,61,1],[60,4,60,15],[61,4,61,5],[61,6,61,7],[61,8,61,9],[61,10,61,11],[61,12,61,13],[61,14,61,15],[63,12,64,12],[63,13,64,13],[63,14,64,14],[63,15,64,15],[65,0,68,0],[69,0,72,0],[62,12,62,13],[62,14,62,15],[63,4,64,4],[63,5,64,5],[63,6,64,6],[63,7,64,7],[63,8,64,8],[63,9,64,9],[63,10,64,10],[63,11,64,11],[62,0,64,0],[62,1,64,1],[62,4,62,5],[62,6,62,7],[62,8,62,9],[62,10,62,11],[73,0,76,0],[79,0,80,1],[79,4,79,15],[80,4,80,5],[80,6,80,7],[80,8,80,9],[80,10,80,11],[80,12,80,13],[80,14,80,15],[82,12,83,12],[82,13,83,13],[82,14,83,14],[82,15,83,15],[84,0,87,0],[88,0,91,0],[81,12,81,13],[81,14,81,15],[82,4,83,4],[82,5,83,5],[82,6,83,6],[82,7,83,7],[82,8,83,8],[82,9,83,9],[82,10,83,10],[82,11,83,11],[81,0,83,0],[81,1,83,1],[81,4,81,5],[81,6,81,7],[81,8,81,9],[81,10,81,11],[92,0,95,0],[98,0,99,1],[98,4,98,15],[99,4,99,5],[99,6,99,7],[99,8,99,9],[99,10,99,11],[99,12,99,13],[99,14,99,15],[101,12,102,12],[101,13,102,13],[101,14,102,14],[101,15,102,15],[103,0,106,0],[107,0,110,0],[100,12,100,13],[100,14,100,15],[101,4,102,4],[101,5,102,5],[101,6,102,6],[101,7,102,7],[101,8,102,8],[101,9,102,9],[101,10,102,10],[101,11,102,11],[100,0,102,0],[100,1,102,1],[100,4,100,5],[100,6,100,7],[100,8,100,9],[100,10,100,11],[111,0,114,0],[117,0,118,1],[117,4,117,15],[118,4,118,5],[118,6,118,7],[118,8,118,9],[118,10,118,11],[118,12,118,13],[118,14,118,15],[130,0,133,0],[120,12,121,12],[120,13,121,13],[120,14,121,14],[120,15,121,15],[122,0,125,0],[126,0,129,0],[119,12,119,13],[119,14,119,15],[120,4,121,4],[120,5,121,5],[120,6,121,6],[120,7,121,7],[120,8,121,8],[120,9,121,9],[120,10,121,10],[120,11,121,11],[119,0,121,0],[119,1,121,1],[119,4,119,5],[119,6,119,7],[119,8,119,9],[119,10,119,11]]}
[]
["4SCU13L_42"]
["Evaporator Air \n",null,"Condenser  Entering Air Temperature ˚F"]
[80,"°F DB",65,null,75,null,85,null,90,null,95,null,105,null,115]
["CFM","EWB†\n˚F","Capacity Mbtuh",null,"Capacity Mbtuh",null,"Capacity Mbtuh",null,"Capacity Mbtuh",null,"Capacity Mbtuh",null,"Capacity Mbtuh",null,"Capacity Mbtuh"]
[null,null,"Total","Sens.","Total","Sens.","Total","Sens.","Total","Sens.","Total","Sens.","Total","Sens.","Total","Sens."]
[null,null,null,null,null,null,null,null,null,null,null,null,null,null,null,null,null,"Total Factors",null,null,null,null,null,null,"Sens. %",null,null,null,null,null,null,"IDB Adj",null,null,null,null,null,null,"Sens Calc"]
[1200,72,{"$f":"R8*$K$13","v":22.674757281553397},{"$f":"IF(AM8>C8,C8,AM8)","v":11.520929548197737},{"$f":"S8*$K$13","v":21.538834951456312},{"$f":"IF(AN8>E8,E8,AN8)","v":11.099657755907257},{"$f":"T8*$K$13","v":20.359223300970871},{"$f":"IF(AO8>G8,G8,AO8)","v":10.656002797376448},{"$f":"U8*$K$13","v":19.769417475728154},{"$f":"IF(AP8>I8,I8,AP8)","v":10.436734278683044},{"$f":"V8*$K$13","v":19.179611650485437},{"$f":"IF(AQ8>K8,K8,AQ8)","v":10.212129281591409},{"$f":"W8*$K$13","v":18.043689320388353},{"$f":"IF(AR8>M8,M8,AR8)","v":9.7917034903173814},{"$f":"X8*$K$13","v":16.864077669902912},{"$f":"IF(AS8>O8,O8,AS8)","v":9.3477620542845017},null,1.2597087378640777,1.1966019417475728,1.1310679611650485,1.0983009708737863,1.0655339805825244,1.0024271844660195,0.93689320388349517,0.50809494475031769,0.51533231861998985,0.5233992790318428,0.52792320722129094,0.53244713541073907,0.54266637584217925,0.55430022544116508,{"$f":"IF(Y8<0.9,0.9,Y8*-3.6846+4.1276)","v":0.9},{"$f":"IF(Z8<0.9,0.9,Z8*-3.6846+4.1276)","v":0.9},0.9,0.9,0.9,0.9,0.9,{"$f":"Y8*C8+($A$4-80)*AF8*$A$8/1000","v":11.520929548197737},{"$f":"Z8*E8+($A$4-80)*AG8*$A$8/1000","v":11.099657755907257},{"$f":"AA8*G8+($A$4-80)*AH8*$A$8/1000","v":10.656002797376448},{"$f":"AB8*I8+($A$4-80)*AI8*$A$8/1000","v":10.436734278683044},{"$f":"AC8*K8+($A$4-80)*AJ8*$A$8/1000","v":10.212129281591409},{"$f":"AD8*M8+($A$4-80)*AK8*$A$8/1000","v":9.7917034903173814},{"$f":"AE8*O8+($A$4-80)*AL8*$A$8/1000","v":9.3477620542845017}]
[null,67,20.927184466019419,14.647500957099655,19.83495145631068,{"$f":"IF(AN9>E9,E9,AN9)","v":14.193197859326695},18.78640776699029,{"$f":"IF(AO9>G9,G9,AO9)","v":13.770621408031367},18.240291262135923,{"$f":"IF(AP9>I9,I9,AP9)","v":13.548919713248484},{"$f":"V9*$K$13","v":17.694174757281555},{"$f":"IF(AQ9>K9,K9,AQ9)","v":13.316522984508804},16.601941747572816,{"$f":"IF(AR9>M9,M9,AR9)","v":12.86211430875125},15.509708737864077,{"$f":"IF(AS9>O9,O9,AS9)","v":12.407330343085803},null,1.162621359223301,1.1019417475728155,1.0436893203883495,1.0133495145631068,0.98300970873786409,0.92233009708737868,0.86165048543689315,0.69992697684122684,0.71556504136595667,0.73300982171949913,0.742801719475499,0.75259361723149887,0.77473554023472446,0.79997184684684686,{"$f":"IF(Y9<0.9,0.9,Y9*-3.6846+4.1276)","v":0.9},0.9,0.9,0.9,0.9,0.9,0.9,{"$f":"Y9*C9+($A$4-80)*AF9*$A$8/1000","v":14.647500957099655},{"$f":"Z9*E9+($A$4-80)*AG9*$A$8/1000","v":14.193197859326695},{"$f":"AA9*G9+($A$4-80)*AH9*$A$8/1000","v":13.770621408031367},{"$f":"AB9*I9+($A$4-80)*AI9*$A$8/1000","v":13.548919713248484},{"$f":"AC9*K9+($A$4-80)*AJ9*$A$8/1000","v":13.316522984508804},{"$f":"AD9*M9+($A$4-80)*AK9*$A$8/1000","v":12.86211430875125},{"$f":"AE9*O9+($A$4-80)*AL9*$A$8/1000","v":12.407330343085803}]
[null,62,19.266990291262136,17.810377838693043,18.262135922330096,17.199322665630397,17.300970873786408,16.629228534752162,16.79854368932039,16.32849923492212,{"$f":"V10*$K$13","v":16.296116504854371},16.016871690719942,15.334951456310678,15.334951456310678,14.373786407766989,14.373786407766989,null,1.0703883495145632,1.0145631067961165,0.96116504854368934,0.93325242718446599,0.90533980582524276,0.85194174757281549,0.79854368932038833,0.92439854743531547,0.94180235755445563,0.961173142019906,0.97201873786850346,0.98286433371710091,1,1,0.72156111211983687,0.65743503335485265,0.58606144091345458,0.54609975844971226,0.50613807598596994,0.44300000000000006,0.44300000000000006,17.810377838693043,{"$f":"Z10*E10+($A$4-80)*AG10*$A$8/1000","v":17.199322665630397},{"$f":"AA10*G10+($A$4-80)*AH10*$A$8/1000","v":16.629228534752162},16.32849923492212,16.016871690719942,15.334951456310678,14.373786407766989]
[null,57,18.699029126213592,18.699029126213592,17.912621359223301,17.912621359223301,17.082524271844662,17.082524271844662,16.689320388349515,16.689320388349515,{"$f":"V11*$K$13","v":16.296116504854371},16.296116504854371,15.509708737864077,15.509708737864077,14.723300970873787,14.723300970873787,null,1.0388349514563107,0.99514563106796117,0.94902912621359226,0.92718446601941751,0.90533980582524276,0.86165048543689315,0.81796116504854366,1,1,1,1,1,1,1,0.44300000000000006,0.44300000000000006,0.44300000000000006,0.44300000000000006,0.44300000000000006,0.44300000000000006,0.44300000000000006,18.699029126213592,{"$f":"Z11*E11+($A$4-80)*AG11*$A$8/1000","v":17.912621359223301},{"$f":"AA11*G11+($A$4-80)*AH11*$A$8/1000","v":17.082524271844662},{"$f":"AB11*I11+($A$4-80)*AI11*$A$8/1000","v":16.689320388349515},16.296116504854371,15.509708737864077,14.723300970873787]
[1400,72,23.111650485436893,12.14299460070607,21.888349514563107,11.749484344369629,20.708737864077669,11.379359229038752,20.097087378640776,11.186598940996689,{"$f":"V12*$K$13","v":19.485436893203882},10.98511367462547,18.305825242718448,10.615403600673176,17.126213592233011,10.246332937895026,null,1.2839805825242718,1.2160194174757282,1.1504854368932038,1.116504854368932,1.0825242718446602,1.016990291262136,0.95145631067961167,0.52540577352351403,0.53679169992019149,0.54949554645616105,0.55662787001094638,0.5637601935657317,0.57989210865517737,0.59828361258684104,0.9,0.9,0.9,0.9,0.9,0.9,0.9,{"$f":"Y12*C12+($A$4-80)*AF12*$A$12/1000","v":12.14299460070607},{"$f":"Z12*E12+($A$4-80)*AG12*$A$12/1000","v":11.749484344369629},{"$f":"AA12*G12+($A$4-80)*AH12*$A$12/1000","v":11.379359229038752},{"$f":"AB12*I12+($A$4-80)*AI12*$A$12/1000","v":11.186598940996689},{"$f":"AC12*K12+($A$4-80)*AJ12*$A$12/1000","v":10.98511367462547},{"$f":"AD12*M12+($A$4-80)*AK12*$A$12/1000","v":10.615403600673176},{"$f":"AE12*O12+($A$4-80)*AL12*$A$12/1000","v":10.246332937895026}]
[null,67,21.320388349514563,15.752408321434029,20.184466019417474,15.337627353956332,19.092233009708739,14.955658965714054,18.546116504854368,14.772184737742089,18,14.574321863085554,16.864077669902912,14.15706366288917,15.771844660194176,13.775911605328519,null,1.1844660194174756,1.1213592233009708,1.0606796116504855,1.0303398058252426,1,0.93689320388349517,0.87621359223300976,0.73884246680678733,0.75987283186989052,0.78333733713122167,0.79651094254020949,0.80968454794919742,0.83948045899688228,0.87344961240310082,0.9,0.9,0.9,0.9,0.9,0.9,0.9,{"$f":"Y13*C13+($A$4-80)*AF13*$A$12/1000","v":15.752408321434029},{"$f":"Z13*E13+($A$4-80)*AG13*$A$12/1000","v":15.337627353956332},{"$f":"AA13*G13+($A$4-80)*AH13*$A$12/1000","v":14.955658965714054},{"$f":"AB13*I13+($A$4-80)*AI13*$A$12/1000","v":14.772184737742089},{"$f":"AC13*K13+($A$4-80)*AJ13*$A$12/1000","v":14.574321863085554},{"$f":"AD13*M13+($A$4-80)*AK13*$A$12/1000","v":14.15706366288917},{"$f":"AE13*O13+($A$4-80)*AL13*$A$12/1000","v":13.775911605328519}]
[null,62,19.572815533980581,19.208157643121979,18.699029126213592,18.456082446908674,17.825242718446603,17.703856323950095,17.410194174757279,17.350914176954756,{"$f":"V14*$K$13","v":16.995145631067963},16.995145631067963,16.121359223300971,16.121359223300971,15.24757281553398,15.24757281553398,null,1.087378640776699,1.0388349514563107,0.99029126213592233,0.96723300970873782,0.94417475728155342,0.89563106796116509,0.84708737864077666,0.98136916529839491,0.98700752441931117,0.99319019682290832,0.99659509841145422,1,1,1,0.51164717354153399,0.4908720755246061,0.46809140078631195,0.45554570039315578,0.44300000000000006,0.44300000000000006,0.44300000000000006,19.208157643121979,{"$f":"Z14*E14+($A$4-80)*AG14*$A$12/1000","v":18.456082446908674},{"$f":"AA14*G14+($A$4-80)*AH14*$A$12/1000","v":17.703856323950095},17.350914176954756,16.995145631067963,16.121359223300971,15.24757281553398]
[null,57,19.529126213592235,19.529126213592235,18.699029126213592,18.699029126213592,17.825242718446603,17.825242718446603,17.388349514563107,17.388349514563107,16.95145631067961,16.95145631067961,16.121359223300971,16.121359223300971,15.24757281553398,15.24757281553398,null,1.0849514563106797,1.0388349514563107,0.99029126213592233,0.96601941747572817,0.94174757281553401,0.89563106796116509,0.84708737864077666,1,1,1,1,1,1,1,0.44300000000000006,0.44300000000000006,0.44300000000000006,0.44300000000000006,0.44300000000000006,0.44300000000000006,0.44300000000000006,19.529126213592235,{"$f":"Z15*E15+($A$4-80)*AG15*$A$12/1000","v":18.699029126213592},{"$f":"AA15*G15+($A$4-80)*AH15*$A$12/1000","v":17.825242718446603},17.388349514563107,16.95145631067961,16.121359223300971,15.24757281553398]
[1600,72,23.461165048543688,12.977646967817583,22.194174757281552,12.521326523002079,20.927184466019419,12.06487037613376,20.293689320388353,11.840972995323545,19.660194174757279,11.608252427184464,18.393203883495147,11.151439424414658,17.126213592233011,10.694388334665616,null,1.3033980582524272,1.233009708737864,1.162621359223301,1.1274271844660195,1.0922330097087378,1.0218446601941749,0.95145631067961167,0.55315441244991148,0.56417175497340954,0.57651665448470291,0.58348054946457362,0.59044444444444444,0.60628042265226167,0.62444557736426209,0.9,0.9,0.9,0.9,0.9,0.9,0.9,{"$f":"Y16*C16+($A$4-80)*AF16*$A$16/1000","v":12.977646967817583},{"$f":"Z16*E16+($A$4-80)*AG16*$A$16/1000","v":12.521326523002079},{"$f":"AA16*G16+($A$4-80)*AH16*$A$16/1000","v":12.06487037613376},{"$f":"AB16*I16+($A$4-80)*AI16*$A$16/1000","v":11.840972995323545},{"$f":"AC16*K16+($A$4-80)*AJ16*$A$16/1000","v":11.608252427184464},{"$f":"AD16*M16+($A$4-80)*AK16*$A$16/1000","v":11.151439424414658},{"$f":"AE16*O16+($A$4-80)*AL16*$A$16/1000","v":10.694388334665616}]
[null,67,21.582524271844658,16.239457090120826,20.446601941747574,16.072768351833229,19.310679611650485,15.90644627641716,18.742718446601945,15.835531041855299,18.174757281553397,15.740559963619079,17.038834951456312,15.575197040012567,15.902912621359224,15.410470314298463,null,1.1990291262135921,1.1359223300970873,1.0728155339805825,1.0412621359223302,1.0097087378640777,0.94660194174757284,0.88349514563106801,0.75243548370780267,0.78608506184179605,0.82371240144342261,0.84488976809691563,0.86606713475040875,0.91409988325999669,0.9690344581030168,0.9,0.9,0.9,0.9,0.9,0.75950757014021608,0.5570956356736243,{"$f":"Y17*C17+($A$4-80)*AF17*$A$16/1000","v":16.239457090120826},{"$f":"Z17*E17+($A$4-80)*AG17*$A$16/1000","v":16.072768351833229},{"$f":"AA17*G17+($A$4-80)*AH17*$A$16/1000","v":15.90644627641716},{"$f":"AB17*I17+($A$4-80)*AI17*$A$16/1000","v":15.835531041855299},{"$f":"AC17*K17+($A$4-80)*AJ17*$A$16/1000","v":15.740559963619079},{"$f":"AD17*M17+($A$4-80)*AK17*$A$16/1000","v":15.575197040012567},{"$f":"AE17*O17+($A$4-80)*AL17*$A$16/1000","v":15.410470314298463}]
[null,62,20.228155339805827,20.228155339805827,19.310679611650485,19.310679611650485,18.393203883495147,18.393203883495147,17.934466019417474,17.934466019417474,17.475728155339805,17.475728155339805,16.558252427184467,16.558252427184467,15.640776699029125,15.640776699029125,null,1.1237864077669903,1.0728155339805825,1.0218446601941749,0.99635922330097082,0.970873786407767,0.91990291262135926,0.8689320388349514,1,1,1,1,1,1,1,0.44300000000000006,0.44300000000000006,0.44300000000000006,0.44300000000000006,0.44300000000000006,0.44300000000000006,0.44300000000000006,20.228155339805827,{"$f":"Z18*E18+($A$4-80)*AG18*$A$16/1000","v":19.310679611650485},{"$f":"AA18*G18+($A$4-80)*AH18*$A$16/1000","v":18.393203883495147},17.934466019417474,17.475728155339805,16.558252427184467,15.640776699029125]
[null,57,20.228155339805827,20.228155339805827,19.310679611650485,19.310679611650485,18.393203883495147,18.393203883495147,17.934466019417474,17.934466019417474,17.475728155339805,17.475728155339805,16.558252427184467,16.558252427184467,15.640776699029125,15.640776699029125,null,1.1237864077669903,1.0728155339805825,1.0218446601941749,0.99635922330097082,0.970873786407767,0.91990291262135926,0.8689320388349514,1,1,1,1,1,1,1,0.44300000000000006,0.44300000000000006,0.44300000000000006,0.44300000000000006,0.44300000000000006,0.44300000000000006,0.44300000000000006,20.228155339805827,{"$f":"Z19*E19+($A$4-80)*AG19*$A$16/1000","v":19.310679611650485},{"$f":"AA19*G19+($A$4-80)*AH19*$A$16/1000","v":18.393203883495147},17.934466019417474,17.475728155339805,16.558252427184467,15.640776699029125]

{"sheet":"4SCU13L_48","index":15,"n_rows":19,"n_cols":45,"rows_kept":19,"cut":false,"hidden":true,"merged":[[2,0,2,1],[2,2,2,15],[3,2,3,3],[3,4,3,5],[3,6,3,7],[3,8,3,9],[3,10,3,11],[3,12,3,13],[3,14,3,15],[5,2,6,2],[5,3,6,3],[5,4,6,4],[5,5,6,5],[5,6,6,6],[5,7,6,7],[5,8,6,8],[4,0,6,0],[4,1,6,1],[4,2,4,3],[4,4,4,5],[4,6,4,7],[4,8,4,9],[5,9,6,9],[5,10,6,10],[5,11,6,11],[5,12,6,12],[5,13,6,13],[5,14,6,14],[5,15,6,15],[4,10,4,11],[4,12,4,13],[4,14,4,15],[7,0,10,0],[11,0,14,0],[15,0,18,0],[22,4,22,15],[23,4,23,5],[23,6,23,7],[23,8,23,9],[23,10,23,11],[23,12,23,13],[23,14,23,15],[25,12,26,12],[25,13,26,13],[25,14,26,14],[25,15,26,15],[27,0,30,0],[31,0,34,0],[24,12,24,13],[24,14,24,15],[25,4,26,4],[25,5,26,5],[25,6,26,6],[25,7,26,7],[25,8,26,8],[25,9,26,9],[25,10,26,10],[25,11,26,11],[24,0,26,0],[24,1,26,1],[24,4,24,5],[24,6,24,7],[24,8,24,9],[24,10,24,11],[35,0,38,0],[41,0,42,1],[41,4,41,15],[42,4,42,5],[42,6,42,7],[42,8,42,9],[42,10,42,11],[42,12,42,13],[42,14,42,15],[44,12,45,12],[44,13,45,13],[44,14,45,14],[44,15,45,15],[46,0,49,0],[50,0,53,0],[43,12,43,13],[43,14,43,15],[44,4,45,4],[44,5,45,5],[44,6,45,6],[44,7,45,7],[44,8,45,8],[44,9,45,9],[44,10,45,10],[44,11,45,11],[43,0,45,0],[43,1,45,1],[43,4,43,5],[43,6,43,7],[43,8,43,9],[43,10,43,11],[54,0,57,0],[60,0,61,1],[60,4,60,15],[61,4,61,5],[61,6,61,7],[61,8,61,9],[61,10,61,11],[61,12,61,13],[61,14,61,15],[63,12,64,12],[63,13,64,13],[63,14,64,14],[63,15,64,15],[65,0,68,0],[69,0,72,0],[62,12,62,13],[62,14,62,15],[63,4,64,4],[63,5,64,5],[63,6,64,6],[63,7,64,7],[63,8,64,8],[63,9,64,9],[63,10,64,10],[63,11,64,11],[62,0,64,0],[62,1,64,1],[62,4,62,5],[62,6,62,7],[62,8,62,9],[62,10,62,11],[73,0,76,0],[79,0,80,1],[79,4,79,15],[80,4,80,5],[80,6,80,7],[80,8,80,9],[80,10,80,11],[80,12,80,13],[80,14,80,15],[82,12,83,12],[82,13,83,13],[82,14,83,14],[82,15,83,15],[84,0,87,0],[88,0,91,0],[81,12,81,13],[81,14,81,15],[82,4,83,4],[82,5,83,5],[82,6,83,6],[82,7,83,7],[82,8,83,8],[82,9,83,9],[82,10,83,10],[82,11,83,11],[81,0,83,0],[81,1,83,1],[81,4,81,5],[81,6,81,7],[81,8,81,9],[81,10,81,11],[92,0,95,0],[98,0,99,1],[98,4,98,15],[99,4,99,5],[99,6,99,7],[99,8,99,9],[99,10,99,11],[99,12,99,13],[99,14,99,15],[101,12,102,12],[101,13,102,13],[101,14,102,14],[101,15,102,15],[103,0,106,0],[107,0,110,0],[100,12,100,13],[100,14,100,15],[101,4,102,4],[101,5,102,5],[101,6,102,6],[101,7,102,7],[101,8,102,8],[101,9,102,9],[101,10,102,10],[101,11,102,11],[100,0,102,0],[100,1,102,1],[100,4,100,5],[100,6,100,7],[100,8,100,9],[100,10,100,11],[111,0,114,0],[117,0,118,1],[117,4,117,15],[118,4,118,5],[118,6,118,7],[118,8,118,9],[118,10,118,11],[118,12,118,13],[118,14,118,15],[130,0,133,0],[120,12,121,12],[120,13,121,13],[120,14,121,14],[120,15,121,15],[122,0,125,0],[126,0,129,0],[119,12,119,13],[119,14,119,15],[120,4,121,4],[120,5,121,5],[120,6,121,6],[120,7,121,7],[120,8,121,8],[120,9,121,9],[120,10,121,10],[120,11,121,11],[119,0,121,0],[119,1,121,1],[119,4,119,5],[119,6,119,7],[119,8,119,9],[119,10,119,11]]}
[]
["4SCU13L_48"]
["Evaporator Air \n",null,"Condenser  Entering Air Temperature ˚F"]
[80,"°F DB",65,null,75,null,85,null,90,null,95,null,105,null,115]
["CFM","EWB†\n˚F","Capacity Mbtuh",null,"Capacity Mbtuh",null,"Capacity Mbtuh",null,"Capacity Mbtuh",null,"Capacity Mbtuh",null,"Capacity Mbtuh",null,"Capacity Mbtuh"]
[null,null,"Total","Sens.","Total","Sens.","Total","Sens.","Total","Sens.","Total","Sens.","Total","Sens.","Total","Sens."]
[null,null,null,null,null,null,null,null,null,null,null,null,null,null,null,null,null,"Total Factors",null,null,null,null,null,null,"Sens. %",null,null,null,null,null,null,"IDB Adj",null,null,null,null,null,null,"Sens Calc"]
[1400,72,{"$f":"R8*$K$13","v":22.72689075630252},{"$f":"IF(AM8>C8,C8,AM8)","v":11.558358515888957},{"$f":"S8*$K$13","v":21.554621848739494},{"$f":"IF(AN8>E8,E8,AN8)","v":11.121368210501178},{"$f":"T8*$K$13","v":20.382352941176471},{"$f":"IF(AO8>G8,G8,AO8)","v":10.684531279083034},{"$f":"U8*$K$13","v":19.79621848739496},{"$f":"IF(AP8>I8,I8,AP8)","v":10.468916995414137},{"$f":"V8*$K$13","v":19.210084033613445},{"$f":"IF(AQ8>K8,K8,AQ8)","v":10.247876063954751},{"$f":"W8*$K$13","v":18},{"$f":"IF(AR8>M8,M8,AR8)","v":9.7908692959343284},{"$f":"X8*$K$13","v":16.827731092436974},{"$f":"IF(AS8>O8,O8,AS8)","v":9.3542432027637581},null,1.2626050420168067,1.1974789915966386,1.1323529411764706,1.0997899159663866,1.0672268907563025,1,0.93487394957983194,0.50857632220032756,0.51596211191019115,0.52420499781936958,0.52883418123921566,0.53346336465906186,0.54393718310746264,0.55588261729282762,{"$f":"IF(Y8<0.9,0.9,Y8*-3.6846+4.1276)","v":0.9},{"$f":"IF(Z8<0.9,0.9,Z8*-3.6846+4.1276)","v":0.9},0.9,0.9,0.9,0.9,0.9,{"$f":"Y8*C8+($A$4-80)*AF8*$A$8/1000","v":11.558358515888957},{"$f":"Z8*E8+($A$4-80)*AG8*$A$8/1000","v":11.121368210501178},{"$f":"AA8*G8+($A$4-80)*AH8*$A$8/1000","v":10.684531279083034},{"$f":"AB8*I8+($A$4-80)*AI8*$A$8/1000","v":10.468916995414137},{"$f":"AC8*K8+($A$4-80)*AJ8*$A$8/1000","v":10.247876063954751},{"$f":"AD8*M8+($A$4-80)*AK8*$A$8/1000","v":9.7908692959343284},{"$f":"AE8*O8+($A$4-80)*AL8*$A$8/1000","v":9.3542432027637581}]
[null,67,20.949579831932773,14.286185129394411,19.890756302521009,{"$f":"IF(AN9>E9,E9,AN9)","v":13.881924863499307},18.831932773109244,{"$f":"IF(AO9>G9,G9,AO9)","v":13.477779915035429},18.30252100840336,{"$f":"IF(AP9>I9,I9,AP9)","v":13.281044473899048},{"$f":"V9*$K$13","v":17.77310924369748},{"$f":"IF(AQ9>K9,K9,AQ9)","v":13.073770968375003},16.714285714285715,{"$f":"IF(AR9>M9,M9,AR9)","v":12.669923969316015},15.655462184873951,{"$f":"IF(AS9>O9,O9,AS9)","v":12.266271911608246},null,1.1638655462184875,1.1050420168067228,1.046218487394958,1.0168067226890756,0.98739495798319332,0.9285714285714286,0.86974789915966388,0.68193182125869833,0.69790834759459974,0.71568755461366174,0.72564017097979194,0.73559278734592215,0.758029639189847,0.78351387948544349,{"$f":"IF(Y9<0.9,0.9,Y9*-3.6846+4.1276)","v":0.9},0.9,0.9,0.9,0.9,0.9,0.9,{"$f":"Y9*C9+($A$4-80)*AF9*$A$8/1000","v":14.286185129394411},{"$f":"Z9*E9+($A$4-80)*AG9*$A$8/1000","v":13.881924863499307},{"$f":"AA9*G9+($A$4-80)*AH9*$A$8/1000","v":13.477779915035429},{"$f":"AB9*I9+($A$4-80)*AI9*$A$8/1000","v":13.281044473899048},{"$f":"AC9*K9+($A$4-80)*AJ9*$A$8/1000","v":13.073770968375003},{"$f":"AD9*M9+($A$4-80)*AK9*$A$8/1000","v":12.669923969316015},{"$f":"AE9*O9+($A$4-80)*AL9*$A$8/1000","v":12.266271911608246}]
[null,62,19.247899159663866,17.276599028823213,18.30252100840336,16.833718441793437,17.319327731092436,16.356407595132719,16.827731092436974,16.124245145393164,{"$f":"V10*$K$13","v":16.336134453781511},15.878521656864267,15.390756302521007,15.390756302521007,14.407563025210084,14.407563025210084,null,1.069327731092437,1.0168067226890756,0.96218487394957986,0.93487394957983194,0.90756302521008403,0.85504201680672265,0.80042016806722693,0.89758362123115576,0.91974862009798852,0.94440199117942447,0.95819484259764631,0.97198769401586826,1,1,0.9,0.73869423438695136,0.64785642330029258,0.59703528296471253,0.54621414262913204,0.44300000000000006,0.44300000000000006,17.276599028823213,{"$f":"Z10*E10+($A$4-80)*AG10*$A$8/1000","v":16.833718441793437},{"$f":"AA10*G10+($A$4-80)*AH10*$A$8/1000","v":16.356407595132719},16.124245145393164,15.878521656864267,15.390756302521007,14.407563025210084]
[null,57,18.756302521008404,18.756302521008404,17.962184873949582,17.962184873949582,17.168067226890756,17.168067226890756,16.771008403361346,16.771008403361346,{"$f":"V11*$K$13","v":16.373949579831933},16.373949579831933,15.579831932773111,15.579831932773111,14.785714285714285,14.785714285714285,null,1.0420168067226891,0.99789915966386555,0.95378151260504207,0.93172268907563027,0.90966386554621848,0.86554621848739499,0.8214285714285714,1,1,1,1,1,1,1,0.44300000000000006,0.44300000000000006,0.44300000000000006,0.44300000000000006,0.44300000000000006,0.44300000000000006,0.44300000000000006,18.756302521008404,{"$f":"Z11*E11+($A$4-80)*AG11*$A$8/1000","v":17.962184873949582},{"$f":"AA11*G11+($A$4-80)*AH11*$A$8/1000","v":17.168067226890756},{"$f":"AB11*I11+($A$4-80)*AI11*$A$8/1000","v":16.771008403361346},16.373949579831933,15.579831932773111,14.785714285714285]
[1600,72,23.105042016806724,12.164804716322386,21.894957983193276,11.757752336963168,20.684873949579831,11.350862630954705,20.079831932773111,11.151511883728581,{"$f":"V12*$K$13","v":19.474789915966387},10.944166127989657,18.264705882352942,10.537701507109542,17.016806722689076,10.109053945963918,null,1.2836134453781514,1.2163865546218486,1.1491596638655461,1.115546218487395,1.0819327731092436,1.0147058823529411,0.94537815126050417,0.52650000408887576,0.53700730305070699,0.54875183956270968,0.55535882576426077,0.56196581196581197,0.57694339974512787,0.59406292324429943,0.9,0.9,0.9,0.9,0.9,0.9,0.9,{"$f":"Y12*C12+($A$4-80)*AF12*$A$12/1000","v":12.164804716322386},{"$f":"Z12*E12+($A$4-80)*AG12*$A$12/1000","v":11.757752336963168},{"$f":"AA12*G12+($A$4-80)*AH12*$A$12/1000","v":11.350862630954705},{"$f":"AB12*I12+($A$4-80)*AI12*$A$12/1000","v":11.151511883728581},{"$f":"AC12*K12+($A$4-80)*AJ12*$A$12/1000","v":10.944166127989657},{"$f":"AD12*M12+($A$4-80)*AK12*$A$12/1000","v":10.537701507109542},{"$f":"AE12*O12+($A$4-80)*AL12*$A$12/1000","v":10.109053945963918}]
[null,67,21.365546218487395,15.272338947966375,20.231092436974791,14.820214178832043,19.134453781512605,14.396052643385032,18.567226890756306,14.176199609839768,18,13.943704575053566,16.865546218487395,13.490774525680161,15.768907563025209,13.068477412563297,null,1.1869747899159664,1.1239495798319328,1.0630252100840336,1.0315126050420169,1,0.93697478991596639,0.87605042016806722,0.71481153778092377,0.73254641216241456,0.7523628742041365,0.76350656418688945,0.7746502541696425,0.79990142927550523,0.82874970002399806,0.9,0.9,0.9,0.9,0.9,0.9,0.9,{"$f":"Y13*C13+($A$4-80)*AF13*$A$12/1000","v":15.272338947966375},{"$f":"Z13*E13+($A$4-80)*AG13*$A$12/1000","v":14.820214178832043},{"$f":"AA13*G13+($A$4-80)*AH13*$A$12/1000","v":14.396052643385032},{"$f":"AB13*I13+($A$4-80)*AI13*$A$12/1000","v":14.176199609839768},{"$f":"AC13*K13+($A$4-80)*AJ13*$A$12/1000","v":13.943704575053566},{"$f":"AD13*M13+($A$4-80)*AK13*$A$12/1000","v":13.490774525680161},{"$f":"AE13*O13+($A$4-80)*AL13*$A$12/1000","v":13.068477412563297}]
[null,62,19.436974789915965,18.577827710021147,18.605042016806724,18.032218773087742,17.77310924369748,17.486665613685513,17.357142857142858,17.217273042062548,{"$f":"V14*$K$13","v":16.941176470588236},16.941176470588236,16.109243697478991,16.109243697478991,15.277310924369747,15.277310924369747,null,1.0798319327731092,1.0336134453781514,0.98739495798319332,0.9642857142857143,0.94117647058823528,0.89495798319327735,0.84873949579831931,0.95579831279399763,0.96921139746948559,0.98388331348868852,0.9919416567443442,1,1,1,0.60586553667923626,0.55644368488393336,0.50238354311957822,0.47269177155978959,0.44300000000000006,0.44300000000000006,0.44300000000000006,18.577827710021147,{"$f":"Z14*E14+($A$4-80)*AG14*$A$12/1000","v":18.032218773087742},{"$f":"AA14*G14+($A$4-80)*AH14*$A$12/1000","v":17.486665613685513},17.217273042062548,16.941176470588236,16.109243697478991,15.277310924369747]
[null,57,19.474789915966387,19.474789915966387,18.605042016806724,18.605042016806724,17.77310924369748,17.77310924369748,17.357142857142858,17.357142857142858,16.941176470588236,16.941176470588236,16.071428571428573,16.071428571428573,15.239495798319327,15.239495798319327,null,1.0819327731092436,1.0336134453781514,0.98739495798319332,0.9642857142857143,0.94117647058823528,0.8928571428571429,0.84663865546218486,1,1,1,1,1,1,1,0.44300000000000006,0.44300000000000006,0.44300000000000006,0.44300000000000006,0.44300000000000006,0.44300000000000006,0.44300000000000006,19.474789915966387,{"$f":"Z15*E15+($A$4-80)*AG15*$A$12/1000","v":18.605042016806724},{"$f":"AA15*G15+($A$4-80)*AH15*$A$12/1000","v":17.77310924369748},17.357142857142858,16.941176470588236,16.071428571428573,15.239495798319327]
[1800,72,23.369747899159666,12.674550300683357,22.1218487394958,12.29445308349459,20.873949579831933,11.914280554974477,20.25,11.729426999147664,19.626050420168067,11.534018383748862,18.3781512605042,11.153648355915363,17.130252100840334,10.773146964752593,null,1.2983193277310925,1.2289915966386555,1.1596638655462186,1.125,1.0903361344537814,1.0210084033613445,0.95168067226890751,0.54234861049310301,0.55576065220735271,0.57077269969483202,0.57923096292087228,0.58768922614691266,0.60689718991949171,0.62889599647071803,0.9,0.9,0.9,0.9,0.9,0.9,0.9,{"$f":"Y16*C16+($A$4-80)*AF16*$A$16/1000","v":12.674550300683357},{"$f":"Z16*E16+($A$4-80)*AG16*$A$16/1000","v":12.29445308349459},{"$f":"AA16*G16+($A$4-80)*AH16*$A$16/1000","v":11.914280554974477},{"$f":"AB16*I16+($A$4-80)*AI16*$A$16/1000","v":11.729426999147664},{"$f":"AC16*K16+($A$4-80)*AJ16*$A$16/1000","v":11.534018383748862},{"$f":"AD16*M16+($A$4-80)*AK16*$A$16/1000","v":11.153648355915363},{"$f":"AE16*O16+($A$4-80)*AL16*$A$16/1000","v":10.773146964752593}]
[null,67,21.592436974789916,16.023434169401149,20.457983193277311,15.600550959048363,19.285714285714285,15.148619645429688,18.718487394957986,14.944730090837581,18.15126050420168,14.726194591879517,16.978991596638654,14.272787137750003,15.844537815126049,13.850879287931079,null,1.1995798319327731,1.1365546218487395,1.0714285714285714,1.0399159663865547,1.0084033613445378,0.94327731092436973,0.88025210084033612,0.74208548984578204,0.76256544018351002,0.78548398161487276,0.79839411035226571,0.81130423908965865,0.84061453570514744,0.87417376571933092,0.9,0.9,0.9,0.9,0.9,0.9,0.9,{"$f":"Y17*C17+($A$4-80)*AF17*$A$16/1000","v":16.023434169401149},{"$f":"Z17*E17+($A$4-80)*AG17*$A$16/1000","v":15.600550959048363},{"$f":"AA17*G17+($A$4-80)*AH17*$A$16/1000","v":15.148619645429688},{"$f":"AB17*I17+($A$4-80)*AI17*$A$16/1000","v":14.944730090837581},{"$f":"AC17*K17+($A$4-80)*AJ17*$A$16/1000","v":14.726194591879517},{"$f":"AD17*M17+($A$4-80)*AK17*$A$16/1000","v":14.272787137750003},{"$f":"AE17*O17+($A$4-80)*AL17*$A$16/1000","v":13.850879287931079}]
[null,62,20.079831932773111,20.079831932773111,19.210084033613445,19.210084033613445,18.30252100840336,18.30252100840336,17.84873949579832,17.84873949579832,17.394957983193276,17.394957983193276,16.487394957983192,16.487394957983192,15.579831932773111,15.579831932773111,null,1.115546218487395,1.0672268907563025,1.0168067226890756,0.99159663865546221,0.96638655462184875,0.91596638655462181,0.86554621848739499,1,1,1,1,1,1,1,0.44300000000000006,0.44300000000000006,0.44300000000000006,0.44300000000000006,0.44300000000000006,0.44300000000000006,0.44300000000000006,20.079831932773111,{"$f":"Z18*E18+($A$4-80)*AG18*$A$16/1000","v":19.210084033613445},{"$f":"AA18*G18+($A$4-80)*AH18*$A$16/1000","v":18.30252100840336},17.84873949579832,17.394957983193276,16.487394957983192,15.579831932773111]
[null,57,20.079831932773111,20.079831932773111,19.172268907563026,19.172268907563026,18.264705882352942,18.264705882352942,17.810924369747902,17.810924369747902,17.357142857142858,17.357142857142858,16.487394957983192,16.487394957983192,15.579831932773111,15.579831932773111,null,1.115546218487395,1.0651260504201681,1.0147058823529411,0.98949579831932777,0.9642857142857143,0.91596638655462181,0.86554621848739499,1,1,1,1,1,1,1,0.44300000000000006,0.44300000000000006,0.44300000000000006,0.44300000000000006,0.44300000000000006,0.44300000000000006,0.44300000000000006,20.079831932773111,{"$f":"Z19*E19+($A$4-80)*AG19*$A$16/1000","v":19.172268907563026},{"$f":"AA19*G19+($A$4-80)*AH19*$A$16/1000","v":18.264705882352942},17.810924369747902,17.357142857142858,16.487394957983192,15.579831932773111]

{"sheet":"4SCU13L_60","index":16,"n_rows":19,"n_cols":45,"rows_kept":19,"cut":false,"hidden":true,"merged":[[2,0,2,1],[2,2,2,15],[3,2,3,3],[3,4,3,5],[3,6,3,7],[3,8,3,9],[3,10,3,11],[3,12,3,13],[3,14,3,15],[5,2,6,2],[5,3,6,3],[5,4,6,4],[5,5,6,5],[5,6,6,6],[5,7,6,7],[5,8,6,8],[4,0,6,0],[4,1,6,1],[4,2,4,3],[4,4,4,5],[4,6,4,7],[4,8,4,9],[5,9,6,9],[5,10,6,10],[5,11,6,11],[5,12,6,12],[5,13,6,13],[5,14,6,14],[5,15,6,15],[4,10,4,11],[4,12,4,13],[4,14,4,15],[7,0,10,0],[11,0,14,0],[15,0,18,0],[22,4,22,15],[23,4,23,5],[23,6,23,7],[23,8,23,9],[23,10,23,11],[23,12,23,13],[23,14,23,15],[25,12,26,12],[25,13,26,13],[25,14,26,14],[25,15,26,15],[27,0,30,0],[31,0,34,0],[24,12,24,13],[24,14,24,15],[25,4,26,4],[25,5,26,5],[25,6,26,6],[25,7,26,7],[25,8,26,8],[25,9,26,9],[25,10,26,10],[25,11,26,11],[24,0,26,0],[24,1,26,1],[24,4,24,5],[24,6,24,7],[24,8,24,9],[24,10,24,11],[35,0,38,0],[41,0,42,1],[41,4,41,15],[42,4,42,5],[42,6,42,7],[42,8,42,9],[42,10,42,11],[42,12,42,13],[42,14,42,15],[44,12,45,12],[44,13,45,13],[44,14,45,14],[44,15,45,15],[46,0,49,0],[50,0,53,0],[43,12,43,13],[43,14,43,15],[44,4,45,4],[44,5,45,5],[44,6,45,6],[44,7,45,7],[44,8,45,8],[44,9,45,9],[44,10,45,10],[44,11,45,11],[43,0,45,0],[43,1,45,1],[43,4,43,5],[43,6,43,7],[43,8,43,9],[43,10,43,11],[54,0,57,0],[60,0,61,1],[60,4,60,15],[61,4,61,5],[61,6,61,7],[61,8,61,9],[61,10,61,11],[61,12,61,13],[61,14,61,15],[63,12,64,12],[63,13,64,13],[63,14,64,14],[63,15,64,15],[65,0,68,0],[69,0,72,0],[62,12,62,13],[62,14,62,15],[63,4,64,4],[63,5,64,5],[63,6,64,6],[63,7,64,7],[63,8,64,8],[63,9,64,9],[63,10,64,10],[63,11,64,11],[62,0,64,0],[62,1,64,1],[62,4,62,5],[62,6,62,7],[62,8,62,9],[62,10,62,11],[73,0,76,0],[79,0,80,1],[79,4,79,15],[80,4,80,5],[80,6,80,7],[80,8,80,9],[80,10,80,11],[80,12,80,13],[80,14,80,15],[82,12,83,12],[82,13,83,13],[82,14,83,14],[82,15,83,15],[84,0,87,0],[88,0,91,0],[81,12,81,13],[81,14,81,15],[82,4,83,4],[82,5,83,5],[82,6,83,6],[82,7,83,7],[82,8,83,8],[82,9,83,9],[82,10,83,10],[82,11,83,11],[81,0,83,0],[81,1,83,1],[81,4,81,5],[81,6,81,7],[81,8,81,9],[81,10,81,11],[92,0,95,0],[98,0,99,1],[98,4,98,15],[99,4,99,5],[99,6,99,7],[99,8,99,9],[99,10,99,11],[99,12,99,13],[99,14,99,15],[101,12,102,12],[101,13,102,13],[101,14,102,14],[101,15,102,15],[103,0,106,0],[107,0,110,0],[100,12,100,13],[100,14,100,15],[101,4,102,4],[101,5,102,5],[101,6,102,6],[101,7,102,7],[101,8,102,8],[101,9,102,9],[101,10,102,10],[101,11,102,11],[100,0,102,0],[100,1,102,1],[100,4,100,5],[100,6,100,7],[100,8,100,9],[100,10,100,11],[111,0,114,0],[117,0,118,1],[117,4,117,15],[118,4,118,5],[118,6,118,7],[118,8,118,9],[118,10,118,11],[118,12,118,13],[118,14,118,15],[130,0,133,0],[120,12,121,12],[120,13,121,13],[120,14,121,14],[120,15,121,15],[122,0,125,0],[126,0,129,0],[119,12,119,13],[119,14,119,15],[120,4,121,4],[120,5,121,5],[120,6,121,6],[120,7,121,7],[120,8,121,8],[120,9,121,9],[120,10,121,10],[120,11,121,11],[119,0,121,0],[119,1,121,1],[119,4,119,5],[119,6,119,7],[119,8,119,9],[119,10,119,11]]}
[]
["4SCU13L_60"]
["Evaporator Air \n",null,"Condenser  Entering Air Temperature ˚F"]
[80,"°F DB",65,null,75,null,85,null,90,null,95,null,105,null,115]
["CFM","EWB†\n˚F","Capacity Mbtuh",null,"Capacity Mbtuh",null,"Capacity Mbtuh",null,"Capacity Mbtuh",null,"Capacity Mbtuh",null,"Capacity Mbtuh",null,"Capacity Mbtuh"]
[null,null,"Total","Sens.","Total","Sens.","Total","Sens.","Total","Sens.","Total","Sens.","Total","Sens.","Total","Sens."]
[null,null,null,null,null,null,null,null,null,null,null,null,null,null,null,null,null,"Total Factors",null,null,null,null,null,null,"Sens. %",null,null,null,null,null,null,"IDB Adj",null,null,null,null,null,null,"Sens Calc"]
[1600,72,{"$f":"R8*$K$13","v":22.471153846153847},{"$f":"IF(AM8>C8,C8,AM8)","v":11.096313783512743},{"$f":"S8*$K$13","v":21.346153846153847},{"$f":"IF(AN8>E8,E8,AN8)","v":10.651451074928044},{"$f":"T8*$K$13","v":20.25},{"$f":"IF(AO8>G8,G8,AO8)","v":10.220906630581867},{"$f":"U8*$K$13","v":19.70192307692308},{"$f":"IF(AP8>I8,I8,AP8)","v":10.007434862003525},{"$f":"V8*$K$13","v":19.153846153846153},{"$f":"IF(AQ8>K8,K8,AQ8)","v":9.7904489304007232},{"$f":"W8*$K$13","v":18.057692307692307},{"$f":"IF(AR8>M8,M8,AR8)","v":9.3600938866105512},{"$f":"X8*$K$13","v":16.932692307692307},{"$f":"IF(AS8>O8,O8,AS8)","v":8.9146747174160765},null,1.2483974358974359,1.1858974358974359,1.125,1.0945512820512822,1.0641025641025641,1.0032051282051282,0.94070512820512819,0.49380258172243274,0.49898689720383627,0.50473612990527739,0.50794203301530816,0.51114793612533893,0.51834385740548317,0.52647709858675296,{"$f":"IF(Y8<0.9,0.9,Y8*-3.6846+4.1276)","v":0.9},{"$f":"IF(Z8<0.9,0.9,Z8*-3.6846+4.1276)","v":0.9},0.9,0.9,0.9,0.9,0.9,{"$f":"Y8*C8+($A$4-80)*AF8*$A$8/1000","v":11.096313783512743},{"$f":"Z8*E8+($A$4-80)*AG8*$A$8/1000","v":10.651451074928044},{"$f":"AA8*G8+($A$4-80)*AH8*$A$8/1000","v":10.220906630581867},{"$f":"AB8*I8+($A$4-80)*AI8*$A$8/1000","v":10.007434862003525},{"$f":"AC8*K8+($A$4-80)*AJ8*$A$8/1000","v":9.7904489304007232},{"$f":"AD8*M8+($A$4-80)*AK8*$A$8/1000","v":9.3600938866105512},{"$f":"AE8*O8+($A$4-80)*AL8*$A$8/1000","v":8.9146747174160765}]
[null,67,20.740384615384613,13.839905019764812,19.730769230769234,{"$f":"IF(AN9>E9,E9,AN9)","v":13.428473583524244},18.721153846153847,{"$f":"IF(AO9>G9,G9,AO9)","v":13.017015099445128},18.216346153846153,{"$f":"IF(AP9>I9,I9,AP9)","v":12.815409970856598},{"$f":"V9*$K$13","v":17.71153846153846},{"$f":"IF(AQ9>K9,K9,AQ9)","v":12.605524947009215},16.701923076923077,{"$f":"IF(AR9>M9,M9,AR9)","v":12.193997389736284},15.692307692307693,{"$f":"IF(AS9>O9,O9,AS9)","v":11.78242521662051},null,1.1522435897435896,1.0961538461538463,1.0400641025641026,1.0120192307692308,0.98397435897435892,0.92788461538461542,0.87179487179487181,0.66729259251531781,0.6805854057926517,0.69531051378648856,0.7035115529000191,0.71171259201354964,0.73009541078444073,0.75084082262777752,{"$f":"IF(Y9<0.9,0.9,Y9*-3.6846+4.1276)","v":0.9},0.9,0.9,0.9,0.9,0.9,0.9,{"$f":"Y9*C9+($A$4-80)*AF9*$A$8/1000","v":13.839905019764812},{"$f":"Z9*E9+($A$4-80)*AG9*$A$8/1000","v":13.428473583524244},{"$f":"AA9*G9+($A$4-80)*AH9*$A$8/1000","v":13.017015099445128},{"$f":"AB9*I9+($A$4-80)*AI9*$A$8/1000","v":12.815409970856598},{"$f":"AC9*K9+($A$4-80)*AJ9*$A$8/1000","v":12.605524947009215},{"$f":"AD9*M9+($A$4-80)*AK9*$A$8/1000","v":12.193997389736284},{"$f":"AE9*O9+($A$4-80)*AL9*$A$8/1000","v":11.78242521662051}]
[null,62,19.03846153846154,16.593596690928916,18.115384615384613,16.04234357929186,17.192307692307693,15.49082116163385,16.745192307692307,15.23199234881065,{"$f":"V10*$K$13","v":16.298076923076923},14.965471664185072,15.375,14.413819103727123,14.451923076923077,13.861795677392626,null,1.0576923076923077,1.0064102564102564,0.95512820512820518,0.93028846153846156,0.90544871794871795,0.85416666666666663,0.80288461538461542,0.87158285649323586,0.88556461371887141,0.90103210336125295,0.90963376645208593,0.91823542954291892,0.93748416934810552,0.95916616796329546,0.9,0.9,0.80765711195512768,0.77596342413064434,0.744269736306161,0.67334582961997036,0.59345633752244176,16.593596690928916,{"$f":"Z10*E10+($A$4-80)*AG10*$A$8/1000","v":16.04234357929186},{"$f":"AA10*G10+($A$4-80)*AH10*$A$8/1000","v":15.49082116163385},15.23199234881065,14.965471664185072,14.413819103727123,13.861795677392626]
[null,57,18.288461538461537,18.288461538461537,17.567307692307693,17.567307692307693,16.817307692307693,16.817307692307693,16.45673076923077,16.45673076923077,{"$f":"V11*$K$13","v":16.096153846153847},16.096153846153847,15.346153846153845,15.346153846153845,14.625,14.625,null,1.016025641025641,0.97596153846153844,0.93429487179487181,0.91426282051282048,0.89423076923076927,0.85256410256410253,0.8125,1,1,1,1,1,1,1,0.44300000000000006,0.44300000000000006,0.44300000000000006,0.44300000000000006,0.44300000000000006,0.44300000000000006,0.44300000000000006,18.288461538461537,{"$f":"Z11*E11+($A$4-80)*AG11*$A$8/1000","v":17.567307692307693},{"$f":"AA11*G11+($A$4-80)*AH11*$A$8/1000","v":16.817307692307693},{"$f":"AB11*I11+($A$4-80)*AI11*$A$8/1000","v":16.45673076923077},16.096153846153847,15.346153846153845,14.625]
[1800,72,22.846153846153847,11.530051581071989,21.721153846153847,11.133454290722691,20.596153846153847,10.737005199267534,20.01923076923077,10.534025689542894,{"$f":"V12*$K$13","v":19.44230769230769},10.325410621407061,18.31730769230769,9.9290254288610811,17.192307692307693,9.532845758759688,null,1.2692307692307692,1.2067307692307692,1.1442307692307692,1.1121794871794872,1.0801282051282051,1.0176282051282051,0.95512820512820518,0.50468239243749446,0.51256274733738816,0.52131117680850769,0.52619532743153741,0.53107947805456701,0.54205703128690419,0.55448319849608918,0.9,0.9,0.9,0.9,0.9,0.9,0.9,{"$f":"Y12*C12+($A$4-80)*AF12*$A$12/1000","v":11.530051581071989},{"$f":"Z12*E12+($A$4-80)*AG12*$A$12/1000","v":11.133454290722691},{"$f":"AA12*G12+($A$4-80)*AH12*$A$12/1000","v":10.737005199267534},{"$f":"AB12*I12+($A$4-80)*AI12*$A$12/1000","v":10.534025689542894},{"$f":"AC12*K12+($A$4-80)*AJ12*$A$12/1000","v":10.325410621407061},{"$f":"AD12*M12+($A$4-80)*AK12*$A$12/1000","v":9.9290254288610811},{"$f":"AE12*O12+($A$4-80)*AL12*$A$12/1000","v":9.532845758759688}]
[null,67,21.14423076923077,14.665479834743262,20.10576923076923,14.255957560405172,19.03846153846154,13.825990664513908,18.519230769230766,13.62647940915125,18,13.417011450014432,16.932692307692307,12.986542736389429,15.894230769230768,12.578253389966676,null,1.1746794871794872,1.1169871794871795,1.0576923076923077,1.0288461538461537,1,0.94070512820512819,0.88301282051282048,0.69359249786871269,0.70904810439126631,0.72621365106537694,0.73580158803308937,0.7453895250008018,0.76695084871351549,0.79137226409953687,0.9,0.9,0.9,0.9,0.9,0.9,0.9,{"$f":"Y13*C13+($A$4-80)*AF13*$A$12/1000","v":14.665479834743262},{"$f":"Z13*E13+($A$4-80)*AG13*$A$12/1000","v":14.255957560405172},{"$f":"AA13*G13+($A$4-80)*AH13*$A$12/1000","v":13.825990664513908},{"$f":"AB13*I13+($A$4-80)*AI13*$A$12/1000","v":13.62647940915125},{"$f":"AC13*K13+($A$4-80)*AJ13*$A$12/1000","v":13.417011450014432},{"$f":"AD13*M13+($A$4-80)*AK13*$A$12/1000","v":12.986542736389429},{"$f":"AE13*O13+($A$4-80)*AL13*$A$12/1000","v":12.578253389966676}]
[null,62,19.44230769230769,17.263903116369637,18.490384615384613,16.845603419123201,17.567307692307693,16.45410632331733,17.091346153846153,16.25191767074519,{"$f":"V14*$K$13","v":16.615384615384617},16.036160740530921,15.663461538461538,15.618016292218419,14.711538461538462,14.711538461538462,null,1.0801282051282051,1.0272435897435896,0.97596153846153844,0.94951923076923073,0.92307692307692313,0.87019230769230771,0.81730769230769229,0.88795545207835924,0.91104667477317369,0.93663221544882436,0.95088575963853716,0.96513930382824986,0.99709864603481624,1,0.9,0.77075742213076426,0.67648493895726203,0.62396633003584601,0.57144772111443043,0.45369032882011595,0.44300000000000006,17.263903116369637,{"$f":"Z14*E14+($A$4-80)*AG14*$A$12/1000","v":16.845603419123201},{"$f":"AA14*G14+($A$4-80)*AH14*$A$12/1000","v":16.45410632331733},16.25191767074519,16.036160740530921,15.618016292218419,14.711538461538462]
[null,57,19.009615384615387,19.009615384615387,18.23076923076923,18.23076923076923,17.423076923076923,17.423076923076923,17.033653846153847,17.033653846153847,16.64423076923077,16.64423076923077,15.865384615384615,15.865384615384615,15.086538461538462,15.086538461538462,null,1.0560897435897436,1.0128205128205128,0.96794871794871795,0.94631410256410253,0.92467948717948723,0.88141025641025639,0.83814102564102566,1,1,1,1,1,1,1,0.44300000000000006,0.44300000000000006,0.44300000000000006,0.44300000000000006,0.44300000000000006,0.44300000000000006,0.44300000000000006,19.009615384615387,{"$f":"Z15*E15+($A$4-80)*AG15*$A$12/1000","v":18.23076923076923},{"$f":"AA15*G15+($A$4-80)*AH15*$A$12/1000","v":17.423076923076923},17.033653846153847,16.64423076923077,15.865384615384615,15.086538461538462]
[2000,72,23.16346153846154,12.007117383207994,22.009615384615387,11.609895421113391,20.82692307692308,11.197444060541855,20.25,11.002249611433578,19.67307692307692,10.800503364221377,18.490384615384613,10.387707537610099,17.336538461538463,9.991119669497655,null,1.2868589743589745,1.2227564102564104,1.1570512820512822,1.125,1.0929487179487178,1.0272435897435896,0.96314102564102566,0.51836455286576644,0.52749197195097974,0.53764274344245278,0.54332096846585576,0.54899919348925874,0.56178969522176314,0.57630418504035275,0.9,0.9,0.9,0.9,0.9,0.9,0.9,{"$f":"Y16*C16+($A$4-80)*AF16*$A$16/1000","v":12.007117383207994},{"$f":"Z16*E16+($A$4-80)*AG16*$A$16/1000","v":11.609895421113391},{"$f":"AA16*G16+($A$4-80)*AH16*$A$16/1000","v":11.197444060541855},{"$f":"AB16*I16+($A$4-80)*AI16*$A$16/1000","v":11.002249611433578},{"$f":"AC16*K16+($A$4-80)*AJ16*$A$16/1000","v":10.800503364221377},{"$f":"AD16*M16+($A$4-80)*AK16*$A$16/1000","v":10.387707537610099},{"$f":"AE16*O16+($A$4-80)*AL16*$A$16/1000","v":9.991119669497655}]
[null,67,21.403846153846153,15.376337859093868,20.33653846153846,14.987534577316842,19.26923076923077,14.598876631541133,18.735576923076923,14.410792009722662,18.201923076923077,14.21038968718225,17.134615384615383,13.822105830764048,16.067307692307693,13.43406571197997,null,1.1891025641025641,1.1298076923076923,1.0705128205128205,1.0408653846153846,1.0112179487179487,0.95192307692307687,0.89262820512820518,0.71839134651651493,0.73697569552763675,0.75762633217578734,0.76916724096030631,0.78070814974482516,0.80667733243516337,0.83611180972227217,0.9,0.9,0.9,0.9,0.9,0.9,0.9,{"$f":"Y17*C17+($A$4-80)*AF17*$A$16/1000","v":15.376337859093868},{"$f":"Z17*E17+($A$4-80)*AG17*$A$16/1000","v":14.987534577316842},{"$f":"AA17*G17+($A$4-80)*AH17*$A$16/1000","v":14.598876631541133},{"$f":"AB17*I17+($A$4-80)*AI17*$A$16/1000","v":14.410792009722662},{"$f":"AC17*K17+($A$4-80)*AJ17*$A$16/1000","v":14.21038968718225},{"$f":"AD17*M17+($A$4-80)*AK17*$A$16/1000","v":13.822105830764048},{"$f":"AE17*O17+($A$4-80)*AL17*$A$16/1000","v":13.43406571197997}]
[null,62,19.615384615384613,18.203471428232156,18.80769230769231,17.865633691089467,17.971153846153847,17.500452613957485,17.567307692307693,17.337245854099361,17.16346153846154,17.16346153846154,16.326923076923077,16.326923076923077,15.490384615384617,15.490384615384617,null,1.0897435897435896,1.0448717948717949,0.9983974358974359,0.97596153846153844,0.95352564102564108,0.90705128205128205,0.86057692307692313,0.92802011202752177,0.94991099380025779,0.97380795711694945,0.98690397855847478,1,1,1,0.70821709522339349,0.62755795224357014,0.539507201206888,0.49125360060344381,0.44300000000000006,0.44300000000000006,0.44300000000000006,18.203471428232156,{"$f":"Z18*E18+($A$4-80)*AG18*$A$16/1000","v":17.865633691089467},{"$f":"AA18*G18+($A$4-80)*AH18*$A$16/1000","v":17.500452613957485},17.337245854099361,17.16346153846154,16.326923076923077,15.490384615384617]
[null,57,19.615384615384613,19.615384615384613,18.778846153846153,18.778846153846153,17.942307692307693,17.942307692307693,17.538461538461537,17.538461538461537,17.134615384615383,17.134615384615383,16.298076923076923,16.298076923076923,15.46153846153846,15.46153846153846,null,1.0897435897435896,1.0432692307692308,0.99679487179487181,0.97435897435897434,0.95192307692307687,0.90544871794871795,0.85897435897435892,1,1,1,1,1,1,1,0.44300000000000006,0.44300000000000006,0.44300000000000006,0.44300000000000006,0.44300000000000006,0.44300000000000006,0.44300000000000006,19.615384615384613,{"$f":"Z19*E19+($A$4-80)*AG19*$A$16/1000","v":18.778846153846153},{"$f":"AA19*G19+($A$4-80)*AH19*$A$16/1000","v":17.942307692307693},17.538461538461537,17.134615384615383,16.298076923076923,15.46153846153846]

{"sheet":"4SCU14L_18","index":17,"n_rows":19,"n_cols":45,"rows_kept":19,"cut":false,"hidden":true,"merged":[[2,0,2,1],[2,2,2,15],[3,2,3,3],[3,4,3,5],[3,6,3,7],[3,8,3,9],[3,10,3,11],[3,12,3,13],[3,14,3,15],[5,2,6,2],[5,3,6,3],[5,4,6,4],[5,5,6,5],[5,6,6,6],[5,7,6,7],[5,8,6,8],[4,0,6,0],[4,1,6,1],[4,2,4,3],[4,4,4,5],[4,6,4,7],[4,8,4,9],[5,9,6,9],[5,10,6,10],[5,11,6,11],[5,12,6,12],[5,13,6,13],[5,14,6,14],[5,15,6,15],[4,10,4,11],[4,12,4,13],[4,14,4,15],[7,0,10,0],[11,0,14,0],[15,0,18,0],[22,4,22,15],[23,4,23,5],[23,6,23,7],[23,8,23,9],[23,10,23,11],[23,12,23,13],[23,14,23,15],[25,12,26,12],[25,13,26,13],[25,14,26,14],[25,15,26,15],[27,0,30,0],[31,0,34,0],[24,12,24,13],[24,14,24,15],[25,4,26,4],[25,5,26,5],[25,6,26,6],[25,7,26,7],[25,8,26,8],[25,9,26,9],[25,10,26,10],[25,11,26,11],[24,0,26,0],[24,1,26,1],[24,4,24,5],[24,6,24,7],[24,8,24,9],[24,10,24,11],[35,0,38,0],[41,0,42,1],[41,4,41,15],[42,4,42,5],[42,6,42,7],[42,8,42,9],[42,10,42,11],[42,12,42,13],[42,14,42,15],[44,12,45,12],[44,13,45,13],[44,14,45,14],[44,15,45,15],[46,0,49,0],[50,0,53,0],[43,12,43,13],[43,14,43,15],[44,4,45,4],[44,5,45,5],[44,6,45,6],[44,7,45,7],[44,8,45,8],[44,9,45,9],[44,10,45,10],[44,11,45,11],[43,0,45,0],[43,1,45,1],[43,4,43,5],[43,6,43,7],[43,8,43,9],[43,10,43,11],[54,0,57,0],[60,0,61,1],[60,4,60,15],[61,4,61,5],[61,6,61,7],[61,8,61,9],[61,10,61,11],[61,12,61,13],[61,14,61,15],[63,12,64,12],[63,13,64,13],[63,14,64,14],[63,15,64,15],[65,0,68,0],[69,0,72,0],[62,12,62,13],[62,14,62,15],[63,4,64,4],[63,5,64,5],[63,6,64,6],[63,7,64,7],[63,8,64,8],[63,9,64,9],[63,10,64,10],[63,11,64,11],[62,0,64,0],[62,1,64,1],[62,4,62,5],[62,6,62,7],[62,8,62,9],[62,10,62,11],[73,0,76,0],[79,0,80,1],[79,4,79,15],[80,4,80,5],[80,6,80,7],[80,8,80,9],[80,10,80,11],[80,12,80,13],[80,14,80,15],[82,12,83,12],[82,13,83,13],[82,14,83,14],[82,15,83,15],[84,0,87,0],[88,0,91,0],[81,12,81,13],[81,14,81,15],[82,4,83,4],[82,5,83,5],[82,6,83,6],[82,7,83,7],[82,8,83,8],[82,9,83,9],[82,10,83,10],[82,11,83,11],[81,0,83,0],[81,1,83,1],[81,4,81,5],[81,6,81,7],[81,8,81,9],[81,10,81,11],[92,0,95,0],[98,0,99,1],[98,4,98,15],[99,4,99,5],[99,6,99,7],[99,8,99,9],[99,10,99,11],[99,12,99,13],[99,14,99,15],[101,12,102,12],[101,13,102,13],[101,14,102,14],[101,15,102,15],[103,0,106,0],[107,0,110,0],[100,12,100,13],[100,14,100,15],[101,4,102,4],[101,5,102,5],[101,6,102,6],[101,7,102,7],[101,8,102,8],[101,9,102,9],[101,10,102,10],[101,11,102,11],[100,0,102,0],[100,1,102,1],[100,4,100,5],[100,6,100,7],[100,8,100,9],[100,10,100,11],[111,0,114,0],[117,0,118,1],[117,4,117,15],[118,4,118,5],[118,6,118,7],[118,8,118,9],[118,10,118,11],[118,12,118,13],[118,14,118,15],[130,0,133,0],[120,12,121,12],[120,13,121,13],[120,14,121,14],[120,15,121,15],[122,0,125,0],[126,0,129,0],[119,12,119,13],[119,14,119,15],[120,4,121,4],[120,5,121,5],[120,6,121,6],[120,7,121,7],[120,8,121,8],[120,9,121,9],[120,10,121,10],[120,11,121,11],[119,0,121,0],[119,1,121,1],[119,4,119,5],[119,6,119,7],[119,8,119,9],[119,10,119,11]]}
[]
["4SCU14L_18"]
["Evaporator Air \n",null,"Condenser  Entering Air Temperature ˚F"]
[80,"°F DB",65,null,75,null,85,null,90,null,95,null,105,null,115]
["CFM","EWB†\n˚F","Capacity Mbtuh",null,"Capacity Mbtuh",null,"Capacity Mbtuh",null,"Capacity Mbtuh",null,"Capacity Mbtuh",null,"Capacity Mbtuh",null,"Capacity Mbtuh"]
[null,null,"Total","Sens.","Total","Sens.","Total","Sens.","Total","Sens.","Total","Sens.","Total","Sens.","Total","Sens."]
[null,null,null,null,null,null,null,null,null,null,null,null,null,null,null,null,null,"Total Factors",null,null,null,null,null,null,"Sens. %",null,null,null,null,null,null,"IDB Adj",null,null,null,null,null,null,"Sens Calc"]
[450,72,{"$f":"R8*$K$13","v":22.095238095238095},{"$f":"IF(AM8>C8,C8,AM8)","v":10.737597199506469},{"$f":"S8*$K$13","v":20.952380952380953},{"$f":"IF(AN8>E8,E8,AN8)","v":10.306974332382682},{"$f":"T8*$K$13","v":19.80952380952381},{"$f":"IF(AO8>G8,G8,AO8)","v":9.876253523571954},{"$f":"U8*$K$13","v":19.285714285714285},{"$f":"IF(AP8>I8,I8,AP8)","v":9.6868801887146461},{"$f":"V8*$K$13","v":18.761904761904763},{"$f":"IF(AQ8>K8,K8,AQ8)","v":9.4936078237523382},{"$f":"W8*$K$13","v":17.61904761904762},{"$f":"IF(AR8>M8,M8,AR8)","v":9.0634335866755418},{"$f":"X8*$K$13","v":16.476190476190474},{"$f":"IF(AS8>O8,O8,AS8)","v":8.6332031422392852},null,1.2275132275132274,1.164021164021164,1.1005291005291005,1.0714285714285714,1.0423280423280423,0.97883597883597884,0.91534391534391535,0.48596883877076696,0.49192377495462797,0.49856087498800727,0.50228267645187052,0.50600447791573377,0.51441109545996311,0.52398053753475438,{"$f":"IF(Y8<0.9,0.9,Y8*-3.6846+4.1276)","v":0.9},{"$f":"IF(Z8<0.9,0.9,Z8*-3.6846+4.1276)","v":0.9},0.9,0.9,0.9,0.9,0.9,{"$f":"Y8*C8+($A$4-80)*AF8*$A$8/1000","v":10.737597199506469},{"$f":"Z8*E8+($A$4-80)*AG8*$A$8/1000","v":10.306974332382682},{"$f":"AA8*G8+($A$4-80)*AH8*$A$8/1000","v":9.876253523571954},{"$f":"AB8*I8+($A$4-80)*AI8*$A$8/1000","v":9.6868801887146461},{"$f":"AC8*K8+($A$4-80)*AJ8*$A$8/1000","v":9.4936078237523382},{"$f":"AD8*M8+($A$4-80)*AK8*$A$8/1000","v":9.0634335866755418},{"$f":"AE8*O8+($A$4-80)*AL8*$A$8/1000","v":8.6332031422392852}]
[null,67,20.380952380952383,13.353481738975423,19.333333333333336,{"$f":"IF(AN9>E9,E9,AN9)","v":12.913049197579586},18.285714285714285,{"$f":"IF(AO9>G9,G9,AO9)","v":12.472604270664142},17.761904761904763,{"$f":"IF(AP9>I9,I9,AP9)","v":12.256539242684646},{"$f":"V9*$K$13","v":17.238095238095237},{"$f":"IF(AQ9>K9,K9,AQ9)","v":12.032144701208654},16.19047619047619,{"$f":"IF(AR9>M9,M9,AR9)","v":11.59166764832921},15.142857142857142,{"$f":"IF(AS9>O9,O9,AS9)","v":11.151169485426411},null,1.1322751322751323,1.0740740740740742,1.0158730158730158,0.98677248677248675,0.95767195767195767,0.89947089947089942,0.84126984126984128,0.65519419747309315,0.66791633780584059,0.68209554605194533,0.69004644529859938,0.69799734454525342,0.71595594298503951,0.73639798488664987,{"$f":"IF(Y9<0.9,0.9,Y9*-3.6846+4.1276)","v":0.9},0.9,0.9,0.9,0.9,0.9,0.9,{"$f":"Y9*C9+($A$4-80)*AF9*$A$8/1000","v":13.353481738975423},{"$f":"Z9*E9+($A$4-80)*AG9*$A$8/1000","v":12.913049197579586},{"$f":"AA9*G9+($A$4-80)*AH9*$A$8/1000","v":12.472604270664142},{"$f":"AB9*I9+($A$4-80)*AI9*$A$8/1000","v":12.256539242684646},{"$f":"AC9*K9+($A$4-80)*AJ9*$A$8/1000","v":12.032144701208654},{"$f":"AD9*M9+($A$4-80)*AK9*$A$8/1000","v":11.59166764832921},{"$f":"AE9*O9+($A$4-80)*AL9*$A$8/1000","v":11.151169485426411}]
[null,62,18.571428571428573,15.713370127706018,17.61904761904762,15.27657033737129,16.666666666666668,14.83978479264867,16.19047619047619,14.627631029464078,{"$f":"V10*$K$13","v":15.714285714285715},14.403016084630435,14.761904761904763,13.966267473347434,13.80952380952381,13.529543118536981,null,1.0317460317460319,0.97883597883597884,0.92592592592592593,0.89947089947089942,0.87301587301587302,0.82010582010582012,0.76719576719576721,0.84610454533801627,0.86704858671566776,0.89038708755892015,0.90347132829042842,0.91655556902193669,0.94610199012998741,0.97972553616991931,0.9,0.9,0.9,0.79866954378108757,0.75045935038177225,0.64159260716704836,0.51770328942831556,15.713370127706018,{"$f":"Z10*E10+($A$4-80)*AG10*$A$8/1000","v":15.27657033737129},{"$f":"AA10*G10+($A$4-80)*AH10*$A$8/1000","v":14.83978479264867},14.627631029464078,14.403016084630435,13.966267473347434,13.529543118536981]
[null,57,17.714285714285712,17.714285714285712,16.952380952380953,16.952380952380953,16.19047619047619,16.19047619047619,15.809523809523808,15.809523809523808,{"$f":"V11*$K$13","v":15.428571428571427},15.428571428571427,14.666666666666666,14.666666666666666,14,14,null,0.98412698412698407,0.94179894179894175,0.89947089947089942,0.87830687830687826,0.8571428571428571,0.81481481481481477,0.77777777777777779,1,1,1,1,1,1,1,0.44300000000000006,0.44300000000000006,0.44300000000000006,0.44300000000000006,0.44300000000000006,0.44300000000000006,0.44300000000000006,17.714285714285712,{"$f":"Z11*E11+($A$4-80)*AG11*$A$8/1000","v":16.952380952380953},{"$f":"AA11*G11+($A$4-80)*AH11*$A$8/1000","v":16.19047619047619},{"$f":"AB11*I11+($A$4-80)*AI11*$A$8/1000","v":15.809523809523808},15.428571428571427,14.666666666666666,14]
[600,72,23.238095238095237,11.946769831043008,22,11.515245880368497,20.761904761904763,11.084160519436827,20.142857142857142,10.872532704178518,{"$f":"V12*$K$13","v":19.523809523809526},10.653598876049053,18.190476190476193,10.170421353030051,16.952380952380953,9.7397958229468067,null,1.2910052910052909,1.2222222222222223,1.1534391534391535,1.1190476190476191,1.0846560846560847,1.0105820105820107,0.94179894179894175,0.514102800106359,0.5234202672894771,0.53387011676186547,0.53977112715779874,0.5456721375537319,0.55910693301997649,0.5745385176457386,0.9,0.9,0.9,0.9,0.9,0.9,0.9,{"$f":"Y12*C12+($A$4-80)*AF12*$A$12/1000","v":11.946769831043008},{"$f":"Z12*E12+($A$4-80)*AG12*$A$12/1000","v":11.515245880368497},{"$f":"AA12*G12+($A$4-80)*AH12*$A$12/1000","v":11.084160519436827},{"$f":"AB12*I12+($A$4-80)*AI12*$A$12/1000","v":10.872532704178518},{"$f":"AC12*K12+($A$4-80)*AJ12*$A$12/1000","v":10.653598876049053},{"$f":"AD12*M12+($A$4-80)*AK12*$A$12/1000","v":10.170421353030051},{"$f":"AE12*O12+($A$4-80)*AL12*$A$12/1000","v":9.7397958229468067}]
[null,67,21.428571428571427,15.37529460959477,20.285714285714285,14.938708532313482,19.142857142857142,14.502784684236698,18.571428571428573,14.292054552258081,18,14.067651262505956,16.857142857142858,13.633471835995604,15.714285714285715,13.200458448741436,null,1.1904761904761905,1.126984126984127,1.0634920634920635,1.0317460317460319,1,0.93650793650793651,0.87301587301587302,0.71751374844775595,0.73641520933939708,0.75760815514669322,0.76957216819851204,0.78153618125033086,0.80876527840651879,0.84002917401081867,0.9,0.9,0.9,0.9,0.9,0.9,0.9,{"$f":"Y13*C13+($A$4-80)*AF13*$A$12/1000","v":15.37529460959477},{"$f":"Z13*E13+($A$4-80)*AG13*$A$12/1000","v":14.938708532313482},{"$f":"AA13*G13+($A$4-80)*AH13*$A$12/1000","v":14.502784684236698},{"$f":"AB13*I13+($A$4-80)*AI13*$A$12/1000","v":14.292054552258081},{"$f":"AC13*K13+($A$4-80)*AJ13*$A$12/1000","v":14.067651262505956},{"$f":"AD13*M13+($A$4-80)*AK13*$A$12/1000","v":13.633471835995604},{"$f":"AE13*O13+($A$4-80)*AL13*$A$12/1000","v":13.200458448741436}]
[null,62,19.428571428571427,18.19436964504284,18.571428571428573,17.749389593110809,17.80952380952381,17.39671395649744,17.38095238095238,17.179514417911438,{"$f":"V14*$K$13","v":16.952380952380953},16.952380952380953,16.095238095238095,16.095238095238095,15.238095238095237,15.238095238095237,null,1.0793650793650793,1.0317460317460319,0.98941798941798942,0.96560846560846558,0.94179894179894175,0.89417989417989419,0.84656084656084651,0.93647490820073442,0.95573636270596662,0.97682083712953538,0.98841041856476775,1,1,1,0.67706455324357417,0.60609379797359564,0.52840594351251413,0.48570297175625665,0.44300000000000006,0.44300000000000006,0.44300000000000006,18.19436964504284,{"$f":"Z14*E14+($A$4-80)*AG14*$A$12/1000","v":17.749389593110809},{"$f":"AA14*G14+($A$4-80)*AH14*$A$12/1000","v":17.39671395649744},17.179514417911438,16.952380952380953,16.095238095238095,15.238095238095237]
[null,57,19.523809523809526,19.523809523809526,18.666666666666664,18.666666666666664,17.80952380952381,17.80952380952381,17.333333333333332,17.333333333333332,16.857142857142858,16.857142857142858,16,16,15.142857142857142,15.142857142857142,null,1.0846560846560847,1.037037037037037,0.98941798941798942,0.96296296296296291,0.93650793650793651,0.88888888888888884,0.84126984126984128,1,1,1,1,1,1,1,0.44300000000000006,0.44300000000000006,0.44300000000000006,0.44300000000000006,0.44300000000000006,0.44300000000000006,0.44300000000000006,19.523809523809526,{"$f":"Z15*E15+($A$4-80)*AG15*$A$12/1000","v":18.666666666666664},{"$f":"AA15*G15+($A$4-80)*AH15*$A$12/1000","v":17.80952380952381},17.333333333333332,16.857142857142858,16,15.142857142857142]
[750,72,23.904761904761905,13.114279271853581,22.571428571428569,12.670978153527471,21.238095238095241,12.227821199726028,20.571428571428569,12.011766617997726,19.904761904761905,11.784837512240669,18.571428571428573,11.342064590795555,17.238095238095237,10.899551597827459,null,1.3280423280423281,1.253968253968254,1.17989417989418,1.1428571428571428,1.1058201058201058,1.0317460317460319,0.95767195767195767,0.54860530818511,0.56137244983982471,0.57574942868665147,0.58390532170822285,0.59206121472979434,0.61072655488899141,0.6322944297082228,0.9,0.9,0.9,0.9,0.9,0.9,0.9,{"$f":"Y16*C16+($A$4-80)*AF16*$A$16/1000","v":13.114279271853581},{"$f":"Z16*E16+($A$4-80)*AG16*$A$16/1000","v":12.670978153527471},{"$f":"AA16*G16+($A$4-80)*AH16*$A$16/1000","v":12.227821199726028},{"$f":"AB16*I16+($A$4-80)*AI16*$A$16/1000","v":12.011766617997726},{"$f":"AC16*K16+($A$4-80)*AJ16*$A$16/1000","v":11.784837512240669},{"$f":"AD16*M16+($A$4-80)*AK16*$A$16/1000","v":11.342064590795555},{"$f":"AE16*O16+($A$4-80)*AL16*$A$16/1000","v":10.899551597827459}]
[null,67,22.095238095238095,16.994838265657261,20.857142857142858,16.473024125507365,19.61904761904762,15.952020447118963,19,15.700202067024335,18.38095238095238,15.431993777547316,17.142857142857142,14.91315965263861,15.809523809523808,14.309599631476697,null,1.2275132275132274,1.1587301587301588,1.08994708994709,1.0555555555555556,1.0211640211640212,0.95238095238095233,0.87830687830687826,0.76916293874741914,0.7898025265654216,0.81308842084829658,0.8263264245802282,0.83956442831215972,0.86993431307058566,0.90512527789461039,0.9,0.9,0.9,0.9,0.9,0.9,0.79257540106951874,{"$f":"Y17*C17+($A$4-80)*AF17*$A$16/1000","v":16.994838265657261},{"$f":"Z17*E17+($A$4-80)*AG17*$A$16/1000","v":16.473024125507365},{"$f":"AA17*G17+($A$4-80)*AH17*$A$16/1000","v":15.952020447118963},{"$f":"AB17*I17+($A$4-80)*AI17*$A$16/1000","v":15.700202067024335},{"$f":"AC17*K17+($A$4-80)*AJ17*$A$16/1000","v":15.431993777547316},{"$f":"AD17*M17+($A$4-80)*AK17*$A$16/1000","v":14.91315965263861},{"$f":"AE17*O17+($A$4-80)*AL17*$A$16/1000","v":14.309599631476697}]
[null,62,20.857142857142858,20.857142857142858,19.904761904761905,19.904761904761905,18.857142857142858,18.857142857142858,18.38095238095238,18.38095238095238,17.904761904761905,17.904761904761905,16.952380952380953,16.952380952380953,15.904761904761905,15.904761904761905,null,1.1587301587301588,1.1058201058201058,1.0476190476190477,1.0211640211640212,0.99470899470899465,0.94179894179894175,0.8835978835978836,1,1,1,1,1,1,1,0.44300000000000006,0.44300000000000006,0.44300000000000006,0.44300000000000006,0.44300000000000006,0.44300000000000006,0.44300000000000006,20.857142857142858,{"$f":"Z18*E18+($A$4-80)*AG18*$A$16/1000","v":19.904761904761905},{"$f":"AA18*G18+($A$4-80)*AH18*$A$16/1000","v":18.857142857142858},18.38095238095238,17.904761904761905,16.952380952380953,15.904761904761905]
[null,57,20.857142857142858,20.857142857142858,19.80952380952381,19.80952380952381,18.857142857142858,18.857142857142858,18.38095238095238,18.38095238095238,17.904761904761905,17.904761904761905,16.857142857142858,16.857142857142858,15.904761904761905,15.904761904761905,null,1.1587301587301588,1.1005291005291005,1.0476190476190477,1.0211640211640212,0.99470899470899465,0.93650793650793651,0.8835978835978836,1,1,1,1,1,1,1,0.44300000000000006,0.44300000000000006,0.44300000000000006,0.44300000000000006,0.44300000000000006,0.44300000000000006,0.44300000000000006,20.857142857142858,{"$f":"Z19*E19+($A$4-80)*AG19*$A$16/1000","v":19.80952380952381},{"$f":"AA19*G19+($A$4-80)*AH19*$A$16/1000","v":18.857142857142858},18.38095238095238,17.904761904761905,16.857142857142858,15.904761904761905]

{"sheet":"4SCU14L_24","index":18,"n_rows":19,"n_cols":45,"rows_kept":19,"cut":false,"hidden":true,"merged":[[2,0,2,1],[2,2,2,15],[3,2,3,3],[3,4,3,5],[3,6,3,7],[3,8,3,9],[3,10,3,11],[3,12,3,13],[3,14,3,15],[5,2,6,2],[5,3,6,3],[5,4,6,4],[5,5,6,5],[5,6,6,6],[5,7,6,7],[5,8,6,8],[4,0,6,0],[4,1,6,1],[4,2,4,3],[4,4,4,5],[4,6,4,7],[4,8,4,9],[5,9,6,9],[5,10,6,10],[5,11,6,11],[5,12,6,12],[5,13,6,13],[5,14,6,14],[5,15,6,15],[4,10,4,11],[4,12,4,13],[4,14,4,15],[7,0,10,0],[11,0,14,0],[15,0,18,0],[22,4,22,15],[23,4,23,5],[23,6,23,7],[23,8,23,9],[23,10,23,11],[23,12,23,13],[23,14,23,15],[25,12,26,12],[25,13,26,13],[25,14,26,14],[25,15,26,15],[27,0,30,0],[31,0,34,0],[24,12,24,13],[24,14,24,15],[25,4,26,4],[25,5,26,5],[25,6,26,6],[25,7,26,7],[25,8,26,8],[25,9,26,9],[25,10,26,10],[25,11,26,11],[24,0,26,0],[24,1,26,1],[24,4,24,5],[24,6,24,7],[24,8,24,9],[24,10,24,11],[35,0,38,0],[41,0,42,1],[41,4,41,15],[42,4,42,5],[42,6,42,7],[42,8,42,9],[42,10,42,11],[42,12,42,13],[42,14,42,15],[44,12,45,12],[44,13,45,13],[44,14,45,14],[44,15,45,15],[46,0,49,0],[50,0,53,0],[43,12,43,13],[43,14,43,15],[44,4,45,4],[44,5,45,5],[44,6,45,6],[44,7,45,7],[44,8,45,8],[44,9,45,9],[44,10,45,10],[44,11,45,11],[43,0,45,0],[43,1,45,1],[43,4,43,5],[43,6,43,7],[43,8,43,9],[43,10,43,11],[54,0,57,0],[60,0,61,1],[60,4,60,15],[61,4,61,5],[61,6,61,7],[61,8,61,9],[61,10,61,11],[61,12,61,13],[61,14,61,15],[63,12,64,12],[63,13,64,13],[63,14,64,14],[63,15,64,15],[65,0,68,0],[69,0,72,0],[62,12,62,13],[62,14,62,15],[63,4,64,4],[63,5,64,5],[63,6,64,6],[63,7,64,7],[63,8,64,8],[63,9,64,9],[63,10,64,10],[63,11,64,11],[62,0,64,0],[62,1,64,1],[62,4,62,5],[62,6,62,7],[62,8,62,9],[62,10,62,11],[73,0,76,0],[79,0,80,1],[79,4,79,15],[80,4,80,5],[80,6,80,7],[80,8,80,9],[80,10,80,11],[80,12,80,13],[80,14,80,15],[82,12,83,12],[82,13,83,13],[82,14,83,14],[82,15,83,15],[84,0,87,0],[88,0,91,0],[81,12,81,13],[81,14,81,15],[82,4,83,4],[82,5,83,5],[82,6,83,6],[82,7,83,7],[82,8,83,8],[82,9,83,9],[82,10,83,10],[82,11,83,11],[81,0,83,0],[81,1,83,1],[81,4,81,5],[81,6,81,7],[81,8,81,9],[81,10,81,11],[92,0,95,0],[98,0,99,1],[98,4,98,15],[99,4,99,5],[99,6,99,7],[99,8,99,9],[99,10,99,11],[99,12,99,13],[99,14,99,15],[101,12,102,12],[101,13,102,13],[101,14,102,14],[101,15,102,15],[103,0,106,0],[107,0,110,0],[100,12,100,13],[100,14,100,15],[101,4,102,4],[101,5,102,5],[101,6,102,6],[101,7,102,7],[101,8,102,8],[101,9,102,9],[101,10,102,10],[101,11,102,11],[100,0,102,0],[100,1,102,1],[100,4,100,5],[100,6,100,7],[100,8,100,9],[100,10,100,11],[111,0,114,0],[117,0,118,1],[117,4,117,15],[118,4,118,5],[118,6,118,7],[118,8,118,9],[118,10,118,11],[118,12,118,13],[118,14,118,15],[130,0,133,0],[120,12,121,12],[120,13,121,13],[120,14,121,14],[120,15,121,15],[122,0,125,0],[126,0,129,0],[119,12,119,13],[119,14,119,15],[120,4,121,4],[120,5,121,5],[120,6,121,6],[120,7,121,7],[120,8,121,8],[120,9,121,9],[120,10,121,10],[120,11,121,11],[119,0,121,0],[119,1,121,1],[119,4,119,5],[119,6,119,7],[119,8,119,9],[119,10,119,11]]}
[]
["4SCU14L_24"]
["Evaporator Air \n",null,"Condenser  Entering Air Temperature ˚F"]
[80,"°F DB",65,null,75,null,85,null,90,null,95,null,105,null,115]
["CFM","EWB†\n˚F","Capacity Mbtuh",null,"Capacity Mbtuh",null,"Capacity Mbtuh",null,"Capacity Mbtuh",null,"Capacity Mbtuh",null,"Capacity Mbtuh",null,"Capacity Mbtuh"]
[null,null,"Total","Sens.","Total","Sens.","Total","Sens.","Total","Sens.","Total","Sens.","Total","Sens.","Total","Sens."]
[null,null,null,null,null,null,null,null,null,null,null,null,null,null,null,null,null,"Total Factors",null,null,null,null,null,null,"Sens. %",null,null,null,null,null,null,"IDB Adj",null,null,null,null,null,null,"Sens Calc"]
[600,72,{"$f":"R8*$K$13","v":22.5},{"$f":"IF(AM8>C8,C8,AM8)","v":10.935362903225807},{"$f":"S8*$K$13","v":21.266129032258064},{"$f":"IF(AN8>E8,E8,AN8)","v":10.461464000378612},{"$f":"T8*$K$13","v":20.032258064516128},{"$f":"IF(AO8>G8,G8,AO8)","v":9.9874783626386705},{"$f":"U8*$K$13","v":19.41532258064516},{"$f":"IF(AP8>I8,I8,AP8)","v":9.7527487335319112},{"$f":"V8*$K$13","v":18.798387096774196},{"$f":"IF(AQ8>K8,K8,AQ8)","v":9.513389019044789},{"$f":"W8*$K$13","v":17.56451612903226},{"$f":"IF(AR8>M8,M8,AR8)","v":9.0391742622278777},{"$f":"X8*$K$13","v":16.33064516129032},{"$f":"IF(AS8>O8,O8,AS8)","v":8.5648058721267137},null,1.25,1.1814516129032258,1.1129032258064515,1.0786290322580645,1.0443548387096775,0.97580645161290325,0.907258064516129,0.48601612903225805,0.49193080623699204,0.49856977333622998,0.50232226083404241,0.50607474833185484,0.51462700115530613,0.52446218673763589,{"$f":"IF(Y8<0.9,0.9,Y8*-3.6846+4.1276)","v":0.9},{"$f":"IF(Z8<0.9,0.9,Z8*-3.6846+4.1276)","v":0.9},0.9,0.9,0.9,0.9,0.9,{"$f":"Y8*C8+($A$4-80)*AF8*$A$8/1000","v":10.935362903225807},{"$f":"Z8*E8+($A$4-80)*AG8*$A$8/1000","v":10.461464000378612},{"$f":"AA8*G8+($A$4-80)*AH8*$A$8/1000","v":9.9874783626386705},{"$f":"AB8*I8+($A$4-80)*AI8*$A$8/1000","v":9.7527487335319112},{"$f":"AC8*K8+($A$4-80)*AJ8*$A$8/1000","v":9.513389019044789},{"$f":"AD8*M8+($A$4-80)*AK8*$A$8/1000","v":9.0391742622278777},{"$f":"AE8*O8+($A$4-80)*AL8*$A$8/1000","v":8.5648058721267137}]
[null,67,20.758064516129032,13.557547316795601,19.596774193548384,{"$f":"IF(AN9>E9,E9,AN9)","v":13.071041861364439},18.508064516129032,{"$f":"IF(AO9>G9,G9,AO9)","v":12.632868932149449},17.927419354838708,{"$f":"IF(AP9>I9,I9,AP9)","v":12.394029450109064},{"$f":"V9*$K$13","v":17.346774193548388},{"$f":"IF(AQ9>K9,K9,AQ9)","v":12.144988457604439},16.258064516129032,{"$f":"IF(AR9>M9,M9,AR9)","v":11.707810393112746},15.096774193548388,{"$f":"IF(AS9>O9,O9,AS9)","v":11.218119107413925},null,1.153225806451613,1.0887096774193548,1.028225806451613,0.99596774193548387,0.96370967741935487,0.90322580645161288,0.83870967741935487,0.65312193756124881,0.66699966699966695,0.68256023859979598,0.69134487261067212,0.70012950662154827,0.72012325830653801,0.7430805391663069,{"$f":"IF(Y9<0.9,0.9,Y9*-3.6846+4.1276)","v":0.9},0.9,0.9,0.9,0.9,0.9,0.9,{"$f":"Y9*C9+($A$4-80)*AF9*$A$8/1000","v":13.557547316795601},{"$f":"Z9*E9+($A$4-80)*AG9*$A$8/1000","v":13.071041861364439},{"$f":"AA9*G9+($A$4-80)*AH9*$A$8/1000","v":12.632868932149449},{"$f":"AB9*I9+($A$4-80)*AI9*$A$8/1000","v":12.394029450109064},{"$f":"AC9*K9+($A$4-80)*AJ9*$A$8/1000","v":12.144988457604439},{"$f":"AD9*M9+($A$4-80)*AK9*$A$8/1000","v":11.707810393112746},{"$f":"AE9*O9+($A$4-80)*AL9*$A$8/1000","v":11.218119107413925}]
[null,62,18.943548387096776,16.104753059784553,17.927419354838708,15.514447241093446,16.983870967741936,14.98767104849926,16.475806451612904,14.697524306155271,{"$f":"V10*$K$13","v":15.96774193548387},14.397620588118784,14.951612903225808,13.807014385532909,13.935483870967742,13.215732727522878,null,1.0524193548387097,0.99596774193548387,0.94354838709677424,0.91532258064516125,0.88709677419354838,0.83064516129032262,0.77419354838709675,0.85014447825171746,0.86540326491029573,0.88246496201989943,0.89206706508235611,0.90166916814481279,0.92344648533229801,0.94835119109539168,0.9,0.9,0.9,0.9,0.80530978305362266,0.72506908014461491,0.63330520128991985,16.104753059784553,{"$f":"Z10*E10+($A$4-80)*AG10*$A$8/1000","v":15.514447241093446},{"$f":"AA10*G10+($A$4-80)*AH10*$A$8/1000","v":14.98767104849926},14.697524306155271,14.397620588118784,13.807014385532909,13.215732727522878]
[null,57,18.072580645161292,18.072580645161292,17.274193548387096,17.274193548387096,16.475806451612904,16.475806451612904,16.076612903225808,16.076612903225808,{"$f":"V11*$K$13","v":15.67741935483871},15.67741935483871,14.951612903225808,14.951612903225808,14.153225806451612,14.153225806451612,null,1.0040322580645162,0.95967741935483875,0.91532258064516125,0.89314516129032262,0.87096774193548387,0.83064516129032262,0.78629032258064513,1,1,1,1,1,1,1,0.44300000000000006,0.44300000000000006,0.44300000000000006,0.44300000000000006,0.44300000000000006,0.44300000000000006,0.44300000000000006,18.072580645161292,{"$f":"Z11*E11+($A$4-80)*AG11*$A$8/1000","v":17.274193548387096},{"$f":"AA11*G11+($A$4-80)*AH11*$A$8/1000","v":16.475806451612904},{"$f":"AB11*I11+($A$4-80)*AI11*$A$8/1000","v":16.076612903225808},15.67741935483871,14.951612903225808,14.153225806451612]
[800,72,23.661290322580644,12.253978267032593,22.282258064516128,11.740418903963603,20.903225806451616,11.226956184098395,20.213709677419356,10.974297473101434,{"$f":"V12*$K$13","v":19.524193548387096},10.71361067108295,18.14516129032258,10.20040920795398,16.766129032258064,9.6873875121140802,null,1.314516129032258,1.2379032258064515,1.1612903225806452,1.122983870967742,1.0846774193548387,1.0080645161290323,0.93145161290322576,0.51789137870212731,0.52689538331215591,0.53709203967137376,0.54291357935949636,0.54873511904761907,0.56215588523835269,0.57779511856765076,0.9,0.9,0.9,0.9,0.9,0.9,0.9,{"$f":"Y12*C12+($A$4-80)*AF12*$A$12/1000","v":12.253978267032593},{"$f":"Z12*E12+($A$4-80)*AG12*$A$12/1000","v":11.740418903963603},{"$f":"AA12*G12+($A$4-80)*AH12*$A$12/1000","v":11.226956184098395},{"$f":"AB12*I12+($A$4-80)*AI12*$A$12/1000","v":10.974297473101434},{"$f":"AC12*K12+($A$4-80)*AJ12*$A$12/1000","v":10.71361067108295},{"$f":"AD12*M12+($A$4-80)*AK12*$A$12/1000","v":10.20040920795398},{"$f":"AE12*O12+($A$4-80)*AL12*$A$12/1000","v":9.6873875121140802}]
[null,67,21.846774193548384,15.635803058171517,20.54032258064516,15.107997397220968,19.306451612903224,14.633749139006131,18.653225806451616,14.377531245763873,18,14.104580429440439,16.766129032258064,13.632541442142511,15.45967741935484,13.101630535132143,null,1.2137096774193548,1.1411290322580645,1.0725806451612903,1.0362903225806452,1,0.93145161290322576,0.8588709677419355,0.71570305618799124,0.73552873076380065,0.7579719687705766,0.77077988520307827,0.78358780163557995,0.81310011487526279,0.84747114572581406,0.9,0.9,0.9,0.9,0.9,0.9,0.9,{"$f":"Y13*C13+($A$4-80)*AF13*$A$12/1000","v":15.635803058171517},{"$f":"Z13*E13+($A$4-80)*AG13*$A$12/1000","v":15.107997397220968},{"$f":"AA13*G13+($A$4-80)*AH13*$A$12/1000","v":14.633749139006131},{"$f":"AB13*I13+($A$4-80)*AI13*$A$12/1000","v":14.377531245763873},{"$f":"AC13*K13+($A$4-80)*AJ13*$A$12/1000","v":14.104580429440439},{"$f":"AD13*M13+($A$4-80)*AK13*$A$12/1000","v":13.632541442142511},{"$f":"AE13*O13+($A$4-80)*AL13*$A$12/1000","v":13.101630535132143}]
[null,62,19.887096774193548,18.505171146855272,18.943548387096776,18.02292327591319,18,17.540050743022835,17.56451612903226,17.340105402845818,{"$f":"V14*$K$13","v":17.129032258064516},17.129032258064516,16.18548387096774,16.18548387096774,15.241935483870968,15.241935483870968,null,1.1048387096774193,1.0524193548387097,1,0.97580645161290325,0.95161290322580649,0.89919354838709675,0.84677419354838712,0.93051144452962431,0.95140165441176472,0.97444726350126853,0.98722363175063421,1,1,1,0.69903753148614634,0.62206546415441188,0.53715161290322611,0.49007580645161308,0.44300000000000006,0.44300000000000006,0.44300000000000006,18.505171146855272,{"$f":"Z14*E14+($A$4-80)*AG14*$A$12/1000","v":18.02292327591319},{"$f":"AA14*G14+($A$4-80)*AH14*$A$12/1000","v":17.540050743022835},17.340105402845818,17.129032258064516,16.18548387096774,15.241935483870968]
[null,57,19.887096774193548,19.887096774193548,18.943548387096776,18.943548387096776,18,18,17.528225806451612,17.528225806451612,17.056451612903228,17.056451612903228,16.112903225806452,16.112903225806452,15.169354838709678,15.169354838709678,null,1.1048387096774193,1.0524193548387097,1,0.97379032258064513,0.94758064516129037,0.89516129032258063,0.842741935483871,1,1,1,1,1,1,1,0.44300000000000006,0.44300000000000006,0.44300000000000006,0.44300000000000006,0.44300000000000006,0.44300000000000006,0.44300000000000006,19.887096774193548,{"$f":"Z15*E15+($A$4-80)*AG15*$A$12/1000","v":18.943548387096776},{"$f":"AA15*G15+($A$4-80)*AH15*$A$12/1000","v":18},17.528225806451612,17.056451612903228,16.112903225806452,15.169354838709678]
[1000,72,24.31451612903226,13.453187310501397,22.79032258064516,12.909781431302878,21.338709677419356,12.40705309019857,20.612903225806452,12.162245401618703,19.887096774193548,11.904958775015576,18.43548387096774,11.403650614477177,16.911290322580648,10.856738194576931,null,1.3508064516129032,1.2661290322580645,1.185483870967742,1.1451612903225807,1.1048387096774193,1.0241935483870968,0.93951612903225812,0.55329858258778541,0.56645891630628342,0.58143408283621412,0.59003068458557084,0.59862728633492757,0.61857072449482509,0.64198165766692383,0.9,0.9,0.9,0.9,0.9,0.9,0.9,{"$f":"Y16*C16+($A$4-80)*AF16*$A$16/1000","v":13.453187310501397},{"$f":"Z16*E16+($A$4-80)*AG16*$A$16/1000","v":12.909781431302878},{"$f":"AA16*G16+($A$4-80)*AH16*$A$16/1000","v":12.40705309019857},{"$f":"AB16*I16+($A$4-80)*AI16*$A$16/1000","v":12.162245401618703},{"$f":"AC16*K16+($A$4-80)*AJ16*$A$16/1000","v":11.904958775015576},{"$f":"AD16*M16+($A$4-80)*AK16*$A$16/1000","v":11.403650614477177},{"$f":"AE16*O16+($A$4-80)*AL16*$A$16/1000","v":10.856738194576931}]
[null,67,22.427419354838708,16.997393646621745,21.048387096774196,16.470507864569448,19.741935483870968,15.999582734452561,19.088709677419356,15.775135085463932,18.43548387096774,15.529816312656063,17.129032258064516,15.061478263548695,15.75,14.527979751495629,null,1.2459677419354838,1.1693548387096775,1.096774193548387,1.060483870967742,1.0241935483870968,0.95161290322580649,0.875,0.75788450635781968,0.78250688705234162,0.81043638033991727,0.82641180844846951,0.84238723655702186,0.87929534118645869,0.92241141279337324,0.9,0.9,0.9,0.9,0.9,0.9,0.72888290842153713,{"$f":"Y17*C17+($A$4-80)*AF17*$A$16/1000","v":16.997393646621745},{"$f":"Z17*E17+($A$4-80)*AG17*$A$16/1000","v":16.470507864569448},{"$f":"AA17*G17+($A$4-80)*AH17*$A$16/1000","v":15.999582734452561},{"$f":"AB17*I17+($A$4-80)*AI17*$A$16/1000","v":15.775135085463932},{"$f":"AC17*K17+($A$4-80)*AJ17*$A$16/1000","v":15.529816312656063},{"$f":"AD17*M17+($A$4-80)*AK17*$A$16/1000","v":15.061478263548695},{"$f":"AE17*O17+($A$4-80)*AL17*$A$16/1000","v":14.527979751495629}]
[null,62,21.193548387096776,21.193548387096776,20.10483870967742,20.10483870967742,19.016129032258064,19.016129032258064,18.508064516129032,18.508064516129032,18,18,16.911290322580648,16.911290322580648,15.82258064516129,15.82258064516129,null,1.1774193548387097,1.1169354838709677,1.0564516129032258,1.028225806451613,1,0.93951612903225812,0.87903225806451613,1,1,1,1,1,1,1,0.44300000000000006,0.44300000000000006,0.44300000000000006,0.44300000000000006,0.44300000000000006,0.44300000000000006,0.44300000000000006,21.193548387096776,{"$f":"Z18*E18+($A$4-80)*AG18*$A$16/1000","v":20.10483870967742},{"$f":"AA18*G18+($A$4-80)*AH18*$A$16/1000","v":19.016129032258064},18.508064516129032,18,16.911290322580648,15.82258064516129]
[null,57,21.120967741935484,21.120967741935484,20.10483870967742,20.10483870967742,19.016129032258064,19.016129032258064,18.471774193548384,18.471774193548384,17.927419354838708,17.927419354838708,16.911290322580648,16.911290322580648,15.82258064516129,15.82258064516129,null,1.1733870967741935,1.1169354838709677,1.0564516129032258,1.0262096774193548,0.99596774193548387,0.93951612903225812,0.87903225806451613,1,1,1,1,1,1,1,0.44300000000000006,0.44300000000000006,0.44300000000000006,0.44300000000000006,0.44300000000000006,0.44300000000000006,0.44300000000000006,21.120967741935484,{"$f":"Z19*E19+($A$4-80)*AG19*$A$16/1000","v":20.10483870967742},{"$f":"AA19*G19+($A$4-80)*AH19*$A$16/1000","v":19.016129032258064},18.471774193548384,17.927419354838708,16.911290322580648,15.82258064516129]

{"sheet":"4SCU14L_30","index":19,"n_rows":19,"n_cols":45,"rows_kept":19,"cut":false,"hidden":true,"merged":[[2,0,2,1],[2,2,2,15],[3,2,3,3],[3,4,3,5],[3,6,3,7],[3,8,3,9],[3,10,3,11],[3,12,3,13],[3,14,3,15],[5,2,6,2],[5,3,6,3],[5,4,6,4],[5,5,6,5],[5,6,6,6],[5,7,6,7],[5,8,6,8],[4,0,6,0],[4,1,6,1],[4,2,4,3],[4,4,4,5],[4,6,4,7],[4,8,4,9],[5,9,6,9],[5,10,6,10],[5,11,6,11],[5,12,6,12],[5,13,6,13],[5,14,6,14],[5,15,6,15],[4,10,4,11],[4,12,4,13],[4,14,4,15],[7,0,10,0],[11,0,14,0],[15,0,18,0],[22,4,22,15],[23,4,23,5],[23,6,23,7],[23,8,23,9],[23,10,23,11],[23,12,23,13],[23,14,23,15],[25,12,26,12],[25,13,26,13],[25,14,26,14],[25,15,26,15],[27,0,30,0],[31,0,34,0],[24,12,24,13],[24,14,24,15],[25,4,26,4],[25,5,26,5],[25,6,26,6],[25,7,26,7],[25,8,26,8],[25,9,26,9],[25,10,26,10],[25,11,26,11],[24,0,26,0],[24,1,26,1],[24,4,24,5],[24,6,24,7],[24,8,24,9],[24,10,24,11],[35,0,38,0],[41,0,42,1],[41,4,41,15],[42,4,42,5],[42,6,42,7],[42,8,42,9],[42,10,42,11],[42,12,42,13],[42,14,42,15],[44,12,45,12],[44,13,45,13],[44,14,45,14],[44,15,45,15],[46,0,49,0],[50,0,53,0],[43,12,43,13],[43,14,43,15],[44,4,45,4],[44,5,45,5],[44,6,45,6],[44,7,45,7],[44,8,45,8],[44,9,45,9],[44,10,45,10],[44,11,45,11],[43,0,45,0],[43,1,45,1],[43,4,43,5],[43,6,43,7],[43,8,43,9],[43,10,43,11],[54,0,57,0],[60,0,61,1],[60,4,60,15],[61,4,61,5],[61,6,61,7],[61,8,61,9],[61,10,61,11],[61,12,61,13],[61,14,61,15],[63,12,64,12],[63,13,64,13],[63,14,64,14],[63,15,64,15],[65,0,68,0],[69,0,72,0],[62,12,62,13],[62,14,62,15],[63,4,64,4],[63,5,64,5],[63,6,64,6],[63,7,64,7],[63,8,64,8],[63,9,64,9],[63,10,64,10],[63,11,64,11],[62,0,64,0],[62,1,64,1],[62,4,62,5],[62,6,62,7],[62,8,62,9],[62,10,62,11],[73,0,76,0],[79,0,80,1],[79,4,79,15],[80,4,80,5],[80,6,80,7],[80,8,80,9],[80,10,80,11],[80,12,80,13],[80,14,80,15],[82,12,83,12],[82,13,83,13],[82,14,83,14],[82,15,83,15],[84,0,87,0],[88,0,91,0],[81,12,81,13],[81,14,81,15],[82,4,83,4],[82,5,83,5],[82,6,83,6],[82,7,83,7],[82,8,83,8],[82,9,83,9],[82,10,83,10],[82,11,83,11],[81,0,83,0],[81,1,83,1],[81,4,81,5],[81,6,81,7],[81,8,81,9],[81,10,81,11],[92,0,95,0],[98,0,99,1],[98,4,98,15],[99,4,99,5],[99,6,99,7],[99,8,99,9],[99,10,99,11],[99,12,99,13],[99,14,99,15],[101,12,102,12],[101,13,102,13],[101,14,102,14],[101,15,102,15],[103,0,106,0],[107,0,110,0],[100,12,100,13],[100,14,100,15],[101,4,102,4],[101,5,102,5],[101,6,102,6],[101,7,102,7],[101,8,102,8],[101,9,102,9],[101,10,102,10],[101,11,102,11],[100,0,102,0],[100,1,102,1],[100,4,100,5],[100,6,100,7],[100,8,100,9],[100,10,100,11],[111,0,114,0],[117,0,118,1],[117,4,117,15],[118,4,118,5],[118,6,118,7],[118,8,118,9],[118,10,118,11],[118,12,118,13],[118,14,118,15],[130,0,133,0],[120,12,121,12],[120,13,121,13],[120,14,121,14],[120,15,121,15],[122,0,125,0],[126,0,129,0],[119,12,119,13],[119,14,119,15],[120,4,121,4],[120,5,121,5],[120,6,121,6],[120,7,121,7],[120,8,121,8],[120,9,121,9],[120,10,121,10],[120,11,121,11],[119,0,121,0],[119,1,121,1],[119,4,119,5],[119,6,119,7],[119,8,119,9],[119,10,119,11]]}
[]
["4SCU14L_30"]
["Evaporator Air \n",null,"Condenser  Entering Air Temperature ˚F"]
[80,"°F DB",65,null,75,null,85,null,90,null,95,null,105,null,115]
["CFM","EWB†\n˚F","Capacity Mbtuh",null,"Capacity Mbtuh",null,"Capacity Mbtuh",null,"Capacity Mbtuh",null,"Capacity Mbtuh",null,"Capacity Mbtuh",null,"Capacity Mbtuh"]
[null,null,"Total","Sens.","Total","Sens.","Total","Sens.","Total","Sens.","Total","Sens.","Total","Sens.","Total","Sens."]
[null,null,null,null,null,null,null,null,null,null,null,null,null,null,null,null,null,"Total Factors",null,null,null,null,null,null,"Sens. %",null,null,null,null,null,null,"IDB Adj",null,null,null,null,null,null,"Sens Calc"]
[800,72,{"$f":"R8*$K$13","v":22.404255319148938},{"$f":"IF(AM8>C8,C8,AM8)","v":11.350540371458397},{"$f":"S8*$K$13","v":21.255319148936174},{"$f":"IF(AN8>E8,E8,AN8)","v":10.925130740669111},{"$f":"T8*$K$13","v":20.170212765957448},{"$f":"IF(AO8>G8,G8,AO8)","v":10.532687289040343},{"$f":"U8*$K$13","v":19.595744680851066},{"$f":"IF(AP8>I8,I8,AP8)","v":10.322510156969068},{"$f":"V8*$K$13","v":19.021276595744681},{"$f":"IF(AQ8>K8,K8,AQ8)","v":10.107067616354486},{"$f":"W8*$K$13","v":17.872340425531913},{"$f":"IF(AR8>M8,M8,AR8)","v":9.6810104220260342},{"$f":"X8*$K$13","v":16.787234042553191},{"$f":"IF(AS8>O8,O8,AS8)","v":9.2897497714262123},null,1.2446808510638299,1.1808510638297873,1.1205673758865249,1.0886524822695036,1.0567375886524824,0.99290780141843971,0.93262411347517726,0.50662430907744027,0.51399513995139956,0.52219019260010135,0.52677304818408921,0.53135590376807706,0.54167558313717101,0.55338179880485672,{"$f":"IF(Y8<0.9,0.9,Y8*-3.6846+4.1276)","v":0.9},{"$f":"IF(Z8<0.9,0.9,Z8*-3.6846+4.1276)","v":0.9},0.9,0.9,0.9,0.9,0.9,{"$f":"Y8*C8+($A$4-80)*AF8*$A$8/1000","v":11.350540371458397},{"$f":"Z8*E8+($A$4-80)*AG8*$A$8/1000","v":10.925130740669111},{"$f":"AA8*G8+($A$4-80)*AH8*$A$8/1000","v":10.532687289040343},{"$f":"AB8*I8+($A$4-80)*AI8*$A$8/1000","v":10.322510156969068},{"$f":"AC8*K8+($A$4-80)*AJ8*$A$8/1000","v":10.107067616354486},{"$f":"AD8*M8+($A$4-80)*AK8*$A$8/1000","v":9.6810104220260342},{"$f":"AE8*O8+($A$4-80)*AL8*$A$8/1000","v":9.2897497714262123}]
[null,67,20.680851063829788,14.382665914435576,19.595744680851066,{"$f":"IF(AN9>E9,E9,AN9)","v":13.937329219493733},18.574468085106382,{"$f":"IF(AO9>G9,G9,AO9)","v":13.536913394030366},18.063829787234042,{"$f":"IF(AP9>I9,I9,AP9)","v":13.34202849130754},{"$f":"V9*$K$13","v":17.553191489361701},{"$f":"IF(AQ9>K9,K9,AQ9)","v":13.137121600225349},16.531914893617021,{"$f":"IF(AR9>M9,M9,AR9)","v":12.738071628833975},15.446808510638299,{"$f":"IF(AS9>O9,O9,AS9)","v":12.289131371721151},null,1.1489361702127661,1.0886524822695036,1.0319148936170213,1.0035460992907801,0.97517730496453903,0.91843971631205679,0.85815602836879434,0.69545812549225516,0.71124264203713938,0.72879144274848484,0.73860463968369183,0.74841783661889871,0.77051398527052362,0.79557737530426176,{"$f":"IF(Y9<0.9,0.9,Y9*-3.6846+4.1276)","v":0.9},0.9,0.9,0.9,0.9,0.9,0.9,{"$f":"Y9*C9+($A$4-80)*AF9*$A$8/1000","v":14.382665914435576},{"$f":"Z9*E9+($A$4-80)*AG9*$A$8/1000","v":13.937329219493733},{"$f":"AA9*G9+($A$4-80)*AH9*$A$8/1000","v":13.536913394030366},{"$f":"AB9*I9+($A$4-80)*AI9*$A$8/1000","v":13.34202849130754},{"$f":"AC9*K9+($A$4-80)*AJ9*$A$8/1000","v":13.137121600225349},{"$f":"AD9*M9+($A$4-80)*AK9*$A$8/1000","v":12.738071628833975},{"$f":"AE9*O9+($A$4-80)*AL9*$A$8/1000","v":12.289131371721151}]
[null,62,18.957446808510635,16.876919042461711,18,16.442891104566584,17.042553191489361,16.007998786083451,16.563829787234042,15.796940945674166,{"$f":"V10*$K$13","v":16.085106382978722},15.572090906025558,15.191489361702128,15.191489361702128,14.23404255319149,14.23404255319149,null,1.053191489361702,1,0.94680851063829785,0.92021276595744683,0.8936170212765957,0.84397163120567376,0.79078014184397161,0.89025274410291866,0.91349395025369906,0.9392958089212512,0.95370099479343073,0.96810618066561016,1,1,0.9,0.7617401908952206,0.66667066244875794,0.61359331458412525,0.560515966719493,0.44300000000000006,0.44300000000000006,16.876919042461711,{"$f":"Z10*E10+($A$4-80)*AG10*$A$8/1000","v":16.442891104566584},{"$f":"AA10*G10+($A$4-80)*AH10*$A$8/1000","v":16.007998786083451},15.796940945674166,15.572090906025558,15.191489361702128,14.23404255319149]
[null,57,18.51063829787234,18.51063829787234,17.74468085106383,17.74468085106383,16.978723404255319,16.978723404255319,16.595744680851062,16.595744680851062,{"$f":"V11*$K$13","v":16.212765957446809},16.212765957446809,15.446808510638299,15.446808510638299,14.680851063829786,14.680851063829786,null,1.0283687943262412,0.98581560283687941,0.94326241134751776,0.92198581560283688,0.900709219858156,0.85815602836879434,0.81560283687943258,1,1,1,1,1,1,1,0.44300000000000006,0.44300000000000006,0.44300000000000006,0.44300000000000006,0.44300000000000006,0.44300000000000006,0.44300000000000006,18.51063829787234,{"$f":"Z11*E11+($A$4-80)*AG11*$A$8/1000","v":17.74468085106383},{"$f":"AA11*G11+($A$4-80)*AH11*$A$8/1000","v":16.978723404255319},{"$f":"AB11*I11+($A$4-80)*AI11*$A$8/1000","v":16.595744680851062},16.212765957446809,15.446808510638299,14.680851063829786]
[1000,72,23.106382978723403,12.439296738787434,21.893617021276597,11.991519379402648,20.680851063829788,11.543750471919557,20.074468085106382,11.32344037817575,{"$f":"V12*$K$13","v":19.468085106382979},11.095991596497983,18.25531914893617,10.648244753377304,17.042553191489361,10.200512512410418,null,1.2836879432624113,1.2163120567375887,1.1489361702127661,1.1152482269503545,1.0815602836879432,1.0141843971631206,0.94680851063829785,0.5383489380506532,0.54771760041975159,0.55818546520598677,0.5640717517480236,0.56995803829006031,0.5832954585183372,0.5985319451726463,0.9,0.9,0.9,0.9,0.9,0.9,0.9,{"$f":"Y12*C12+($A$4-80)*AF12*$A$12/1000","v":12.439296738787434},{"$f":"Z12*E12+($A$4-80)*AG12*$A$12/1000","v":11.991519379402648},{"$f":"AA12*G12+($A$4-80)*AH12*$A$12/1000","v":11.543750471919557},{"$f":"AB12*I12+($A$4-80)*AI12*$A$12/1000","v":11.32344037817575},{"$f":"AC12*K12+($A$4-80)*AJ12*$A$12/1000","v":11.095991596497983},{"$f":"AD12*M12+($A$4-80)*AK12*$A$12/1000","v":10.648244753377304},{"$f":"AE12*O12+($A$4-80)*AL12*$A$12/1000","v":10.200512512410418}]
[null,67,21.319148936170215,15.693638919488743,20.23404255319149,15.256626442924899,19.148936170212764,14.820487047754687,18.574468085106382,14.583954085766111,18,14.334550093915016,16.914893617021278,13.899064822853049,15.76595744680851,13.410556788890016,null,1.1843971631205674,1.124113475177305,1.0638297872340425,1.0319148936170213,1,0.93971631205673756,0.87588652482269502,0.73612877167262558,0.75400782630648822,0.77395876804941155,0.78516133107790065,0.79636389410638975,0.8217057190869097,0.85060211751394166,0.9,0.9,0.9,0.9,0.9,0.9,0.9,{"$f":"Y13*C13+($A$4-80)*AF13*$A$12/1000","v":15.693638919488743},{"$f":"Z13*E13+($A$4-80)*AG13*$A$12/1000","v":15.256626442924899},{"$f":"AA13*G13+($A$4-80)*AH13*$A$12/1000","v":14.820487047754687},{"$f":"AB13*I13+($A$4-80)*AI13*$A$12/1000","v":14.583954085766111},{"$f":"AC13*K13+($A$4-80)*AJ13*$A$12/1000","v":14.334550093915016},{"$f":"AD13*M13+($A$4-80)*AK13*$A$12/1000","v":13.899064822853049},{"$f":"AE13*O13+($A$4-80)*AL13*$A$12/1000","v":13.410556788890016}]
[null,62,19.851063829787236,19.851063829787236,18.957446808510635,18.957446808510635,18.127659574468083,18.127659574468083,17.680851063829788,17.680851063829788,{"$f":"V14*$K$13","v":17.23404255319149},17.23404255319149,16.340425531914892,16.340425531914892,15.51063829787234,15.51063829787234,null,1.1028368794326242,1.053191489361702,1.0070921985815602,0.98226950354609932,0.95744680851063835,0.90780141843971629,0.86170212765957444,1,1,1,1,1,1,1,0.44300000000000006,0.44300000000000006,0.44300000000000006,0.44300000000000006,0.44300000000000006,0.44300000000000006,0.44300000000000006,19.851063829787236,{"$f":"Z14*E14+($A$4-80)*AG14*$A$12/1000","v":18.957446808510635},{"$f":"AA14*G14+($A$4-80)*AH14*$A$12/1000","v":18.127659574468083},17.680851063829788,17.23404255319149,16.340425531914892,15.51063829787234]
[null,57,19.787234042553191,19.787234042553191,18.957446808510635,18.957446808510635,18.063829787234042,18.063829787234042,17.648936170212767,17.648936170212767,17.23404255319149,17.23404255319149,16.340425531914892,16.340425531914892,15.51063829787234,15.51063829787234,null,1.0992907801418439,1.053191489361702,1.0035460992907801,0.98049645390070927,0.95744680851063835,0.90780141843971629,0.86170212765957444,1,1,1,1,1,1,1,0.44300000000000006,0.44300000000000006,0.44300000000000006,0.44300000000000006,0.44300000000000006,0.44300000000000006,0.44300000000000006,19.787234042553191,{"$f":"Z15*E15+($A$4-80)*AG15*$A$12/1000","v":18.957446808510635},{"$f":"AA15*G15+($A$4-80)*AH15*$A$12/1000","v":18.063829787234042},17.648936170212767,17.23404255319149,16.340425531914892,15.51063829787234]
[1200,72,23.553191489361701,13.773441197861951,22.276595744680851,13.034164774993567,21,12.294877248420029,20.361702127659573,11.925358071148002,19.723404255319149,11.555576492724638,18.51063829787234,10.85368630758065,17.23404255319149,10.114384366156102,null,1.3085106382978724,1.2375886524822695,1.1666666666666667,1.1312056737588652,1.0957446808510638,1.0283687943262412,0.95744680851063835,0.58478024959305486,0.58510577308949152,0.58547034516285856,0.58567589273140663,0.5858814402999547,0.58634857063941448,0.58688403112263798,0.9,0.9,0.9,0.9,0.9,0.9,0.9,{"$f":"Y16*C16+($A$4-80)*AF16*$A$16/1000","v":13.773441197861951},{"$f":"Z16*E16+($A$4-80)*AG16*$A$16/1000","v":13.034164774993567},{"$f":"AA16*G16+($A$4-80)*AH16*$A$16/1000","v":12.294877248420029},{"$f":"AB16*I16+($A$4-80)*AI16*$A$16/1000","v":11.925358071148002},{"$f":"AC16*K16+($A$4-80)*AJ16*$A$16/1000","v":11.555576492724638},{"$f":"AD16*M16+($A$4-80)*AK16*$A$16/1000","v":10.85368630758065},{"$f":"AE16*O16+($A$4-80)*AL16*$A$16/1000","v":10.114384366156102}]
[null,67,21.76595744680851,17.196314218193336,20.553191489361701,16.675567543030873,19.404255319148938,16.205488980027809,18.829787234042552,15.978297622386636,18.25531914893617,15.735694822888282,17.106382978723406,15.266242695220603,15.957446808510637,14.797206914978709,null,1.2092198581560283,1.1418439716312057,1.0780141843971631,1.0460992907801419,1.0141843971631206,0.95035460992907805,0.88652482269503541,0.79005549194045632,0.81133713718680234,0.83515129611985417,0.8485649584770304,0.86197862083420662,0.89242961029274659,0.92729163333866582,0.9,0.9,0.9,0.9,0.9,0.9,0.71090124780035202,{"$f":"Y17*C17+($A$4-80)*AF17*$A$16/1000","v":17.196314218193336},{"$f":"Z17*E17+($A$4-80)*AG17*$A$16/1000","v":16.675567543030873},{"$f":"AA17*G17+($A$4-80)*AH17*$A$16/1000","v":16.205488980027809},{"$f":"AB17*I17+($A$4-80)*AI17*$A$16/1000","v":15.978297622386636},{"$f":"AC17*K17+($A$4-80)*AJ17*$A$16/1000","v":15.735694822888282},{"$f":"AD17*M17+($A$4-80)*AK17*$A$16/1000","v":15.266242695220603},{"$f":"AE17*O17+($A$4-80)*AL17*$A$16/1000","v":14.797206914978709}]
[null,62,20.74468085106383,20.74468085106383,19.787234042553191,19.787234042553191,18.893617021276594,18.893617021276594,18.414893617021274,18.414893617021274,17.936170212765958,17.936170212765958,16.978723404255319,16.978723404255319,16.085106382978722,16.085106382978722,null,1.1524822695035462,1.0992907801418439,1.0496453900709219,1.0230496453900708,0.99645390070921991,0.94326241134751776,0.8936170212765957,1,1,1,1,1,1,1,0.44300000000000006,0.44300000000000006,0.44300000000000006,0.44300000000000006,0.44300000000000006,0.44300000000000006,0.44300000000000006,20.74468085106383,{"$f":"Z18*E18+($A$4-80)*AG18*$A$16/1000","v":19.787234042553191},{"$f":"AA18*G18+($A$4-80)*AH18*$A$16/1000","v":18.893617021276594},18.414893617021274,17.936170212765958,16.978723404255319,16.085106382978722]
[null,57,20.74468085106383,20.74468085106383,19.787234042553191,19.787234042553191,18.829787234042552,18.829787234042552,18.382978723404253,18.382978723404253,17.936170212765958,17.936170212765958,16.978723404255319,16.978723404255319,16.021276595744681,16.021276595744681,null,1.1524822695035462,1.0992907801418439,1.0460992907801419,1.0212765957446808,0.99645390070921991,0.94326241134751776,0.89007092198581561,1,1,1,1,1,1,1,0.44300000000000006,0.44300000000000006,0.44300000000000006,0.44300000000000006,0.44300000000000006,0.44300000000000006,0.44300000000000006,20.74468085106383,{"$f":"Z19*E19+($A$4-80)*AG19*$A$16/1000","v":19.787234042553191},{"$f":"AA19*G19+($A$4-80)*AH19*$A$16/1000","v":18.829787234042552},18.382978723404253,17.936170212765958,16.978723404255319,16.021276595744681]

{"sheet":"4SCU14L_36","index":20,"n_rows":19,"n_cols":45,"rows_kept":19,"cut":false,"hidden":true,"merged":[[2,0,2,1],[2,2,2,15],[3,2,3,3],[3,4,3,5],[3,6,3,7],[3,8,3,9],[3,10,3,11],[3,12,3,13],[3,14,3,15],[5,2,6,2],[5,3,6,3],[5,4,6,4],[5,5,6,5],[5,6,6,6],[5,7,6,7],[5,8,6,8],[4,0,6,0],[4,1,6,1],[4,2,4,3],[4,4,4,5],[4,6,4,7],[4,8,4,9],[5,9,6,9],[5,10,6,10],[5,11,6,11],[5,12,6,12],[5,13,6,13],[5,14,6,14],[5,15,6,15],[4,10,4,11],[4,12,4,13],[4,14,4,15],[7,0,10,0],[11,0,14,0],[15,0,18,0],[22,4,22,15],[23,4,23,5],[23,6,23,7],[23,8,23,9],[23,10,23,11],[23,12,23,13],[23,14,23,15],[25,12,26,12],[25,13,26,13],[25,14,26,14],[25,15,26,15],[27,0,30,0],[31,0,34,0],[24,12,24,13],[24,14,24,15],[25,4,26,4],[25,5,26,5],[25,6,26,6],[25,7,26,7],[25,8,26,8],[25,9,26,9],[25,10,26,10],[25,11,26,11],[24,0,26,0],[24,1,26,1],[24,4,24,5],[24,6,24,7],[24,8,24,9],[24,10,24,11],[35,0,38,0],[41,0,42,1],[41,4,41,15],[42,4,42,5],[42,6,42,7],[42,8,42,9],[42,10,42,11],[42,12,42,13],[42,14,42,15],[44,12,45,12],[44,13,45,13],[44,14,45,14],[44,15,45,15],[46,0,49,0],[50,0,53,0],[43,12,43,13],[43,14,43,15],[44,4,45,4],[44,5,45,5],[44,6,45,6],[44,7,45,7],[44,8,45,8],[44,9,45,9],[44,10,45,10],[44,11,45,11],[43,0,45,0],[43,1,45,1],[43,4,43,5],[43,6,43,7],[43,8,43,9],[43,10,43,11],[54,0,57,0],[60,0,61,1],[60,4,60,15],[61,4,61,5],[61,6,61,7],[61,8,61,9],[61,10,61,11],[61,12,61,13],[61,14,61,15],[63,12,64,12],[63,13,64,13],[63,14,64,14],[63,15,64,15],[65,0,68,0],[69,0,72,0],[62,12,62,13],[62,14,62,15],[63,4,64,4],[63,5,64,5],[63,6,64,6],[63,7,64,7],[63,8,64,8],[63,9,64,9],[63,10,64,10],[63,11,64,11],[62,0,64,0],[62,1,64,1],[62,4,62,5],[62,6,62,7],[62,8,62,9],[62,10,62,11],[73,0,76,0],[79,0,80,1],[79,4,79,15],[80,4,80,5],[80,6,80,7],[80,8,80,9],[80,10,80,11],[80,12,80,13],[80,14,80,15],[82,12,83,12],[82,13,83,13],[82,14,83,14],[82,15,83,15],[84,0,87,0],[88,0,91,0],[81,12,81,13],[81,14,81,15],[82,4,83,4],[82,5,83,5],[82,6,83,6],[82,7,83,7],[82,8,83,8],[82,9,83,9],[82,10,83,10],[82,11,83,11],[81,0,83,0],[81,1,83,1],[81,4,81,5],[81,6,81,7],[81,8,81,9],[81,10,81,11],[92,0,95,0],[98,0,99,1],[98,4,98,15],[99,4,99,5],[99,6,99,7],[99,8,99,9],[99,10,99,11],[99,12,99,13],[99,14,99,15],[101,12,102,12],[101,13,102,13],[101,14,102,14],[101,15,102,15],[103,0,106,0],[107,0,110,0],[100,12,100,13],[100,14,100,15],[101,4,102,4],[101,5,102,5],[101,6,102,6],[101,7,102,7],[101,8,102,8],[101,9,102,9],[101,10,102,10],[101,11,102,11],[100,0,102,0],[100,1,102,1],[100,4,100,5],[100,6,100,7],[100,8,100,9],[100,10,100,11],[111,0,114,0],[117,0,118,1],[117,4,117,15],[118,4,118,5],[118,6,118,7],[118,8,118,9],[118,10,118,11],[118,12,118,13],[118,14,118,15],[130,0,133,0],[120,12,121,12],[120,13,121,13],[120,14,121,14],[120,15,121,15],[122,0,125,0],[126,0,129,0],[119,12,119,13],[119,14,119,15],[120,4,121,4],[120,5,121,5],[120,6,121,6],[120,7,121,7],[120,8,121,8],[120,9,121,9],[120,10,121,10],[120,11,121,11],[119,0,121,0],[119,1,121,1],[119,4,119,5],[119,6,119,7],[119,8,119,9],[119,10,119,11]]}
[]
["4SCU14L_36"]
["Evaporator Air \n",null,"Condenser  Entering Air Temperature ˚F"]
[76.8,"°F DB",65,null,75,null,85,null,90,null,95,null,105,null,115]
["CFM","EWB†\n˚F","Capacity Mbtuh",null,"Capacity Mbtuh",null,"Capacity Mbtuh",null,"Capacity Mbtuh",null,"Capacity Mbtuh",null,"Capacity Mbtuh",null,"Capacity Mbtuh"]
[null,null,"Total","Sens.","Total","Sens.","Total","Sens.","Total","Sens.","Total","Sens.","Total","Sens.","Total","Sens."]
[null,null,null,null,null,null,null,null,null,null,null,null,null,null,null,null,null,"Total Factors",null,null,null,null,null,null,"Sens. %",null,null,null,null,null,null,"IDB Adj",null,null,null,null,null,null,"Sens Calc"]
[1000,72,{"$f":"R8*$K$13","v":22.512968299711815},{"$f":"IF(AM8>C8,C8,AM8)","v":8.5534655499112748},{"$f":"S8*$K$13","v":21.371757925072046},{"$f":"IF(AN8>E8,E8,AN8)","v":8.1262632047190593},{"$f":"T8*$K$13","v":20.178674351585013},{"$f":"IF(AO8>G8,G8,AO8)","v":7.6721008881622463},{"$f":"U8*$K$13","v":19.608069164265132},{"$f":"IF(AP8>I8,I8,AP8)","v":7.4609899670685582},{"$f":"V8*$K$13","v":19.037463976945244},{"$f":"IF(AQ8>K8,K8,AQ8)","v":7.2447994010284198},{"$f":"W8*$K$13","v":17.896253602305475},{"$f":"IF(AR8>M8,M8,AR8)","v":6.8176727985247361},{"$f":"X8*$K$13","v":16.755043227665706},{"$f":"IF(AS8>O8,O8,AS8)","v":6.3907571443084308},null,1.2507204610951008,1.1873198847262247,1.1210374639769451,1.0893371757925072,1.0576368876080691,0.99423631123919309,0.93083573487031701,0.50786130898863457,0.51499101025317073,0.52293330594006004,0.52738440896131544,0.53183551198257084,0.54188284397553699,0.5533114429093613,{"$f":"IF(Y8<0.9,0.9,Y8*-3.6846+4.1276)","v":0.9},{"$f":"IF(Z8<0.9,0.9,Z8*-3.6846+4.1276)","v":0.9},0.9,0.9,0.9,0.9,0.9,{"$f":"Y8*C8+($A$4-80)*AF8*$A$8/1000","v":8.5534655499112748},{"$f":"Z8*E8+($A$4-80)*AG8*$A$8/1000","v":8.1262632047190593},{"$f":"AA8*G8+($A$4-80)*AH8*$A$8/1000","v":7.6721008881622463},{"$f":"AB8*I8+($A$4-80)*AI8*$A$8/1000","v":7.4609899670685582},{"$f":"AC8*K8+($A$4-80)*AJ8*$A$8/1000","v":7.2447994010284198},{"$f":"AD8*M8+($A$4-80)*AK8*$A$8/1000","v":6.8176727985247361},{"$f":"AE8*O8+($A$4-80)*AL8*$A$8/1000","v":6.3907571443084308}]
[null,67,21.060518731988473,11.756158635915643,19.919308357348704,{"$f":"IF(AN9>E9,E9,AN9)","v":11.28328469446706},18.726224783861671,{"$f":"IF(AO9>G9,G9,AO9)","v":10.773437758525075},18.155619596541786,{"$f":"IF(AP9>I9,I9,AP9)","v":10.543242956386262},{"$f":"V9*$K$13","v":17.585014409221902},{"$f":"IF(AQ9>K9,K9,AQ9)","v":10.301366913100029},16.391930835734868,{"$f":"IF(AR9>M9,M9,AR9)","v":9.7902829059744967},15.250720461095101,{"$f":"IF(AS9>O9,O9,AS9)","v":9.3192275280692325},null,1.1700288184438041,1.106628242074928,1.0403458213256485,1.0086455331412103,0.97694524495677237,0.91066282420749278,0.8472622478386167,0.69495717660956879,0.7110329555816074,0.72910786429796892,0.73934369934381494,0.74957953438966096,0.77295853874352172,0.79991155560091165,{"$f":"IF(Y9<0.9,0.9,Y9*-3.6846+4.1276)","v":0.9},0.9,0.9,0.9,0.9,0.9,0.9,{"$f":"Y9*C9+($A$4-80)*AF9*$A$8/1000","v":11.756158635915643},{"$f":"Z9*E9+($A$4-80)*AG9*$A$8/1000","v":11.28328469446706},{"$f":"AA9*G9+($A$4-80)*AH9*$A$8/1000","v":10.773437758525075},{"$f":"AB9*I9+($A$4-80)*AI9*$A$8/1000","v":10.543242956386262},{"$f":"AC9*K9+($A$4-80)*AJ9*$A$8/1000","v":10.301366913100029},{"$f":"AD9*M9+($A$4-80)*AK9*$A$8/1000","v":9.7902829059744967},{"$f":"AE9*O9+($A$4-80)*AL9*$A$8/1000","v":9.3192275280692325}]
[null,62,19.34870317002882,14.366282852133015,18.259365994236312,14.318339668867093,17.221902017291068,14.171626996631673,16.703170028818445,14.12803142916702,{"$f":"V10*$K$13","v":16.184438040345821},14.068198983075618,15.146974063400576,13.729374063400574,14.057636887608069,12.640036887608067,null,1.0749279538904899,1.0144092219020173,0.95677233429394815,0.9279538904899135,0.89913544668587897,0.84149855907780979,0.78097982708933722,0.891340504868954,0.91602598655280998,0.94372535444447792,0.9593759013430353,0.97502644824159268,1,1,0.9,0.7524106499475165,0.65034955901387681,0.59268355391145233,0.53501754880902785,0.44300000000000006,0.44300000000000006,14.366282852133015,{"$f":"Z10*E10+($A$4-80)*AG10*$A$8/1000","v":14.318339668867093},{"$f":"AA10*G10+($A$4-80)*AH10*$A$8/1000","v":14.171626996631673},14.12803142916702,14.068198983075618,13.729374063400574,12.640036887608067]
[null,57,18.933717579250722,17.516117579250722,18.051873198847264,16.634273198847264,17.221902017291068,15.804302017291066,16.78097982708934,15.363379827089338,{"$f":"V11*$K$13","v":16.340057636887607},14.922457636887605,15.510086455331413,14.092486455331411,14.628242074927954,13.210642074927952,null,1.0518731988472623,1.0028818443804035,0.95677233429394815,0.93227665706051877,0.90778097982708938,0.86167146974063402,0.81268011527377526,1,1,1,1,1,1,1,0.44300000000000006,0.44300000000000006,0.44300000000000006,0.44300000000000006,0.44300000000000006,0.44300000000000006,0.44300000000000006,17.516117579250722,{"$f":"Z11*E11+($A$4-80)*AG11*$A$8/1000","v":16.634273198847264},{"$f":"AA11*G11+($A$4-80)*AH11*$A$8/1000","v":15.804302017291066},{"$f":"AB11*I11+($A$4-80)*AI11*$A$8/1000","v":15.363379827089338},14.922457636887605,14.092486455331411,13.210642074927952]
[1200,72,23.031700288184439,8.7116760333885814,21.838616714697405,8.3369049176241692,20.645533141210372,7.9621892941779429,20.04899135446686,7.7792373379123365,{"$f":"V12*$K$13","v":19.452449567723345},7.5875393951771564,18.259365994236312,7.2129681330663313,17.066282420749278,6.8384920397498288,null,1.2795389048991355,1.2132564841498559,1.1469740634005763,1.1138328530259367,1.0806916426512969,1.0144092219020173,0.94812680115273773,0.52830124919742727,0.54000237614351909,0.55305858250694417,0.56038915570728498,0.56771972890762579,0.58430112723706096,0.60320647379148795,0.9,0.9,0.9,0.9,0.9,0.9,0.9,{"$f":"Y12*C12+($A$4-80)*AF12*$A$12/1000","v":8.7116760333885814},{"$f":"Z12*E12+($A$4-80)*AG12*$A$12/1000","v":8.3369049176241692},{"$f":"AA12*G12+($A$4-80)*AH12*$A$12/1000","v":7.9621892941779429},{"$f":"AB12*I12+($A$4-80)*AI12*$A$12/1000","v":7.7792373379123365},{"$f":"AC12*K12+($A$4-80)*AJ12*$A$12/1000","v":7.5875393951771564},{"$f":"AD12*M12+($A$4-80)*AK12*$A$12/1000","v":7.2129681330663313},{"$f":"AE12*O12+($A$4-80)*AL12*$A$12/1000","v":6.8384920397498288}]
[null,67,21.631123919308358,12.273321802639055,20.438040345821324,11.77387101989175,19.193083573487034,11.235674417453072,18.596541786743515,10.993282881205735,18,10.73714641744548,16.755043227665706,10.197582190875778,15.561959654178674,9.7002310367025579,null,1.2017291066282421,1.1354466858789625,1.0662824207492796,1.0331412103746398,1,0.93083573487031701,0.86455331412103742,0.72716155948784345,0.74517276422764223,0.76546712054898147,0.77698762742575411,0.78850813430252686,0.81489388032918753,0.84540966106218307,0.9,0.9,0.9,0.9,0.9,0.9,0.9,{"$f":"Y13*C13+($A$4-80)*AF13*$A$12/1000","v":12.273321802639055},{"$f":"Z13*E13+($A$4-80)*AG13*$A$12/1000","v":11.77387101989175},{"$f":"AA13*G13+($A$4-80)*AH13*$A$12/1000","v":11.235674417453072},{"$f":"AB13*I13+($A$4-80)*AI13*$A$12/1000","v":10.993282881205735},{"$f":"AC13*K13+($A$4-80)*AJ13*$A$12/1000","v":10.73714641744548},{"$f":"AD13*M13+($A$4-80)*AK13*$A$12/1000","v":10.197582190875778},{"$f":"AE13*O13+($A$4-80)*AL13*$A$12/1000","v":9.7002310367025579}]
[null,62,19.608069164265132,17.19644120983989,18.829971181556196,16.646101037340998,18,16.052952653115316,17.585014409221902,15.762517981682484,{"$f":"V14*$K$13","v":17.170028818443804},15.468908818443802,16.391930835734868,14.690810835734867,15.561959654178674,13.860839654178672,null,1.0893371757925072,1.0461095100864553,1,0.97694524495677237,0.95389048991354464,0.91066282420749278,0.86455331412103742,0.9789522362423202,0.98536181943487255,0.99235035655117765,0.99617517827558877,1,1,1,0.52055259034154711,0.49693584011026859,0.47118587625153108,0.45709293812576579,0.44300000000000006,0.44300000000000006,0.44300000000000006,17.19644120983989,{"$f":"Z14*E14+($A$4-80)*AG14*$A$12/1000","v":16.646101037340998},{"$f":"AA14*G14+($A$4-80)*AH14*$A$12/1000","v":16.052952653115316},15.762517981682484,15.468908818443802,14.690810835734867,13.860839654178672]
[null,57,19.971181556195965,18.270061556195962,19.037463976945244,17.336343976945241,18.103746397694525,16.402626397694522,17.636887608069163,15.935767608069161,17.170028818443804,15.468908818443802,16.236311239193082,14.535191239193081,15.302593659942364,13.601473659942362,null,1.1095100864553313,1.0576368876080691,1.005763688760807,0.97982708933717577,0.95389048991354464,0.90201729106628237,0.85014409221902021,1,1,1,1,1,1,1,0.44300000000000006,0.44300000000000006,0.44300000000000006,0.44300000000000006,0.44300000000000006,0.44300000000000006,0.44300000000000006,18.270061556195962,{"$f":"Z15*E15+($A$4-80)*AG15*$A$12/1000","v":17.336343976945241},{"$f":"AA15*G15+($A$4-80)*AH15*$A$12/1000","v":16.402626397694522},15.935767608069161,15.468908818443802,14.535191239193081,13.601473659942362]
[1400,72,23.394812680115272,8.9710854920319942,22.149855907780982,8.5924583256150076,20.904899135446684,8.2135237505334455,20.282420749279538,8.0294141271198214,19.659942363112393,7.8342239089184016,18.466858789625359,7.4868417487103134,17.221902017291068,7.1077674983918087,null,1.2997118155619596,1.2305475504322767,1.1613832853025936,1.1268011527377522,1.0922190201729107,1.0259365994236311,0.95677233429394815,0.55581062647636159,0.5699566795457206,0.58577291720914082,0.59467330237433635,0.60357368753953189,0.62375750418265918,0.64683723593406262,0.9,0.9,0.9,0.9,0.9,0.9,0.9,{"$f":"Y16*C16+($A$4-80)*AF16*$A$16/1000","v":8.9710854920319942},{"$f":"Z16*E16+($A$4-80)*AG16*$A$16/1000","v":8.5924583256150076},{"$f":"AA16*G16+($A$4-80)*AH16*$A$16/1000","v":8.2135237505334455},{"$f":"AB16*I16+($A$4-80)*AI16*$A$16/1000","v":8.0294141271198214},{"$f":"AC16*K16+($A$4-80)*AJ16*$A$16/1000","v":7.8342239089184016},{"$f":"AD16*M16+($A$4-80)*AK16*$A$16/1000","v":7.4868417487103134},{"$f":"AE16*O16+($A$4-80)*AL16*$A$16/1000","v":7.1077674983918087}]
[null,67,21.942363112391931,12.716342351523657,20.749279538904901,12.379727628094219,19.556195965417867,12.042480667070141,18.959654178674349,11.883918929266464,18.363112391930834,11.704479491803921,17.221902017291068,11.412086926209085,16.028818443804035,12.171893353433571,null,1.2190201729106629,1.1527377521613833,1.0864553314121037,1.0533141210374639,1.0201729106628241,0.95677233429394815,0.89048991354466855,0.76328799526907154,0.79095409540954098,0.82196357080361637,0.83946251230513225,0.85696145380664823,0.89677010766307785,0.94245466321243521,0.9,0.9,0.9,0.9,0.9,0.9,0.65503154792746132,{"$f":"Y17*C17+($A$4-80)*AF17*$A$16/1000","v":12.716342351523657},{"$f":"Z17*E17+($A$4-80)*AG17*$A$16/1000","v":12.379727628094219},{"$f":"AA17*G17+($A$4-80)*AH17*$A$16/1000","v":12.042480667070141},{"$f":"AB17*I17+($A$4-80)*AI17*$A$16/1000","v":11.883918929266464},{"$f":"AC17*K17+($A$4-80)*AJ17*$A$16/1000","v":11.704479491803921},{"$f":"AD17*M17+($A$4-80)*AK17*$A$16/1000","v":11.412086926209085},{"$f":"AE17*O17+($A$4-80)*AL17*$A$16/1000","v":12.171893353433571}]
[null,62,20.853025936599423,18.86838593659942,19.815561959654179,17.830921959654177,18.829971181556196,16.845331181556194,18.311239193083576,16.326599193083574,17.792507204610953,15.80786720461095,16.806916426512966,14.822276426512964,15.769452449567725,13.784812449567722,null,1.1585014409221901,1.100864553314121,1.0461095100864553,1.0172910662824208,0.98847262247838619,0.93371757925072041,0.87608069164265134,1,1,1,1,1,1,1,0.44300000000000006,0.44300000000000006,0.44300000000000006,0.44300000000000006,0.44300000000000006,0.44300000000000006,0.44300000000000006,18.86838593659942,{"$f":"Z18*E18+($A$4-80)*AG18*$A$16/1000","v":17.830921959654177},{"$f":"AA18*G18+($A$4-80)*AH18*$A$16/1000","v":16.845331181556194},16.326599193083574,15.80786720461095,14.822276426512964,13.784812449567722]
[null,57,20.801152737752162,18.816512737752159,19.815561959654179,17.830921959654177,18.778097982708935,16.793457982708933,18.285302593659942,16.30066259365994,17.792507204610953,15.80786720461095,16.755043227665706,14.770403227665703,15.769452449567725,13.784812449567722,null,1.1556195965417868,1.100864553314121,1.043227665706052,1.015850144092219,0.98847262247838619,0.93083573487031701,0.87608069164265134,1,1,1,1,1,1,1,0.44300000000000006,0.44300000000000006,0.44300000000000006,0.44300000000000006,0.44300000000000006,0.44300000000000006,0.44300000000000006,18.816512737752159,{"$f":"Z19*E19+($A$4-80)*AG19*$A$16/1000","v":17.830921959654177},{"$f":"AA19*G19+($A$4-80)*AH19*$A$16/1000","v":16.793457982708933},16.30066259365994,15.80786720461095,14.770403227665703,13.784812449567722]

{"sheet":"4SCU14L_41","index":21,"n_rows":19,"n_cols":45,"rows_kept":19,"cut":false,"hidden":true,"merged":[[2,0,2,1],[2,2,2,15],[3,2,3,3],[3,4,3,5],[3,6,3,7],[3,8,3,9],[3,10,3,11],[3,12,3,13],[3,14,3,15],[5,2,6,2],[5,3,6,3],[5,4,6,4],[5,5,6,5],[5,6,6,6],[5,7,6,7],[5,8,6,8],[4,0,6,0],[4,1,6,1],[4,2,4,3],[4,4,4,5],[4,6,4,7],[4,8,4,9],[5,9,6,9],[5,10,6,10],[5,11,6,11],[5,12,6,12],[5,13,6,13],[5,14,6,14],[5,15,6,15],[4,10,4,11],[4,12,4,13],[4,14,4,15],[7,0,10,0],[11,0,14,0],[15,0,18,0],[22,4,22,15],[23,4,23,5],[23,6,23,7],[23,8,23,9],[23,10,23,11],[23,12,23,13],[23,14,23,15],[25,12,26,12],[25,13,26,13],[25,14,26,14],[25,15,26,15],[27,0,30,0],[31,0,34,0],[24,12,24,13],[24,14,24,15],[25,4,26,4],[25,5,26,5],[25,6,26,6],[25,7,26,7],[25,8,26,8],[25,9,26,9],[25,10,26,10],[25,11,26,11],[24,0,26,0],[24,1,26,1],[24,4,24,5],[24,6,24,7],[24,8,24,9],[24,10,24,11],[35,0,38,0],[41,0,42,1],[41,4,41,15],[42,4,42,5],[42,6,42,7],[42,8,42,9],[42,10,42,11],[42,12,42,13],[42,14,42,15],[44,12,45,12],[44,13,45,13],[44,14,45,14],[44,15,45,15],[46,0,49,0],[50,0,53,0],[43,12,43,13],[43,14,43,15],[44,4,45,4],[44,5,45,5],[44,6,45,6],[44,7,45,7],[44,8,45,8],[44,9,45,9],[44,10,45,10],[44,11,45,11],[43,0,45,0],[43,1,45,1],[43,4,43,5],[43,6,43,7],[43,8,43,9],[43,10,43,11],[54,0,57,0],[60,0,61,1],[60,4,60,15],[61,4,61,5],[61,6,61,7],[61,8,61,9],[61,10,61,11],[61,12,61,13],[61,14,61,15],[63,12,64,12],[63,13,64,13],[63,14,64,14],[63,15,64,15],[65,0,68,0],[69,0,72,0],[62,12,62,13],[62,14,62,15],[63,4,64,4],[63,5,64,5],[63,6,64,6],[63,7,64,7],[63,8,64,8],[63,9,64,9],[63,10,64,10],[63,11,64,11],[62,0,64,0],[62,1,64,1],[62,4,62,5],[62,6,62,7],[62,8,62,9],[62,10,62,11],[73,0,76,0],[79,0,80,1],[79,4,79,15],[80,4,80,5],[80,6,80,7],[80,8,80,9],[80,10,80,11],[80,12,80,13],[80,14,80,15],[82,12,83,12],[82,13,83,13],[82,14,83,14],[82,15,83,15],[84,0,87,0],[88,0,91,0],[81,12,81,13],[81,14,81,15],[82,4,83,4],[82,5,83,5],[82,6,83,6],[82,7,83,7],[82,8,83,8],[82,9,83,9],[82,10,83,10],[82,11,83,11],[81,0,83,0],[81,1,83,1],[81,4,81,5],[81,6,81,7],[81,8,81,9],[81,10,81,11],[92,0,95,0],[98,0,99,1],[98,4,98,15],[99,4,99,5],[99,6,99,7],[99,8,99,9],[99,10,99,11],[99,12,99,13],[99,14,99,15],[101,12,102,12],[101,13,102,13],[101,14,102,14],[101,15,102,15],[103,0,106,0],[107,0,110,0],[100,12,100,13],[100,14,100,15],[101,4,102,4],[101,5,102,5],[101,6,102,6],[101,7,102,7],[101,8,102,8],[101,9,102,9],[101,10,102,10],[101,11,102,11],[100,0,102,0],[100,1,102,1],[100,4,100,5],[100,6,100,7],[100,8,100,9],[100,10,100,11],[111,0,114,0],[117,0,118,1],[117,4,117,15],[118,4,118,5],[118,6,118,7],[118,8,118,9],[118,10,118,11],[118,12,118,13],[118,14,118,15],[130,0,133,0],[120,12,121,12],[120,13,121,13],[120,14,121,14],[120,15,121,15],[122,0,125,0],[126,0,129,0],[119,12,119,13],[119,14,119,15],[120,4,121,4],[120,5,121,5],[120,6,121,6],[120,7,121,7],[120,8,121,8],[120,9,121,9],[120,10,121,10],[120,11,121,11],[119,0,121,0],[119,1,121,1],[119,4,119,5],[119,6,119,7],[119,8,119,9],[119,10,119,11]]}
[]
["4SCU14L_41"]
["Evaporator Air \n",null,"Condenser  Entering Air Temperature ˚F"]
[80,"°F DB",65,null,75,null,85,null,90,null,95,null,105,null,115]
["CFM","EWB†\n˚F","Capacity Mbtuh",null,"Capacity Mbtuh",null,"Capacity Mbtuh",null,"Capacity Mbtuh",null,"Capacity Mbtuh",null,"Capacity Mbtuh",null,"Capacity Mbtuh"]
[null,null,"Total","Sens.","Total","Sens.","Total","Sens.","Total","Sens.","Total","Sens.","Total","Sens.","Total","Sens."]
[null,null,null,null,null,null,null,null,null,null,null,null,null,null,null,null,null,"Total Factors",null,null,null,null,null,null,"Sens. %",null,null,null,null,null,null,"IDB Adj",null,null,null,null,null,null,"Sens Calc"]
[1200,72,{"$f":"R8*$K$13","v":22.705583756345177},{"$f":"IF(AM8>C8,C8,AM8)","v":11.672448792346048},{"$f":"S8*$K$13","v":21.517766497461928},{"$f":"IF(AN8>E8,E8,AN8)","v":11.23397337583344},{"$f":"T8*$K$13","v":20.329949238578681},{"$f":"IF(AO8>G8,G8,AO8)","v":10.795409344854399},{"$f":"U8*$K$13","v":19.736040609137056},{"$f":"IF(AP8>I8,I8,AP8)","v":10.579054482440947},{"$f":"V8*$K$13","v":19.142131979695431},{"$f":"IF(AQ8>K8,K8,AQ8)","v":10.356740284819228},{"$f":"W8*$K$13","v":17.954314720812185},{"$f":"IF(AR8>M8,M8,AR8)","v":9.9179454602459458},{"$f":"X8*$K$13","v":16.766497461928932},{"$f":"IF(AS8>O8,O8,AS8)","v":9.4789982928429986},null,1.2614213197969544,1.1954314720812182,1.1294416243654823,1.0964467005076142,1.0634517766497462,0.9974619289340102,0.93147208121827407,0.51407833939015679,0.52207897028525307,0.53101014754964204,0.53602719471215698,0.54104424187467193,0.55239899792718439,0.56535351610356377,{"$f":"IF(Y8<0.9,0.9,Y8*-3.6846+4.1276)","v":0.9},{"$f":"IF(Z8<0.9,0.9,Z8*-3.6846+4.1276)","v":0.9},0.9,0.9,0.9,0.9,0.9,{"$f":"Y8*C8+($A$4-80)*AF8*$A$8/1000","v":11.672448792346048},{"$f":"Z8*E8+($A$4-80)*AG8*$A$8/1000","v":11.23397337583344},{"$f":"AA8*G8+($A$4-80)*AH8*$A$8/1000","v":10.795409344854399},{"$f":"AB8*I8+($A$4-80)*AI8*$A$8/1000","v":10.579054482440947},{"$f":"AC8*K8+($A$4-80)*AJ8*$A$8/1000","v":10.356740284819228},{"$f":"AD8*M8+($A$4-80)*AK8*$A$8/1000","v":9.9179454602459458},{"$f":"AE8*O8+($A$4-80)*AL8*$A$8/1000","v":9.4789982928429986}]
[null,67,20.832487309644669,14.837209535487377,19.781725888324875,{"$f":"IF(AN9>E9,E9,AN9)","v":14.430841258305209},18.730964467005073,{"$f":"IF(AO9>G9,G9,AO9)","v":14.02434405555084},18.205583756345177,{"$f":"IF(AP9>I9,I9,AP9)","v":13.826666761340421},{"$f":"V9*$K$13","v":17.680203045685278},{"$f":"IF(AQ9>K9,K9,AQ9)","v":13.617695026891981},16.629441624365484,{"$f":"IF(AR9>M9,M9,AR9)","v":13.210865507124073},15.578680203045685,{"$f":"IF(AS9>O9,O9,AS9)","v":12.803819130293999},null,1.1573604060913705,1.0989847715736041,1.0406091370558375,1.0114213197969544,0.98223350253807107,0.92385786802030456,0.86548223350253806,0.71221498013913576,0.7295036509843793,0.7487251433451263,0.75947395845087495,0.77022277355662372,0.79442628354805922,0.82188086303939967,{"$f":"IF(Y9<0.9,0.9,Y9*-3.6846+4.1276)","v":0.9},0.9,0.9,0.9,0.9,0.9,0.9,{"$f":"Y9*C9+($A$4-80)*AF9*$A$8/1000","v":14.837209535487377},{"$f":"Z9*E9+($A$4-80)*AG9*$A$8/1000","v":14.430841258305209},{"$f":"AA9*G9+($A$4-80)*AH9*$A$8/1000","v":14.02434405555084},{"$f":"AB9*I9+($A$4-80)*AI9*$A$8/1000","v":13.826666761340421},{"$f":"AC9*K9+($A$4-80)*AJ9*$A$8/1000","v":13.617695026891981},{"$f":"AD9*M9+($A$4-80)*AK9*$A$8/1000","v":13.210865507124073},{"$f":"AE9*O9+($A$4-80)*AL9*$A$8/1000","v":12.803819130293999}]
[null,62,19.142131979695431,18.138526598704626,18.319796954314722,17.650687134458458,17.497461928934008,17.162885373902306,17.086294416243653,16.922937194857418,{"$f":"V10*$K$13","v":16.675126903553299},16.675126903553299,15.852791878172589,15.852791878172589,15.030456852791879,15.030456852791879,null,1.0634517766497462,1.0177664974619289,0.97208121827411165,0.949238578680203,0.92639593908629436,0.88071065989847719,0.8350253807106599,0.94757086712935867,0.96347613341322147,0.98087856648063676,0.99043928324031838,1,1,1,0.63618038297516488,0.57757583882564445,0.51345483394544589,0.47822741697272297,0.44300000000000006,0.44300000000000006,0.44300000000000006,18.138526598704626,{"$f":"Z10*E10+($A$4-80)*AG10*$A$8/1000","v":17.650687134458458},{"$f":"AA10*G10+($A$4-80)*AH10*$A$8/1000","v":17.162885373902306},16.922937194857418,16.675126903553299,15.852791878172589,15.030456852791879]
[null,57,19.050761421319795,19.050761421319795,18.228426395939088,18.228426395939088,17.451776649746193,17.451776649746193,17.040609137055839,17.040609137055839,{"$f":"V11*$K$13","v":16.629441624365484},16.629441624365484,15.80710659898477,15.80710659898477,15.030456852791879,15.030456852791879,null,1.0583756345177664,1.0126903553299493,0.96954314720812185,0.9467005076142132,0.92385786802030456,0.87817258883248728,0.8350253807106599,1,1,1,1,1,1,1,0.44300000000000006,0.44300000000000006,0.44300000000000006,0.44300000000000006,0.44300000000000006,0.44300000000000006,0.44300000000000006,19.050761421319795,{"$f":"Z11*E11+($A$4-80)*AG11*$A$8/1000","v":18.228426395939088},{"$f":"AA11*G11+($A$4-80)*AH11*$A$8/1000","v":17.451776649746193},{"$f":"AB11*I11+($A$4-80)*AI11*$A$8/1000","v":17.040609137055839},16.629441624365484,15.80710659898477,15.030456852791879]
[1400,72,23.116751269035532,12.446285507754036,21.883248730964468,12.007672747362518,20.649746192893403,11.568912169479667,20.032994923857867,11.353448341836645,{"$f":"V12*$K$13","v":19.416243654822335},11.129975775970905,18.18274111675127,10.690828021344798,16.949238578680202,10.251423085839509,null,1.2842639593908629,1.2157360406091371,1.1472081218274113,1.1129441624365481,1.0786802030456852,1.0101522842639594,0.94162436548223349,0.53840980347552592,0.54871527052433677,0.5602447633695905,0.56673744415097405,0.5732301249323577,0.58796569519958819,0.60483089185695815,0.9,0.9,0.9,0.9,0.9,0.9,0.9,{"$f":"Y12*C12+($A$4-80)*AF12*$A$12/1000","v":12.446285507754036},{"$f":"Z12*E12+($A$4-80)*AG12*$A$12/1000","v":12.007672747362518},{"$f":"AA12*G12+($A$4-80)*AH12*$A$12/1000","v":11.568912169479667},{"$f":"AB12*I12+($A$4-80)*AI12*$A$12/1000","v":11.353448341836645},{"$f":"AC12*K12+($A$4-80)*AJ12*$A$12/1000","v":11.129975775970905},{"$f":"AD12*M12+($A$4-80)*AK12*$A$12/1000","v":10.690828021344798},{"$f":"AE12*O12+($A$4-80)*AL12*$A$12/1000","v":10.251423085839509}]
[null,67,21.197969543147209,16.062027299666038,20.147208121827411,15.678933607302133,19.096446700507613,15.296777702248329,18.54822335025381,15.094368808908524,18,14.877965843631843,16.949238578680202,14.496916845821334,15.852791878172589,14.076705579076794,null,1.1776649746192893,1.1192893401015229,1.0609137055837563,1.0304568527918783,1,0.94162436548223349,0.88071065989847719,0.75771536830321107,0.77821867489002772,0.8010274341687722,0.81379054607415946,0.82655365797954683,0.85531375220928507,0.8879638165475916,0.9,0.9,0.9,0.9,0.9,0.9,0.9,{"$f":"Y13*C13+($A$4-80)*AF13*$A$12/1000","v":16.062027299666038},{"$f":"Z13*E13+($A$4-80)*AG13*$A$12/1000","v":15.678933607302133},{"$f":"AA13*G13+($A$4-80)*AH13*$A$12/1000","v":15.296777702248329},{"$f":"AB13*I13+($A$4-80)*AI13*$A$12/1000","v":15.094368808908524},{"$f":"AC13*K13+($A$4-80)*AJ13*$A$12/1000","v":14.877965843631843},{"$f":"AD13*M13+($A$4-80)*AK13*$A$12/1000","v":14.496916845821334},{"$f":"AE13*O13+($A$4-80)*AL13*$A$12/1000","v":14.076705579076794}]
[null,62,19.964467005076145,19.964467005076145,19.096446700507613,19.096446700507613,18.18274111675127,18.18274111675127,17.748730964467004,17.748730964467004,{"$f":"V14*$K$13","v":17.314720812182742},17.314720812182742,16.446700507614214,16.446700507614214,15.578680203045685,15.578680203045685,null,1.1091370558375635,1.0609137055837563,1.0101522842639594,0.98604060913705582,0.96192893401015234,0.91370558375634514,0.86548223350253806,1,1,1,1,1,1,1,0.44300000000000006,0.44300000000000006,0.44300000000000006,0.44300000000000006,0.44300000000000006,0.44300000000000006,0.44300000000000006,19.964467005076145,{"$f":"Z14*E14+($A$4-80)*AG14*$A$12/1000","v":19.096446700507613},{"$f":"AA14*G14+($A$4-80)*AH14*$A$12/1000","v":18.18274111675127},17.748730964467004,17.314720812182742,16.446700507614214,15.578680203045685]
[null,57,19.918781725888323,19.918781725888323,19.050761421319795,19.050761421319795,18.18274111675127,18.18274111675127,17.748730964467004,17.748730964467004,17.314720812182742,17.314720812182742,16.446700507614214,16.446700507614214,15.532994923857869,15.532994923857869,null,1.1065989847715736,1.0583756345177664,1.0101522842639594,0.98604060913705582,0.96192893401015234,0.91370558375634514,0.86294416243654826,1,1,1,1,1,1,1,0.44300000000000006,0.44300000000000006,0.44300000000000006,0.44300000000000006,0.44300000000000006,0.44300000000000006,0.44300000000000006,19.918781725888323,{"$f":"Z15*E15+($A$4-80)*AG15*$A$12/1000","v":19.050761421319795},{"$f":"AA15*G15+($A$4-80)*AH15*$A$12/1000","v":18.18274111675127},17.748730964467004,17.314720812182742,16.446700507614214,15.532994923857869]
[1600,72,23.345177664974621,13.140053494010647,22.111675126903553,12.730632079946641,20.832487309644669,12.294773486611174,20.215736040609137,12.095285081586418,19.598984771573605,11.885759290828664,18.36548223350254,11.47739740208916,17.086294416243653,11.040311625772318,null,1.2969543147208122,1.2284263959390862,1.1573604060913705,1.1230964467005076,1.0888324873096447,1.0203045685279188,0.949238578680203,0.56285943429443297,0.5757425435604886,0.59017309377738825,0.5983103982605209,0.60644770274365367,0.62494397131331236,0.64615014565571804,0.9,0.9,0.9,0.9,0.9,0.9,0.9,{"$f":"Y16*C16+($A$4-80)*AF16*$A$16/1000","v":13.140053494010647},{"$f":"Z16*E16+($A$4-80)*AG16*$A$16/1000","v":12.730632079946641},{"$f":"AA16*G16+($A$4-80)*AH16*$A$16/1000","v":12.294773486611174},{"$f":"AB16*I16+($A$4-80)*AI16*$A$16/1000","v":12.095285081586418},{"$f":"AC16*K16+($A$4-80)*AJ16*$A$16/1000","v":11.885759290828664},{"$f":"AD16*M16+($A$4-80)*AK16*$A$16/1000","v":11.47739740208916},{"$f":"AE16*O16+($A$4-80)*AL16*$A$16/1000","v":11.040311625772318}]
[null,67,21.609137055837564,17.461096205298769,20.467005076142133,16.998067606914482,19.324873096446701,16.534920599033107,18.753807106598984,16.311347638757105,18.18274111675127,16.071632923012057,17.040609137055839,15.608176368352467,15.898477157360405,15.144514640812124,null,1.2005076142131981,1.1370558375634519,1.0736040609137056,1.0418781725888324,1.0101522842639594,0.9467005076142132,0.88324873096446699,0.80804227212681634,0.83051074369101008,0.85562893564736597,0.86976193932471246,0.88389494300205895,0.91594004902157755,0.9525764317496771,0.9,0.9,0.9,0.9,0.9,0.75272729537509564,0.61773687957513967,{"$f":"Y17*C17+($A$4-80)*AF17*$A$16/1000","v":17.461096205298769},{"$f":"Z17*E17+($A$4-80)*AG17*$A$16/1000","v":16.998067606914482},{"$f":"AA17*G17+($A$4-80)*AH17*$A$16/1000","v":16.534920599033107},{"$f":"AB17*I17+($A$4-80)*AI17*$A$16/1000","v":16.311347638757105},{"$f":"AC17*K17+($A$4-80)*AJ17*$A$16/1000","v":16.071632923012057},{"$f":"AD17*M17+($A$4-80)*AK17*$A$16/1000","v":15.608176368352467},{"$f":"AE17*O17+($A$4-80)*AL17*$A$16/1000","v":15.144514640812124}]
[null,62,20.649746192893403,20.649746192893403,19.690355329949238,19.690355329949238,18.776649746192891,18.776649746192891,18.319796954314722,18.319796954314722,17.862944162436548,17.862944162436548,16.903553299492387,16.903553299492387,15.98984771573604,15.98984771573604,null,1.1472081218274113,1.0939086294416243,1.0431472081218274,1.0177664974619289,0.99238578680203049,0.93908629441624369,0.8883248730964467,1,1,1,1,1,1,1,0.44300000000000006,0.44300000000000006,0.44300000000000006,0.44300000000000006,0.44300000000000006,0.44300000000000006,0.44300000000000006,20.649746192893403,{"$f":"Z18*E18+($A$4-80)*AG18*$A$16/1000","v":19.690355329949238},{"$f":"AA18*G18+($A$4-80)*AH18*$A$16/1000","v":18.776649746192891},18.319796954314722,17.862944162436548,16.903553299492387,15.98984771573604]
[null,57,20.604060913705585,20.604060913705585,19.690355329949238,19.690355329949238,18.730964467005073,18.730964467005073,18.274111675126903,18.274111675126903,17.81725888324873,17.81725888324873,16.903553299492387,16.903553299492387,15.98984771573604,15.98984771573604,null,1.1446700507614214,1.0939086294416243,1.0406091370558375,1.015228426395939,0.98984771573604058,0.93908629441624369,0.8883248730964467,1,1,1,1,1,1,1,0.44300000000000006,0.44300000000000006,0.44300000000000006,0.44300000000000006,0.44300000000000006,0.44300000000000006,0.44300000000000006,20.604060913705585,{"$f":"Z19*E19+($A$4-80)*AG19*$A$16/1000","v":19.690355329949238},{"$f":"AA19*G19+($A$4-80)*AH19*$A$16/1000","v":18.730964467005073},18.274111675126903,17.81725888324873,16.903553299492387,15.98984771573604]

{"sheet":"4SCU14L_42","index":22,"n_rows":19,"n_cols":45,"rows_kept":19,"cut":false,"hidden":true,"merged":[[2,0,2,1],[2,2,2,15],[3,2,3,3],[3,4,3,5],[3,6,3,7],[3,8,3,9],[3,10,3,11],[3,12,3,13],[3,14,3,15],[5,2,6,2],[5,3,6,3],[5,4,6,4],[5,5,6,5],[5,6,6,6],[5,7,6,7],[5,8,6,8],[4,0,6,0],[4,1,6,1],[4,2,4,3],[4,4,4,5],[4,6,4,7],[4,8,4,9],[5,9,6,9],[5,10,6,10],[5,11,6,11],[5,12,6,12],[5,13,6,13],[5,14,6,14],[5,15,6,15],[4,10,4,11],[4,12,4,13],[4,14,4,15],[7,0,10,0],[11,0,14,0],[15,0,18,0],[22,4,22,15],[23,4,23,5],[23,6,23,7],[23,8,23,9],[23,10,23,11],[23,12,23,13],[23,14,23,15],[25,12,26,12],[25,13,26,13],[25,14,26,14],[25,15,26,15],[27,0,30,0],[31,0,34,0],[24,12,24,13],[24,14,24,15],[25,4,26,4],[25,5,26,5],[25,6,26,6],[25,7,26,7],[25,8,26,8],[25,9,26,9],[25,10,26,10],[25,11,26,11],[24,0,26,0],[24,1,26,1],[24,4,24,5],[24,6,24,7],[24,8,24,9],[24,10,24,11],[35,0,38,0],[41,0,42,1],[41,4,41,15],[42,4,42,5],[42,6,42,7],[42,8,42,9],[42,10,42,11],[42,12,42,13],[42,14,42,15],[44,12,45,12],[44,13,45,13],[44,14,45,14],[44,15,45,15],[46,0,49,0],[50,0,53,0],[43,12,43,13],[43,14,43,15],[44,4,45,4],[44,5,45,5],[44,6,45,6],[44,7,45,7],[44,8,45,8],[44,9,45,9],[44,10,45,10],[44,11,45,11],[43,0,45,0],[43,1,45,1],[43,4,43,5],[43,6,43,7],[43,8,43,9],[43,10,43,11],[54,0,57,0],[60,0,61,1],[60,4,60,15],[61,4,61,5],[61,6,61,7],[61,8,61,9],[61,10,61,11],[61,12,61,13],[61,14,61,15],[63,12,64,12],[63,13,64,13],[63,14,64,14],[63,15,64,15],[65,0,68,0],[69,0,72,0],[62,12,62,13],[62,14,62,15],[63,4,64,4],[63,5,64,5],[63,6,64,6],[63,7,64,7],[63,8,64,8],[63,9,64,9],[63,10,64,10],[63,11,64,11],[62,0,64,0],[62,1,64,1],[62,4,62,5],[62,6,62,7],[62,8,62,9],[62,10,62,11],[73,0,76,0],[79,0,80,1],[79,4,79,15],[80,4,80,5],[80,6,80,7],[80,8,80,9],[80,10,80,11],[80,12,80,13],[80,14,80,15],[82,12,83,12],[82,13,83,13],[82,14,83,14],[82,15,83,15],[84,0,87,0],[88,0,91,0],[81,12,81,13],[81,14,81,15],[82,4,83,4],[82,5,83,5],[82,6,83,6],[82,7,83,7],[82,8,83,8],[82,9,83,9],[82,10,83,10],[82,11,83,11],[81,0,83,0],[81,1,83,1],[81,4,81,5],[81,6,81,7],[81,8,81,9],[81,10,81,11],[92,0,95,0],[98,0,99,1],[98,4,98,15],[99,4,99,5],[99,6,99,7],[99,8,99,9],[99,10,99,11],[99,12,99,13],[99,14,99,15],[101,12,102,12],[101,13,102,13],[101,14,102,14],[101,15,102,15],[103,0,106,0],[107,0,110,0],[100,12,100,13],[100,14,100,15],[101,4,102,4],[101,5,102,5],[101,6,102,6],[101,7,102,7],[101,8,102,8],[101,9,102,9],[101,10,102,10],[101,11,102,11],[100,0,102,0],[100,1,102,1],[100,4,100,5],[100,6,100,7],[100,8,100,9],[100,10,100,11],[111,0,114,0],[117,0,118,1],[117,4,117,15],[118,4,118,5],[118,6,118,7],[118,8,118,9],[118,10,118,11],[118,12,118,13],[118,14,118,15],[130,0,133,0],[120,12,121,12],[120,13,121,13],[120,14,121,14],[120,15,121,15],[122,0,125,0],[126,0,129,0],[119,12,119,13],[119,14,119,15],[120,4,121,4],[120,5,121,5],[120,6,121,6],[120,7,121,7],[120,8,121,8],[120,9,121,9],[120,10,121,10],[120,11,121,11],[119,0,121,0],[119,1,121,1],[119,4,119,5],[119,6,119,7],[119,8,119,9],[119,10,119,11]]}
[]
["4SCU14L_42"]
["Evaporator Air \n",null,"Condenser  Entering Air Temperature ˚F"]
[80,"°F DB",65,null,75,null,85,null,90,null,95,null,105,null,115]
["CFM","EWB†\n˚F","Capacity Mbtuh",null,"Capacity Mbtuh",null,"Capacity Mbtuh",null,"Capacity Mbtuh",null,"Capacity Mbtuh",null,"Capacity Mbtuh",null,"Capacity Mbtuh"]
[null,null,"Total","Sens.","Total","Sens.","Total","Sens.","Total","Sens.","Total","Sens.","Total","Sens.","Total","Sens."]
[null,null,null,null,null,null,null,null,null,null,null,null,null,null,null,null,null,"Total Factors",null,null,null,null,null,null,"Sens. %",null,null,null,null,null,null,"IDB Adj",null,null,null,null,null,null,"Sens Calc"]
[1200,72,{"$f":"R8*$K$13","v":22.725536992840095},{"$f":"IF(AM8>C8,C8,AM8)","v":11.487452497636713},{"$f":"S8*$K$13","v":21.565632458233889},{"$f":"IF(AN8>E8,E8,AN8)","v":11.05217183770883},{"$f":"T8*$K$13","v":20.405727923627687},{"$f":"IF(AO8>G8,G8,AO8)","v":10.617196737132382},{"$f":"U8*$K$13","v":19.804295942720763},{"$f":"IF(AP8>I8,I8,AP8)","v":10.391164566494322},{"$f":"V8*$K$13","v":19.202863961813843},{"$f":"IF(AQ8>K8,K8,AQ8)","v":10.159854563905265},{"$f":"W8*$K$13","v":18.042959427207634},{"$f":"IF(AR8>M8,M8,AR8)","v":9.7252480209406773},{"$f":"X8*$K$13","v":16.840095465393794},{"$f":"IF(AS8>O8,O8,AS8)","v":9.2674642893491619},null,1.2625298329355608,1.198090692124105,1.1336515513126493,1.100238663484487,1.0668257756563246,1.0023866348448687,0.93556085918854415,0.50548651507139075,0.51249003984063746,0.52030472898929447,0.52469245039300083,0.52908017179670719,0.53900514825054824,0.55032136298714551,{"$f":"IF(Y8<0.9,0.9,Y8*-3.6846+4.1276)","v":0.9},{"$f":"IF(Z8<0.9,0.9,Z8*-3.6846+4.1276)","v":0.9},0.9,0.9,0.9,0.9,0.9,{"$f":"Y8*C8+($A$4-80)*AF8*$A$8/1000","v":11.487452497636713},{"$f":"Z8*E8+($A$4-80)*AG8*$A$8/1000","v":11.05217183770883},{"$f":"AA8*G8+($A$4-80)*AH8*$A$8/1000","v":10.617196737132382},{"$f":"AB8*I8+($A$4-80)*AI8*$A$8/1000","v":10.391164566494322},{"$f":"AC8*K8+($A$4-80)*AJ8*$A$8/1000","v":10.159854563905265},{"$f":"AD8*M8+($A$4-80)*AK8*$A$8/1000","v":9.7252480209406773},{"$f":"AE8*O8+($A$4-80)*AL8*$A$8/1000","v":9.2674642893491619}]
[null,67,20.964200477326969,14.570748519739279,19.890214797136039,{"$f":"IF(AN9>E9,E9,AN9)","v":14.129578533187125},18.773269689737472,{"$f":"IF(AO9>G9,G9,AO9)","v":13.658072588728245},18.214797136038186,{"$f":"IF(AP9>I9,I9,AP9)","v":13.427421603970558},{"$f":"V9*$K$13","v":17.656324582338904},{"$f":"IF(AQ9>K9,K9,AQ9)","v":13.185999430327605},16.582338902147971,{"$f":"IF(AR9>M9,M9,AR9)","v":12.746267374526514},15.465393794749403,{"$f":"IF(AS9>O9,O9,AS9)","v":12.273760634540688},null,1.1646778042959427,1.1050119331742243,1.0429594272076372,1.0119331742243436,0.98090692124105017,0.92124105011933177,0.85918854415274459,0.69503001249667096,0.71037837837837836,0.72752763980131385,0.73717107600414877,0.7468145122069838,0.76866523171079593,0.79362742374576367,{"$f":"IF(Y9<0.9,0.9,Y9*-3.6846+4.1276)","v":0.9},0.9,0.9,0.9,0.9,0.9,0.9,{"$f":"Y9*C9+($A$4-80)*AF9*$A$8/1000","v":14.570748519739279},{"$f":"Z9*E9+($A$4-80)*AG9*$A$8/1000","v":14.129578533187125},{"$f":"AA9*G9+($A$4-80)*AH9*$A$8/1000","v":13.658072588728245},{"$f":"AB9*I9+($A$4-80)*AI9*$A$8/1000","v":13.427421603970558},{"$f":"AC9*K9+($A$4-80)*AJ9*$A$8/1000","v":13.185999430327605},{"$f":"AD9*M9+($A$4-80)*AK9*$A$8/1000","v":12.746267374526514},{"$f":"AE9*O9+($A$4-80)*AL9*$A$8/1000","v":12.273760634540688}]
[null,62,19.245823389021481,17.48476765407834,18.257756563245824,17.043807699134248,17.269689737470166,16.603075504312912,16.775656324582339,16.390573462854228,{"$f":"V10*$K$13","v":16.281622911694512},16.16261273788885,15.293556085918855,15.293556085918855,14.305489260143197,14.305489260143197,null,1.0692124105011933,1.0143198090692125,0.95942720763723155,0.93198090692124103,0.90453460620525061,0.84964200477326968,0.79474940334128874,0.90849673202614378,0.93351051319441181,0.96139975626134755,0.97704513884420552,0.99269052142706349,1,1,0.78015294117647072,0.68798716308387053,0.58522645807943885,0.52757948141464039,0.46993250474984194,0.44300000000000006,0.44300000000000006,17.48476765407834,{"$f":"Z10*E10+($A$4-80)*AG10*$A$8/1000","v":17.043807699134248},{"$f":"AA10*G10+($A$4-80)*AH10*$A$8/1000","v":16.603075504312912},16.390573462854228,16.16261273788885,15.293556085918855,14.305489260143197]
[null,57,18.730310262529834,18.730310262529834,17.914081145584724,17.914081145584724,17.097852028639618,17.097852028639618,16.689737470167064,16.689737470167064,{"$f":"V11*$K$13","v":16.281622911694512},16.281622911694512,15.508353221957041,15.508353221957041,14.692124105011933,14.692124105011933,null,1.0405727923627686,0.99522673031026254,0.94988066825775652,0.92720763723150357,0.90453460620525061,0.86157517899761338,0.81622911694510736,1,1,1,1,1,1,1,0.44300000000000006,0.44300000000000006,0.44300000000000006,0.44300000000000006,0.44300000000000006,0.44300000000000006,0.44300000000000006,18.730310262529834,{"$f":"Z11*E11+($A$4-80)*AG11*$A$8/1000","v":17.914081145584724},{"$f":"AA11*G11+($A$4-80)*AH11*$A$8/1000","v":17.097852028639618},{"$f":"AB11*I11+($A$4-80)*AI11*$A$8/1000","v":16.689737470167064},16.281622911694512,15.508353221957041,14.692124105011933]
[1400,72,23.198090692124104,12.137466559658753,21.952267303102623,11.695683053100245,20.749403341288783,11.276830955481483,20.126491646778042,11.059493781914751,{"$f":"V12*$K$13","v":19.503579952267305},10.83465429102486,18.300715990453462,10.416404708684222,17.05489260143198,9.9737369211617271,null,1.2887828162291168,1.2195704057279235,1.1527446300715991,1.1181384248210025,1.0835322195704058,1.0167064439140812,0.94749403341288785,0.52320972103878782,0.53277790815927406,0.54347736028833005,0.54949933530443273,0.55552131032053542,0.56918017383133657,0.58480209487360257,0.9,0.9,0.9,0.9,0.9,0.9,0.9,{"$f":"Y12*C12+($A$4-80)*AF12*$A$12/1000","v":12.137466559658753},{"$f":"Z12*E12+($A$4-80)*AG12*$A$12/1000","v":11.695683053100245},{"$f":"AA12*G12+($A$4-80)*AH12*$A$12/1000","v":11.276830955481483},{"$f":"AB12*I12+($A$4-80)*AI12*$A$12/1000","v":11.059493781914751},{"$f":"AC12*K12+($A$4-80)*AJ12*$A$12/1000","v":10.83465429102486},{"$f":"AD12*M12+($A$4-80)*AK12*$A$12/1000","v":10.416404708684222},{"$f":"AE12*O12+($A$4-80)*AL12*$A$12/1000","v":9.9737369211617271}]
[null,67,21.393794749403341,15.73146366782885,20.276849642004773,15.31181825693233,19.159904534606202,14.892950146891465,18.579952267303103,14.673982360694119,18,14.440542088184767,16.883054892601432,14.022492980458939,15.723150357995227,13.568547298781061,null,1.1885441527446301,1.126491646778043,1.0644391408114557,1.032219570405728,1,0.93794749403341293,0.87350835322195708,0.73532834413434722,0.75513792957328696,0.77729772191673208,0.78977503007460959,0.80225233823248709,0.83056609539331283,0.86296619887511605,0.9,0.9,0.9,0.9,0.9,0.9,0.9,{"$f":"Y13*C13+($A$4-80)*AF13*$A$12/1000","v":15.73146366782885},{"$f":"Z13*E13+($A$4-80)*AG13*$A$12/1000","v":15.31181825693233},{"$f":"AA13*G13+($A$4-80)*AH13*$A$12/1000","v":14.892950146891465},{"$f":"AB13*I13+($A$4-80)*AI13*$A$12/1000","v":14.673982360694119},{"$f":"AC13*K13+($A$4-80)*AJ13*$A$12/1000","v":14.440542088184767},{"$f":"AD13*M13+($A$4-80)*AK13*$A$12/1000","v":14.022492980458939},{"$f":"AE13*O13+($A$4-80)*AL13*$A$12/1000","v":13.568547298781061}]
[null,62,19.589498806682577,19.589498806682577,18.730310262529834,18.730310262529834,17.871121718377086,17.871121718377086,17.441527446300718,17.441527446300718,{"$f":"V14*$K$13","v":17.011933174224342},17.011933174224342,16.195704057279237,16.178507514428016,15.336515513126493,15.302149896605007,null,1.0883054892601431,1.0405727923627686,0.99284009546539376,0.96897374701670647,0.94510739856801906,0.89976133651551315,0.85202863961813846,1.0026343519494205,1.0018356202101786,1.0009612611746612,1.0004806305873306,1,0.99893820344022088,0.99775922917483617,0.4332934668071653,0.43623647377357599,0.43945813707584325,0.44122906853792188,0.44300000000000006,0.44691229560416224,0.45125634418239891,19.641104441052132,{"$f":"Z14*E14+($A$4-80)*AG14*$A$12/1000","v":18.764691998590649},{"$f":"AA14*G14+($A$4-80)*AH14*$A$12/1000","v":17.888300533832606},17.449910377881178,17.011933174224342,16.178507514428016,15.302149896605007]
[null,57,19.632458233890215,19.632458233890215,18.730310262529834,18.730310262529834,17.871121718377086,17.871121718377086,17.441527446300718,17.441527446300718,17.011933174224342,17.011933174224342,16.109785202863961,16.109785202863961,15.250596658711219,15.250596658711219,null,1.090692124105012,1.0405727923627686,0.99284009546539376,0.96897374701670647,0.94510739856801906,0.8949880668257757,0.847255369928401,1,1,1,1,1,1,1,0.44300000000000006,0.44300000000000006,0.44300000000000006,0.44300000000000006,0.44300000000000006,0.44300000000000006,0.44300000000000006,19.632458233890215,{"$f":"Z15*E15+($A$4-80)*AG15*$A$12/1000","v":18.730310262529834},{"$f":"AA15*G15+($A$4-80)*AH15*$A$12/1000","v":17.871121718377086},17.441527446300718,17.011933174224342,16.109785202863961,15.250596658711219]
[1600,72,23.584725536992842,12.966310797495234,22.295942720763726,12.489733440150248,21.007159904534603,12.012959427207637,20.362768496420045,11.778703042756817,19.718377088305488,11.535950499856609,18.429594272076372,11.058657786885247,17.183770883054891,10.607536692584878,null,1.3102625298329356,1.2386634844868736,1.1670644391408114,1.1312649164677804,1.0954653937947494,1.0238663484486874,0.95465393794749398,0.54977577657867871,0.56017965226107402,0.57185071574642132,0.5784431053580763,0.58503549496973128,0.60004890089418783,0.61729970474903673,0.9,0.9,0.9,0.9,0.9,0.9,0.9,{"$f":"Y16*C16+($A$4-80)*AF16*$A$16/1000","v":12.966310797495234},{"$f":"Z16*E16+($A$4-80)*AG16*$A$16/1000","v":12.489733440150248},{"$f":"AA16*G16+($A$4-80)*AH16*$A$16/1000","v":12.012959427207637},{"$f":"AB16*I16+($A$4-80)*AI16*$A$16/1000","v":11.778703042756817},{"$f":"AC16*K16+($A$4-80)*AJ16*$A$16/1000","v":11.535950499856609},{"$f":"AD16*M16+($A$4-80)*AK16*$A$16/1000","v":11.058657786885247},{"$f":"AE16*O16+($A$4-80)*AL16*$A$16/1000","v":10.607536692584878}]
[null,67,21.694510739856803,16.823257235971472,20.534606205250597,16.41642582552273,19.374701670644392,16.009166356219026,18.794749403341289,15.814048307162107,18.214797136038186,15.601397721375502,17.05489260143198,15.193016942612406,15.937947494033413,14.823847727210971,null,1.2052505966587113,1.1408114558472553,1.0763723150357996,1.0441527446300716,1.0119331742243436,0.94749403341288785,0.88544152744630067,0.77546147215314043,0.79945169931357773,0.82629227682382023,0.84140777659694255,0.85652327637006487,0.89083040847391526,0.9300976636270436,0.9,0.9,0.9,0.9,0.9,0.9,0.70056214859979526,{"$f":"Y17*C17+($A$4-80)*AF17*$A$16/1000","v":16.823257235971472},{"$f":"Z17*E17+($A$4-80)*AG17*$A$16/1000","v":16.41642582552273},{"$f":"AA17*G17+($A$4-80)*AH17*$A$16/1000","v":16.009166356219026},{"$f":"AB17*I17+($A$4-80)*AI17*$A$16/1000","v":15.814048307162107},{"$f":"AC17*K17+($A$4-80)*AJ17*$A$16/1000","v":15.601397721375502},{"$f":"AD17*M17+($A$4-80)*AK17*$A$16/1000","v":15.193016942612406},{"$f":"AE17*O17+($A$4-80)*AL17*$A$16/1000","v":14.823847727210971}]
[null,62,20.405727923627687,20.405727923627687,19.460620525059664,19.460620525059664,18.515513126491644,18.515513126491644,18.042959427207634,18.042959427207634,17.570405727923628,17.570405727923628,16.625298329355608,16.625298329355608,15.680190930787589,15.680190930787589,null,1.1336515513126493,1.0811455847255369,1.0286396181384247,1.0023866348448687,0.9761336515513126,0.92362768496420045,0.87112171837708829,1,1,1,1,1,1,1,0.44300000000000006,0.44300000000000006,0.44300000000000006,0.44300000000000006,0.44300000000000006,0.44300000000000006,0.44300000000000006,20.405727923627687,{"$f":"Z18*E18+($A$4-80)*AG18*$A$16/1000","v":19.460620525059664},{"$f":"AA18*G18+($A$4-80)*AH18*$A$16/1000","v":18.515513126491644},18.042959427207634,17.570405727923628,16.625298329355608,15.680190930787589]
[null,57,20.362768496420045,20.362768496420045,19.417661097852029,19.417661097852029,18.47255369928401,18.47255369928401,18,18,17.52744630071599,17.52744630071599,16.582338902147971,16.582338902147971,15.637231503579953,15.637231503579953,null,1.1312649164677804,1.0787589498806682,1.0262529832935561,1,0.97374701670644392,0.92124105011933177,0.86873508353221962,1,1,1,1,1,1,1,0.44300000000000006,0.44300000000000006,0.44300000000000006,0.44300000000000006,0.44300000000000006,0.44300000000000006,0.44300000000000006,20.362768496420045,{"$f":"Z19*E19+($A$4-80)*AG19*$A$16/1000","v":19.417661097852029},{"$f":"AA19*G19+($A$4-80)*AH19*$A$16/1000","v":18.47255369928401},18,17.52744630071599,16.582338902147971,15.637231503579953]

{"sheet":"4SCU14L_47","index":23,"n_rows":19,"n_cols":45,"rows_kept":19,"cut":false,"hidden":true,"merged":[[2,0,2,1],[2,2,2,15],[3,2,3,3],[3,4,3,5],[3,6,3,7],[3,8,3,9],[3,10,3,11],[3,12,3,13],[3,14,3,15],[5,2,6,2],[5,3,6,3],[5,4,6,4],[5,5,6,5],[5,6,6,6],[5,7,6,7],[5,8,6,8],[4,0,6,0],[4,1,6,1],[4,2,4,3],[4,4,4,5],[4,6,4,7],[4,8,4,9],[5,9,6,9],[5,10,6,10],[5,11,6,11],[5,12,6,12],[5,13,6,13],[5,14,6,14],[5,15,6,15],[4,10,4,11],[4,12,4,13],[4,14,4,15],[7,0,10,0],[11,0,14,0],[15,0,18,0],[22,4,22,15],[23,4,23,5],[23,6,23,7],[23,8,23,9],[23,10,23,11],[23,12,23,13],[23,14,23,15],[25,12,26,12],[25,13,26,13],[25,14,26,14],[25,15,26,15],[27,0,30,0],[31,0,34,0],[24,12,24,13],[24,14,24,15],[25,4,26,4],[25,5,26,5],[25,6,26,6],[25,7,26,7],[25,8,26,8],[25,9,26,9],[25,10,26,10],[25,11,26,11],[24,0,26,0],[24,1,26,1],[24,4,24,5],[24,6,24,7],[24,8,24,9],[24,10,24,11],[35,0,38,0],[41,0,42,1],[41,4,41,15],[42,4,42,5],[42,6,42,7],[42,8,42,9],[42,10,42,11],[42,12,42,13],[42,14,42,15],[44,12,45,12],[44,13,45,13],[44,14,45,14],[44,15,45,15],[46,0,49,0],[50,0,53,0],[43,12,43,13],[43,14,43,15],[44,4,45,4],[44,5,45,5],[44,6,45,6],[44,7,45,7],[44,8,45,8],[44,9,45,9],[44,10,45,10],[44,11,45,11],[43,0,45,0],[43,1,45,1],[43,4,43,5],[43,6,43,7],[43,8,43,9],[43,10,43,11],[54,0,57,0],[60,0,61,1],[60,4,60,15],[61,4,61,5],[61,6,61,7],[61,8,61,9],[61,10,61,11],[61,12,61,13],[61,14,61,15],[63,12,64,12],[63,13,64,13],[63,14,64,14],[63,15,64,15],[65,0,68,0],[69,0,72,0],[62,12,62,13],[62,14,62,15],[63,4,64,4],[63,5,64,5],[63,6,64,6],[63,7,64,7],[63,8,64,8],[63,9,64,9],[63,10,64,10],[63,11,64,11],[62,0,64,0],[62,1,64,1],[62,4,62,5],[62,6,62,7],[62,8,62,9],[62,10,62,11],[73,0,76,0],[79,0,80,1],[79,4,79,15],[80,4,80,5],[80,6,80,7],[80,8,80,9],[80,10,80,11],[80,12,80,13],[80,14,80,15],[82,12,83,12],[82,13,83,13],[82,14,83,14],[82,15,83,15],[84,0,87,0],[88,0,91,0],[81,12,81,13],[81,14,81,15],[82,4,83,4],[82,5,83,5],[82,6,83,6],[82,7,83,7],[82,8,83,8],[82,9,83,9],[82,10,83,10],[82,11,83,11],[81,0,83,0],[81,1,83,1],[81,4,81,5],[81,6,81,7],[81,8,81,9],[81,10,81,11],[92,0,95,0],[98,0,99,1],[98,4,98,15],[99,4,99,5],[99,6,99,7],[99,8,99,9],[99,10,99,11],[99,12,99,13],[99,14,99,15],[101,12,102,12],[101,13,102,13],[101,14,102,14],[101,15,102,15],[103,0,106,0],[107,0,110,0],[100,12,100,13],[100,14,100,15],[101,4,102,4],[101,5,102,5],[101,6,102,6],[101,7,102,7],[101,8,102,8],[101,9,102,9],[101,10,102,10],[101,11,102,11],[100,0,102,0],[100,1,102,1],[100,4,100,5],[100,6,100,7],[100,8,100,9],[100,10,100,11],[111,0,114,0],[117,0,118,1],[117,4,117,15],[118,4,118,5],[118,6,118,7],[118,8,118,9],[118,10,118,11],[118,12,118,13],[118,14,118,15],[130,0,133,0],[120,12,121,12],[120,13,121,13],[120,14,121,14],[120,15,121,15],[122,0,125,0],[126,0,129,0],[119,12,119,13],[119,14,119,15],[120,4,121,4],[120,5,121,5],[120,6,121,6],[120,7,121,7],[120,8,121,8],[120,9,121,9],[120,10,121,10],[120,11,121,11],[119,0,121,0],[119,1,121,1],[119,4,119,5],[119,6,119,7],[119,8,119,9],[119,10,119,11]]}
[]
["4SCU14L_47"]
["Evaporator Air \n",null,"Condenser  Entering Air Temperature ˚F"]
[80,"°F DB",65,null,75,null,85,null,90,null,95,null,105,null,115]
["CFM","EWB†\n˚F","Capacity Mbtuh",null,"Capacity Mbtuh",null,"Capacity Mbtuh",null,"Capacity Mbtuh",null,"Capacity Mbtuh",null,"Capacity Mbtuh",null,"Capacity Mbtuh"]
[null,null,"Total","Sens.","Total","Sens.","Total","Sens.","Total","Sens.","Total","Sens.","Total","Sens.","Total","Sens."]
[null,null,null,null,null,null,null,null,null,null,null,null,null,null,null,null,null,"Total Factors",null,null,null,null,null,null,"Sens. %",null,null,null,null,null,null,"IDB Adj",null,null,null,null,null,null,"Sens Calc"]
[1350,72,{"$f":"R8*$K$13","v":22.537500000000001},{"$f":"IF(AM8>C8,C8,AM8)","v":11.275214501284514},{"$f":"S8*$K$13","v":21.412500000000001},{"$f":"IF(AN8>E8,E8,AN8)","v":10.897182091041145},{"$f":"T8*$K$13","v":20.287500000000001},{"$f":"IF(AO8>G8,G8,AO8)","v":10.51913910618137},{"$f":"U8*$K$13","v":19.725000000000001},{"$f":"IF(AP8>I8,I8,AP8)","v":10.333124032453176},{"$f":"V8*$K$13","v":19.162500000000001},{"$f":"IF(AQ8>K8,K8,AQ8)","v":10.141083685322071},{"$f":"W8*$K$13","v":18.037500000000001},{"$f":"IF(AR8>M8,M8,AR8)","v":9.7630135029862384},{"$f":"X8*$K$13","v":16.912500000000001},{"$f":"IF(AS8>O8,O8,AS8)","v":9.3849256153488287},null,1.2520833333333334,1.1895833333333334,1.1270833333333334,1.0958333333333334,1.0645833333333334,1.0020833333333334,0.93958333333333333,0.50028683311301225,0.50891685188750235,0.51850346795718394,0.52385926653755011,0.52921506511791627,0.5412620098675669,0.55491060548995286,{"$f":"IF(Y8<0.9,0.9,Y8*-3.6846+4.1276)","v":0.9},{"$f":"IF(Z8<0.9,0.9,Z8*-3.6846+4.1276)","v":0.9},0.9,0.9,0.9,0.9,0.9,{"$f":"Y8*C8+($A$4-80)*AF8*$A$8/1000","v":11.275214501284514},{"$f":"Z8*E8+($A$4-80)*AG8*$A$8/1000","v":10.897182091041145},{"$f":"AA8*G8+($A$4-80)*AH8*$A$8/1000","v":10.51913910618137},{"$f":"AB8*I8+($A$4-80)*AI8*$A$8/1000","v":10.333124032453176},{"$f":"AC8*K8+($A$4-80)*AJ8*$A$8/1000","v":10.141083685322071},{"$f":"AD8*M8+($A$4-80)*AK8*$A$8/1000","v":9.7630135029862384},{"$f":"AE8*O8+($A$4-80)*AL8*$A$8/1000","v":9.3849256153488287}]
[null,67,20.8125,14.308664048566952,19.762499999999999,{"$f":"IF(AN9>E9,E9,AN9)","v":13.899337663569126},18.712499999999999,{"$f":"IF(AO9>G9,G9,AO9)","v":13.489753548619591},18.206250000000001,{"$f":"IF(AP9>I9,I9,AP9)","v":13.303668725364478},{"$f":"V9*$K$13","v":17.7},{"$f":"IF(AQ9>K9,K9,AQ9)","v":13.107636533242875},16.650000000000002,{"$f":"IF(AR9>M9,M9,AR9)","v":12.698217946696108},15.600000000000001,{"$f":"IF(AS9>O9,O9,AS9)","v":12.2884776234197},null,1.15625,1.0979166666666667,1.0395833333333333,1.0114583333333333,0.98333333333333328,0.92500000000000004,0.8666666666666667,0.68750337770892256,0.70331879385549023,0.72089531321948386,0.73071987506293046,0.74054443690637717,0.76265573253430063,0.78772292457818582,{"$f":"IF(Y9<0.9,0.9,Y9*-3.6846+4.1276)","v":0.9},0.9,0.9,0.9,0.9,0.9,0.9,{"$f":"Y9*C9+($A$4-80)*AF9*$A$8/1000","v":14.308664048566952},{"$f":"Z9*E9+($A$4-80)*AG9*$A$8/1000","v":13.899337663569126},{"$f":"AA9*G9+($A$4-80)*AH9*$A$8/1000","v":13.489753548619591},{"$f":"AB9*I9+($A$4-80)*AI9*$A$8/1000","v":13.303668725364478},{"$f":"AC9*K9+($A$4-80)*AJ9*$A$8/1000","v":13.107636533242875},{"$f":"AD9*M9+($A$4-80)*AK9*$A$8/1000","v":12.698217946696108},{"$f":"AE9*O9+($A$4-80)*AL9*$A$8/1000","v":12.2884776234197}]
[null,62,19.2,17.314716081702823,18.224999999999998,16.870932982376768,17.287500000000001,16.462007569591407,16.8,16.246976512552497,{"$f":"V10*$K$13","v":16.3125},16.017483511811747,15.375,15.375,14.4,14.4,null,1.0666666666666667,1.0125,0.9604166666666667,0.93333333333333335,0.90625,0.85416666666666663,0.8,0.90180812925535547,0.92570276995208622,0.95224917249986429,0.96708193527098185,0.98191469804209941,1,1,0.80479776694571736,0.71675557383454302,0.61894269900699994,0.56428990130054046,0.50963710359408054,0.44300000000000006,0.44300000000000006,17.314716081702823,{"$f":"Z10*E10+($A$4-80)*AG10*$A$8/1000","v":16.870932982376768},{"$f":"AA10*G10+($A$4-80)*AH10*$A$8/1000","v":16.462007569591407},16.246976512552497,16.017483511811747,15.375,14.4]
[null,57,18.712499999999999,18.712499999999999,17.925000000000001,17.925000000000001,17.137499999999999,17.137499999999999,16.743749999999999,16.743749999999999,{"$f":"V11*$K$13","v":16.350000000000001},16.350000000000001,15.600000000000001,15.600000000000001,14.8125,14.8125,null,1.0395833333333333,0.99583333333333335,0.95208333333333328,0.9302083333333333,0.90833333333333333,0.8666666666666667,0.82291666666666663,1,1,1,1,1,1,1,0.44300000000000006,0.44300000000000006,0.44300000000000006,0.44300000000000006,0.44300000000000006,0.44300000000000006,0.44300000000000006,18.712499999999999,{"$f":"Z11*E11+($A$4-80)*AG11*$A$8/1000","v":17.925000000000001},{"$f":"AA11*G11+($A$4-80)*AH11*$A$8/1000","v":17.137499999999999},{"$f":"AB11*I11+($A$4-80)*AI11*$A$8/1000","v":16.743749999999999},16.350000000000001,15.600000000000001,14.8125]
[1550,72,23.024999999999999,12.047298138921454,21.824999999999999,11.592996805605647,20.625,11.138616728442168,20.025000000000002,10.914369885175326,{"$f":"V12*$K$13","v":19.424999999999997},10.684143377885782,18.262500000000003,10.25060688964242,17.0625,9.7963688394801078,null,1.2791666666666666,1.2124999999999999,1.1458333333333333,1.1125,1.0791666666666666,1.0145833333333334,0.94791666666666663,0.52322684642438455,0.53117969326944547,0.5400541444093172,0.54503719776156423,0.55002025111381125,0.56129264282778468,0.57414615909040922,0.9,0.9,0.9,0.9,0.9,0.9,0.9,{"$f":"Y12*C12+($A$4-80)*AF12*$A$12/1000","v":12.047298138921454},{"$f":"Z12*E12+($A$4-80)*AG12*$A$12/1000","v":11.592996805605647},{"$f":"AA12*G12+($A$4-80)*AH12*$A$12/1000","v":11.138616728442168},{"$f":"AB12*I12+($A$4-80)*AI12*$A$12/1000","v":10.914369885175326},{"$f":"AC12*K12+($A$4-80)*AJ12*$A$12/1000","v":10.684143377885782},{"$f":"AD12*M12+($A$4-80)*AK12*$A$12/1000","v":10.25060688964242},{"$f":"AE12*O12+($A$4-80)*AL12*$A$12/1000","v":9.7963688394801078}]
[null,67,21.262499999999999,15.451690976170957,20.175000000000001,15.0305662428906,19.087499999999999,14.609650331613853,18.543750000000003,14.405534321609933,18,14.188981301982365,16.912500000000001,13.768607060820933,15.7875,13.316957040148063,null,1.1812499999999999,1.1208333333333333,1.0604166666666666,1.0302083333333334,1,0.93958333333333333,0.87708333333333333,0.72671092186577102,0.74500947920151672,0.76540407762220586,0.77684040831061307,0.78827673899902029,0.81410832584307069,0.84351271829916474,0.9,0.9,0.9,0.9,0.9,0.9,0.9,{"$f":"Y13*C13+($A$4-80)*AF13*$A$12/1000","v":15.451690976170957},{"$f":"Z13*E13+($A$4-80)*AG13*$A$12/1000","v":15.0305662428906},{"$f":"AA13*G13+($A$4-80)*AH13*$A$12/1000","v":14.609650331613853},{"$f":"AB13*I13+($A$4-80)*AI13*$A$12/1000","v":14.405534321609933},{"$f":"AC13*K13+($A$4-80)*AJ13*$A$12/1000","v":14.188981301982365},{"$f":"AD13*M13+($A$4-80)*AK13*$A$12/1000","v":13.768607060820933},{"$f":"AE13*O13+($A$4-80)*AL13*$A$12/1000","v":13.316957040148063}]
[null,62,19.424999999999997,18.985451691310509,18.637499999999999,18.34422049501962,17.850000000000001,17.703225450301254,17.4375,17.365808649569413,{"$f":"V14*$K$13","v":17.024999999999999},17.024999999999999,16.237500000000001,16.237500000000001,15.4125,15.4125,null,1.0791666666666666,1.0354166666666667,0.9916666666666667,0.96875,0.9458333333333333,0.90208333333333335,0.85624999999999996,0.97737203044069565,0.98426401046382939,0.99177733615133068,0.99588866807566534,1,1,1,0.52637501663821284,0.50098082704497449,0.47329722721680723,0.45814861360840364,0.44300000000000006,0.44300000000000006,0.44300000000000006,18.985451691310509,{"$f":"Z14*E14+($A$4-80)*AG14*$A$12/1000","v":18.34422049501962},{"$f":"AA14*G14+($A$4-80)*AH14*$A$12/1000","v":17.703225450301254},17.365808649569413,17.024999999999999,16.237500000000001,15.4125]
[null,57,19.537500000000001,19.537500000000001,18.675000000000001,18.675000000000001,17.850000000000001,17.850000000000001,17.418749999999999,17.418749999999999,16.987500000000001,16.987500000000001,16.162500000000001,16.162500000000001,15.299999999999999,15.299999999999999,null,1.0854166666666667,1.0375000000000001,0.9916666666666667,0.96770833333333328,0.94374999999999998,0.8979166666666667,0.85,1,1,1,1,1,1,1,0.44300000000000006,0.44300000000000006,0.44300000000000006,0.44300000000000006,0.44300000000000006,0.44300000000000006,0.44300000000000006,19.537500000000001,{"$f":"Z15*E15+($A$4-80)*AG15*$A$12/1000","v":18.675000000000001},{"$f":"AA15*G15+($A$4-80)*AH15*$A$12/1000","v":17.850000000000001},17.418749999999999,16.987500000000001,16.162500000000001,15.299999999999999]
[1750,72,23.287499999999998,12.572973585042392,22.087499999999999,12.180305836377537,20.85,11.766868802200865,20.25,11.57504313519787,19.649999999999999,11.374518845228549,18.412500000000001,10.960334471389174,17.212500000000002,10.568361732726125,null,1.29375,1.2270833333333333,1.1583333333333334,1.125,1.0916666666666666,1.0229166666666667,0.95625000000000004,0.53990224734481562,0.55145697052077136,0.56435821593289515,0.57160706840483311,0.57885592087677096,0.59526595907069513,0.61399341947573705,0.9,0.9,0.9,0.9,0.9,0.9,0.9,{"$f":"Y16*C16+($A$4-80)*AF16*$A$16/1000","v":12.572973585042392},{"$f":"Z16*E16+($A$4-80)*AG16*$A$16/1000","v":12.180305836377537},{"$f":"AA16*G16+($A$4-80)*AH16*$A$16/1000","v":11.766868802200865},{"$f":"AB16*I16+($A$4-80)*AI16*$A$16/1000","v":11.57504313519787},{"$f":"AC16*K16+($A$4-80)*AJ16*$A$16/1000","v":11.374518845228549},{"$f":"AD16*M16+($A$4-80)*AK16*$A$16/1000","v":10.960334471389174},{"$f":"AE16*O16+($A$4-80)*AL16*$A$16/1000","v":10.568361732726125}]
[null,67,21.5625,16.484152243645468,20.4375,16.052439656279233,19.3125,15.620657970072198,18.75,15.412119129693725,18.1875,15.188794382508705,17.0625,14.756832720184494,15.9375,14.324752251193193,null,1.1979166666666667,1.1354166666666667,1.0729166666666667,1.0416666666666667,1.0104166666666667,0.94791666666666663,0.88541666666666663,0.76448242289370283,0.78544047247849458,0.80883665864451515,0.82197968691699863,0.83512271518948211,0.8648693169338898,0.89880798438859244,0.9,0.9,0.9,0.9,0.9,0.9,0.9,{"$f":"Y17*C17+($A$4-80)*AF17*$A$16/1000","v":16.484152243645468},{"$f":"Z17*E17+($A$4-80)*AG17*$A$16/1000","v":16.052439656279233},{"$f":"AA17*G17+($A$4-80)*AH17*$A$16/1000","v":15.620657970072198},{"$f":"AB17*I17+($A$4-80)*AI17*$A$16/1000","v":15.412119129693725},{"$f":"AC17*K17+($A$4-80)*AJ17*$A$16/1000","v":15.188794382508705},{"$f":"AD17*M17+($A$4-80)*AK17*$A$16/1000","v":14.756832720184494},{"$f":"AE17*O17+($A$4-80)*AL17*$A$16/1000","v":14.324752251193193}]
[null,62,20.212499999999999,20.212499999999999,19.349999999999998,19.349999999999998,18.45,18.45,18,18,17.55,17.55,16.650000000000002,16.650000000000002,15.75,15.75,null,1.1229166666666666,1.075,1.0249999999999999,1,0.97499999999999998,0.92500000000000004,0.875,1,1,1,1,1,1,1,0.44300000000000006,0.44300000000000006,0.44300000000000006,0.44300000000000006,0.44300000000000006,0.44300000000000006,0.44300000000000006,20.212499999999999,{"$f":"Z18*E18+($A$4-80)*AG18*$A$16/1000","v":19.349999999999998},{"$f":"AA18*G18+($A$4-80)*AH18*$A$16/1000","v":18.45},18,17.55,16.650000000000002,15.75]
[null,57,20.212499999999999,20.212499999999999,19.3125,19.3125,18.412500000000001,18.412500000000001,17.962499999999999,17.962499999999999,17.512499999999999,17.512499999999999,16.612500000000001,16.612500000000001,15.7125,15.7125,null,1.1229166666666666,1.0729166666666667,1.0229166666666667,0.99791666666666667,0.97291666666666665,0.92291666666666672,0.87291666666666667,1,1,1,1,1,1,1,0.44300000000000006,0.44300000000000006,0.44300000000000006,0.44300000000000006,0.44300000000000006,0.44300000000000006,0.44300000000000006,20.212499999999999,{"$f":"Z19*E19+($A$4-80)*AG19*$A$16/1000","v":19.3125},{"$f":"AA19*G19+($A$4-80)*AH19*$A$16/1000","v":18.412500000000001},17.962499999999999,17.512499999999999,16.612500000000001,15.7125]

{"sheet":"4SCU14L_48","index":24,"n_rows":19,"n_cols":45,"rows_kept":19,"cut":false,"hidden":true,"merged":[[2,0,2,1],[2,2,2,15],[3,2,3,3],[3,4,3,5],[3,6,3,7],[3,8,3,9],[3,10,3,11],[3,12,3,13],[3,14,3,15],[5,2,6,2],[5,3,6,3],[5,4,6,4],[5,5,6,5],[5,6,6,6],[5,7,6,7],[5,8,6,8],[4,0,6,0],[4,1,6,1],[4,2,4,3],[4,4,4,5],[4,6,4,7],[4,8,4,9],[5,9,6,9],[5,10,6,10],[5,11,6,11],[5,12,6,12],[5,13,6,13],[5,14,6,14],[5,15,6,15],[4,10,4,11],[4,12,4,13],[4,14,4,15],[7,0,10,0],[11,0,14,0],[15,0,18,0],[22,4,22,15],[23,4,23,5],[23,6,23,7],[23,8,23,9],[23,10,23,11],[23,12,23,13],[23,14,23,15],[25,12,26,12],[25,13,26,13],[25,14,26,14],[25,15,26,15],[27,0,30,0],[31,0,34,0],[24,12,24,13],[24,14,24,15],[25,4,26,4],[25,5,26,5],[25,6,26,6],[25,7,26,7],[25,8,26,8],[25,9,26,9],[25,10,26,10],[25,11,26,11],[24,0,26,0],[24,1,26,1],[24,4,24,5],[24,6,24,7],[24,8,24,9],[24,10,24,11],[35,0,38,0],[41,0,42,1],[41,4,41,15],[42,4,42,5],[42,6,42,7],[42,8,42,9],[42,10,42,11],[42,12,42,13],[42,14,42,15],[44,12,45,12],[44,13,45,13],[44,14,45,14],[44,15,45,15],[46,0,49,0],[50,0,53,0],[43,12,43,13],[43,14,43,15],[44,4,45,4],[44,5,45,5],[44,6,45,6],[44,7,45,7],[44,8,45,8],[44,9,45,9],[44,10,45,10],[44,11,45,11],[43,0,45,0],[43,1,45,1],[43,4,43,5],[43,6,43,7],[43,8,43,9],[43,10,43,11],[54,0,57,0],[60,0,61,1],[60,4,60,15],[61,4,61,5],[61,6,61,7],[61,8,61,9],[61,10,61,11],[61,12,61,13],[61,14,61,15],[63,12,64,12],[63,13,64,13],[63,14,64,14],[63,15,64,15],[65,0,68,0],[69,0,72,0],[62,12,62,13],[62,14,62,15],[63,4,64,4],[63,5,64,5],[63,6,64,6],[63,7,64,7],[63,8,64,8],[63,9,64,9],[63,10,64,10],[63,11,64,11],[62,0,64,0],[62,1,64,1],[62,4,62,5],[62,6,62,7],[62,8,62,9],[62,10,62,11],[73,0,76,0],[79,0,80,1],[79,4,79,15],[80,4,80,5],[80,6,80,7],[80,8,80,9],[80,10,80,11],[80,12,80,13],[80,14,80,15],[82,12,83,12],[82,13,83,13],[82,14,83,14],[82,15,83,15],[84,0,87,0],[88,0,91,0],[81,12,81,13],[81,14,81,15],[82,4,83,4],[82,5,83,5],[82,6,83,6],[82,7,83,7],[82,8,83,8],[82,9,83,9],[82,10,83,10],[82,11,83,11],[81,0,83,0],[81,1,83,1],[81,4,81,5],[81,6,81,7],[81,8,81,9],[81,10,81,11],[92,0,95,0],[98,0,99,1],[98,4,98,15],[99,4,99,5],[99,6,99,7],[99,8,99,9],[99,10,99,11],[99,12,99,13],[99,14,99,15],[101,12,102,12],[101,13,102,13],[101,14,102,14],[101,15,102,15],[103,0,106,0],[107,0,110,0],[100,12,100,13],[100,14,100,15],[101,4,102,4],[101,5,102,5],[101,6,102,6],[101,7,102,7],[101,8,102,8],[101,9,102,9],[101,10,102,10],[101,11,102,11],[100,0,102,0],[100,1,102,1],[100,4,100,5],[100,6,100,7],[100,8,100,9],[100,10,100,11],[111,0,114,0],[117,0,118,1],[117,4,117,15],[118,4,118,5],[118,6,118,7],[118,8,118,9],[118,10,118,11],[118,12,118,13],[118,14,118,15],[130,0,133,0],[120,12,121,12],[120,13,121,13],[120,14,121,14],[120,15,121,15],[122,0,125,0],[126,0,129,0],[119,12,119,13],[119,14,119,15],[120,4,121,4],[120,5,121,5],[120,6,121,6],[120,7,121,7],[120,8,121,8],[120,9,121,9],[120,10,121,10],[120,11,121,11],[119,0,121,0],[119,1,121,1],[119,4,119,5],[119,6,119,7],[119,8,119,9],[119,10,119,11]]}
[]
["4SCU14L_48"]
["Evaporator Air \n",null,"Condenser  Entering Air Temperature ˚F"]
[80,"°F DB",65,null,75,null,85,null,90,null,95,null,105,null,115]
["CFM","EWB†\n˚F","Capacity Mbtuh",null,"Capacity Mbtuh",null,"Capacity Mbtuh",null,"Capacity Mbtuh",null,"Capacity Mbtuh",null,"Capacity Mbtuh",null,"Capacity Mbtuh"]
[null,null,"Total","Sens.","Total","Sens.","Total","Sens.","Total","Sens.","Total","Sens.","Total","Sens.","Total","Sens."]
[null,null,null,null,null,null,null,null,null,null,null,null,null,null,null,null,null,"Total Factors",null,null,null,null,null,null,"Sens. %",null,null,null,null,null,null,"IDB Adj",null,null,null,null,null,null,"Sens Calc"]
[1400,72,{"$f":"R8*$K$13","v":58.366598778004075},{"$f":"IF(AM8>C8,C8,AM8)","v":29.462628200523927},{"$f":"S8*$K$13","v":55.181262729124242},{"$f":"IF(AN8>E8,E8,AN8)","v":28.244841728570698},{"$f":"T8*$K$13","v":52.08961303462322},{"$f":"IF(AO8>G8,G8,AO8)","v":27.075049556671129},{"$f":"U8*$K$13","v":50.496945010183296},{"$f":"IF(AP8>I8,I8,AP8)","v":26.472924525369674},{"$f":"V8*$K$13","v":48.90427698574338},{"$f":"IF(AQ8>K8,K8,AQ8)","v":25.856561806864264},{"$f":"W8*$K$13","v":45.812627291242364},{"$f":"IF(AR8>M8,M8,AR8)","v":24.68766580372041},{"$f":"X8*$K$13","v":42.627291242362524},{"$f":"IF(AS8>O8,O8,AS8)","v":23.468284592531315},null,1.2688391038696538,1.19959266802444,1.1323828920570265,1.0977596741344195,1.0631364562118126,0.99592668024439923,0.92668024439918528,0.50478576475878456,0.51185566135410832,0.51977828168304363,0.5242480415405546,0.52871780139806568,0.5388834315651605,0.55054599784676905,{"$f":"IF(Y8<0.9,0.9,Y8*-3.6846+4.1276)","v":0.9},{"$f":"IF(Z8<0.9,0.9,Z8*-3.6846+4.1276)","v":0.9},0.9,0.9,0.9,0.9,0.9,{"$f":"Y8*C8+($A$4-80)*AF8*$A$8/1000","v":29.462628200523927},{"$f":"Z8*E8+($A$4-80)*AG8*$A$8/1000","v":28.244841728570698},{"$f":"AA8*G8+($A$4-80)*AH8*$A$8/1000","v":27.075049556671129},{"$f":"AB8*I8+($A$4-80)*AI8*$A$8/1000","v":26.472924525369674},{"$f":"AC8*K8+($A$4-80)*AJ8*$A$8/1000","v":25.856561806864264},{"$f":"AD8*M8+($A$4-80)*AK8*$A$8/1000","v":24.68766580372041},{"$f":"AE8*O8+($A$4-80)*AL8*$A$8/1000","v":23.468284592531315}]
[null,67,53.588594704684319,36.937379704211402,50.778004073319757,{"$f":"IF(AN9>E9,E9,AN9)","v":35.847978719289081},47.967413441955188,{"$f":"IF(AO9>G9,G9,AO9)","v":34.759035969458665},46.562118126272914,{"$f":"IF(AP9>I9,I9,AP9)","v":34.229591856726877},{"$f":"V9*$K$13","v":45.156822810590633},{"$f":"IF(AQ9>K9,K9,AQ9)","v":33.670637461146846},42.346232179226064,{"$f":"IF(AR9>M9,M9,AR9)","v":32.582892160699664},39.535641547861509,{"$f":"IF(AS9>O9,O9,AS9)","v":31.495940203882366},null,1.1649694501018331,1.1038696537678208,1.0427698574338085,1.0122199592668024,0.98167006109979638,0.92057026476578407,0.85947046843177188,0.68927688639281692,0.70597455283053656,0.72463853010377921,0.73513820320413337,0.74563787630448763,0.76944017174411017,0.79664674634794153,{"$f":"IF(Y9<0.9,0.9,Y9*-3.6846+4.1276)","v":0.9},0.9,0.9,0.9,0.9,0.9,0.9,{"$f":"Y9*C9+($A$4-80)*AF9*$A$8/1000","v":36.937379704211402},{"$f":"Z9*E9+($A$4-80)*AG9*$A$8/1000","v":35.847978719289081},{"$f":"AA9*G9+($A$4-80)*AH9*$A$8/1000","v":34.759035969458665},{"$f":"AB9*I9+($A$4-80)*AI9*$A$8/1000","v":34.229591856726877},{"$f":"AC9*K9+($A$4-80)*AJ9*$A$8/1000","v":33.670637461146846},{"$f":"AD9*M9+($A$4-80)*AK9*$A$8/1000","v":32.582892160699664},{"$f":"AE9*O9+($A$4-80)*AL9*$A$8/1000","v":31.495940203882366}]
[null,62,49.185336048879833,44.449098662082093,46.655804480651724,43.377819903353675,44.126272912423623,42.306560397458092,42.861507128309569,41.791526184263262,{"$f":"V10*$K$13","v":41.596741344195522},41.235323657281114,39.067209775967413,39.067209775967413,36.537678207739305,36.537678207739305,null,1.0692464358452138,1.0142566191446027,0.95926680244399187,0.93177189409368633,0.90427698574338089,0.84928716904276991,0.79429735234215881,0.90370631234295284,0.92974111980734497,0.95876124596842638,0.97503632009851571,0.99131139422860493,1,1,0.7978037215411562,0.70187586995785667,0.59494831310473639,0.5349811749650093,0.4750140368252822,0.44300000000000006,0.44300000000000006,44.449098662082093,{"$f":"Z10*E10+($A$4-80)*AG10*$A$8/1000","v":43.377819903353675},{"$f":"AA10*G10+($A$4-80)*AH10*$A$8/1000","v":42.306560397458092},41.791526184263262,41.235323657281114,39.067209775967413,36.537678207739305]
[null,57,47.967413441955188,47.967413441955188,45.906313645621182,45.906313645621182,43.84521384928717,43.84521384928717,42.767820773930758,42.767820773930758,{"$f":"V11*$K$13","v":41.690427698574339},41.690427698574339,39.629327902240327,39.629327902240327,37.568228105906314,37.568228105906314,null,1.0427698574338085,0.99796334012219956,0.95315682281059066,0.929735234215886,0.90631364562118122,0.86150712830957232,0.81670061099796332,1,1,1,1,1,1,1,0.44300000000000006,0.44300000000000006,0.44300000000000006,0.44300000000000006,0.44300000000000006,0.44300000000000006,0.44300000000000006,47.967413441955188,{"$f":"Z11*E11+($A$4-80)*AG11*$A$8/1000","v":45.906313645621182},{"$f":"AA11*G11+($A$4-80)*AH11*$A$8/1000","v":43.84521384928717},{"$f":"AB11*I11+($A$4-80)*AI11*$A$8/1000","v":42.767820773930758},41.690427698574339,39.629327902240327,37.568228105906314]
[1600,72,59.30346232179226,30.876931865396951,56.11812627291242,29.62706409267544,52.932790224032587,28.37737523902755,51.340122199592663,27.759972012265411,{"$f":"V12*$K$13","v":49.747454175152747},27.127899814176956,46.468431771894096,25.826612030262673,43.283095723014256,24.576582147102599,null,1.2892057026476578,1.2199592668024439,1.1507128309572301,1.1160896130346232,1.0814663951120163,1.0101832993890021,0.94093686354378814,0.5206598511542655,0.52794107822833858,0.536102010094749,0.54070716669399865,0.54531232329324841,0.55578832866668004,0.5678101747707216,0.9,0.9,0.9,0.9,0.9,0.9,0.9,{"$f":"Y12*C12+($A$4-80)*AF12*$A$12/1000","v":30.876931865396951},{"$f":"Z12*E12+($A$4-80)*AG12*$A$12/1000","v":29.62706409267544},{"$f":"AA12*G12+($A$4-80)*AH12*$A$12/1000","v":28.37737523902755},{"$f":"AB12*I12+($A$4-80)*AI12*$A$12/1000","v":27.759972012265411},{"$f":"AC12*K12+($A$4-80)*AJ12*$A$12/1000","v":27.127899814176956},{"$f":"AD12*M12+($A$4-80)*AK12*$A$12/1000","v":25.826612030262673},{"$f":"AE12*O12+($A$4-80)*AL12*$A$12/1000","v":24.576582147102599}]
[null,67,54.619144602851328,39.584934553446615,51.714867617107949,38.481367272501998,48.90427698574338,37.448688877137684,47.452138492871683,36.914805586754206,46,36.345540135721706,43.09572301425662,35.241481462980865,40.191446028513241,34.136316960319306,null,1.1873727087576376,1.1242362525458249,1.0631364562118126,1.0315682281059062,1,0.93686354378818737,0.87372708757637474,0.72474468139839987,0.74410646387832702,0.76575488250352342,0.77793766011830201,0.79012043773308061,0.81774893186784514,0.84934284116331094,0.9,0.9,0.9,0.9,0.9,0.9,0.9,{"$f":"Y13*C13+($A$4-80)*AF13*$A$12/1000","v":39.584934553446615},{"$f":"Z13*E13+($A$4-80)*AG13*$A$12/1000","v":38.481367272501998},{"$f":"AA13*G13+($A$4-80)*AH13*$A$12/1000","v":37.448688877137684},{"$f":"AB13*I13+($A$4-80)*AI13*$A$12/1000","v":36.914805586754206},{"$f":"AC13*K13+($A$4-80)*AJ13*$A$12/1000","v":36.345540135721706},{"$f":"AD13*M13+($A$4-80)*AK13*$A$12/1000","v":35.241481462980865},{"$f":"AE13*O13+($A$4-80)*AL13*$A$12/1000","v":34.136316960319306}]
[null,62,49.747454175152747,48.901482326785242,47.592668024439917,47.028986861484206,45.531568228105904,45.249310952096018,44.454175152749492,44.316385978401044,{"$f":"V14*$K$13","v":43.376782077393074},43.376782077393074,41.221995926680243,41.221995926680243,39.067209775967413,39.067209775967413,null,1.0814663951120163,1.0346232179226069,0.98981670061099791,0.96639511201629325,0.94297352342158858,0.89613034623217924,0.84928716904276991,0.98299467053351164,0.98815613441410244,0.993800844403254,0.996900422201627,1,1,1,0.50565783695222288,0.48663990713779803,0.46584140871177038,0.454420704355885,0.44300000000000006,0.44300000000000006,0.44300000000000006,48.901482326785242,{"$f":"Z14*E14+($A$4-80)*AG14*$A$12/1000","v":47.028986861484206},{"$f":"AA14*G14+($A$4-80)*AH14*$A$12/1000","v":45.249310952096018},44.316385978401044,43.376782077393074,41.221995926680243,39.067209775967413]
[null,57,50.0285132382892,50.0285132382892,47.780040733197559,47.780040733197559,45.531568228105904,45.531568228105904,44.407331975560083,44.407331975560083,43.283095723014256,43.283095723014256,41.034623217922608,41.034623217922608,38.786150712830953,38.786150712830953,null,1.0875763747454175,1.0386965376782078,0.98981670061099791,0.96537678207739308,0.94093686354378814,0.89205702647657836,0.84317718940936859,1,1,1,1,1,1,1,0.44300000000000006,0.44300000000000006,0.44300000000000006,0.44300000000000006,0.44300000000000006,0.44300000000000006,0.44300000000000006,50.0285132382892,{"$f":"Z15*E15+($A$4-80)*AG15*$A$12/1000","v":47.780040733197559},{"$f":"AA15*G15+($A$4-80)*AH15*$A$12/1000","v":45.531568228105904},44.407331975560083,43.283095723014256,41.034623217922608,38.786150712830953]
[1800,72,59.865580448065167,32.244858960124461,56.773930753564159,31.121523931156702,53.682281059063136,29.998012967099267,52.136456211812629,29.445379923411789,50.590631364562114,28.874293915195949,47.498981670061106,27.750326279751057,44.501018329938901,26.682231447237054,null,1.3014256619144602,1.2342158859470469,1.1670061099796334,1.1334012219959266,1.0997963340122199,1.0325865580448066,0.96741344195519352,0.53862100256586765,0.54816574294008968,0.55880660015349193,0.56477524678288948,0.57074389341228715,0.58422992039095134,0.59958698583951453,0.9,0.9,0.9,0.9,0.9,0.9,0.9,{"$f":"Y16*C16+($A$4-80)*AF16*$A$16/1000","v":32.244858960124461},{"$f":"Z16*E16+($A$4-80)*AG16*$A$16/1000","v":31.121523931156702},{"$f":"AA16*G16+($A$4-80)*AH16*$A$16/1000","v":29.998012967099267},{"$f":"AB16*I16+($A$4-80)*AI16*$A$16/1000","v":29.445379923411789},{"$f":"AC16*K16+($A$4-80)*AJ16*$A$16/1000","v":28.874293915195949},{"$f":"AD16*M16+($A$4-80)*AK16*$A$16/1000","v":27.750326279751057},{"$f":"AE16*O16+($A$4-80)*AL16*$A$16/1000","v":26.682231447237054}]
[null,67,56.024439918533602,43.047443054821457,52.558044806517316,41.124476705684486,49.091649694501022,39.201251568183011,47.358452138492872,38.255520201531873,45.625254582484722,37.277708825813335,42.158859470468435,35.353770377629459,38.692464358452142,33.429330228950228,null,1.2179226069246436,1.1425661914460286,1.0672097759674135,1.0295315682281059,0.99185336048879835,0.91649694501018331,0.84114052953156826,0.76836900319606427,0.78245826794121842,0.7985319664776741,0.80778654018630491,0.81704111389493572,0.83858460171092097,0.86397521541291511,0.9,0.9,0.9,0.9,0.9,0.9,0.9,{"$f":"Y17*C17+($A$4-80)*AF17*$A$16/1000","v":43.047443054821457},{"$f":"Z17*E17+($A$4-80)*AG17*$A$16/1000","v":41.124476705684486},{"$f":"AA17*G17+($A$4-80)*AH17*$A$16/1000","v":39.201251568183011},{"$f":"AB17*I17+($A$4-80)*AI17*$A$16/1000","v":38.255520201531873},{"$f":"AC17*K17+($A$4-80)*AJ17*$A$16/1000","v":37.277708825813335},{"$f":"AD17*M17+($A$4-80)*AK17*$A$16/1000","v":35.353770377629459},{"$f":"AE17*O17+($A$4-80)*AL17*$A$16/1000","v":33.429330228950228}]
[null,62,51.808553971486759,51.808553971486759,49.372708757637476,49.372708757637476,47.03054989816701,47.03054989816701,45.812627291242364,45.812627291242364,44.594704684317719,44.594704684317719,42.252545824847253,42.252545824847253,39.816700610997962,39.816700610997962,null,1.1262729124236253,1.0733197556008147,1.0224032586558045,0.99592668024439923,0.96945010183299385,0.91853360488798375,0.86558044806517309,1,1,1,1,1,1,1,0.44300000000000006,0.44300000000000006,0.44300000000000006,0.44300000000000006,0.44300000000000006,0.44300000000000006,0.44300000000000006,51.808553971486759,{"$f":"Z18*E18+($A$4-80)*AG18*$A$16/1000","v":49.372708757637476},{"$f":"AA18*G18+($A$4-80)*AH18*$A$16/1000","v":47.03054989816701},45.812627291242364,44.594704684317719,42.252545824847253,39.816700610997962]
[null,57,51.714867617107949,51.714867617107949,49.279022403258651,49.279022403258651,46.936863543788192,46.936863543788192,45.718940936863547,45.718940936863547,44.501018329938901,44.501018329938901,42.158859470468435,42.158859470468435,39.723014256619145,39.723014256619145,null,1.1242362525458249,1.0712830957230142,1.0203665987780042,0.99389002036659879,0.96741344195519352,0.91649694501018331,0.86354378818737276,1,1,1,1,1,1,1,0.44300000000000006,0.44300000000000006,0.44300000000000006,0.44300000000000006,0.44300000000000006,0.44300000000000006,0.44300000000000006,51.714867617107949,{"$f":"Z19*E19+($A$4-80)*AG19*$A$16/1000","v":49.279022403258651},{"$f":"AA19*G19+($A$4-80)*AH19*$A$16/1000","v":46.936863543788192},45.718940936863547,44.501018329938901,42.158859470468435,39.723014256619145]

{"sheet":"4SCU14L_60","index":25,"n_rows":19,"n_cols":45,"rows_kept":19,"cut":false,"hidden":true,"merged":[[2,0,2,1],[2,2,2,15],[3,2,3,3],[3,4,3,5],[3,6,3,7],[3,8,3,9],[3,10,3,11],[3,12,3,13],[3,14,3,15],[5,2,6,2],[5,3,6,3],[5,4,6,4],[5,5,6,5],[5,6,6,6],[5,7,6,7],[5,8,6,8],[4,0,6,0],[4,1,6,1],[4,2,4,3],[4,4,4,5],[4,6,4,7],[4,8,4,9],[5,9,6,9],[5,10,6,10],[5,11,6,11],[5,12,6,12],[5,13,6,13],[5,14,6,14],[5,15,6,15],[4,10,4,11],[4,12,4,13],[4,14,4,15],[7,0,10,0],[11,0,14,0],[15,0,18,0],[22,4,22,15],[23,4,23,5],[23,6,23,7],[23,8,23,9],[23,10,23,11],[23,12,23,13],[23,14,23,15],[25,12,26,12],[25,13,26,13],[25,14,26,14],[25,15,26,15],[27,0,30,0],[31,0,34,0],[24,12,24,13],[24,14,24,15],[25,4,26,4],[25,5,26,5],[25,6,26,6],[25,7,26,7],[25,8,26,8],[25,9,26,9],[25,10,26,10],[25,11,26,11],[24,0,26,0],[24,1,26,1],[24,4,24,5],[24,6,24,7],[24,8,24,9],[24,10,24,11],[35,0,38,0],[41,0,42,1],[41,4,41,15],[42,4,42,5],[42,6,42,7],[42,8,42,9],[42,10,42,11],[42,12,42,13],[42,14,42,15],[44,12,45,12],[44,13,45,13],[44,14,45,14],[44,15,45,15],[46,0,49,0],[50,0,53,0],[43,12,43,13],[43,14,43,15],[44,4,45,4],[44,5,45,5],[44,6,45,6],[44,7,45,7],[44,8,45,8],[44,9,45,9],[44,10,45,10],[44,11,45,11],[43,0,45,0],[43,1,45,1],[43,4,43,5],[43,6,43,7],[43,8,43,9],[43,10,43,11],[54,0,57,0],[60,0,61,1],[60,4,60,15],[61,4,61,5],[61,6,61,7],[61,8,61,9],[61,10,61,11],[61,12,61,13],[61,14,61,15],[63,12,64,12],[63,13,64,13],[63,14,64,14],[63,15,64,15],[65,0,68,0],[69,0,72,0],[62,12,62,13],[62,14,62,15],[63,4,64,4],[63,5,64,5],[63,6,64,6],[63,7,64,7],[63,8,64,8],[63,9,64,9],[63,10,64,10],[63,11,64,11],[62,0,64,0],[62,1,64,1],[62,4,62,5],[62,6,62,7],[62,8,62,9],[62,10,62,11],[73,0,76,0],[79,0,80,1],[79,4,79,15],[80,4,80,5],[80,6,80,7],[80,8,80,9],[80,10,80,11],[80,12,80,13],[80,14,80,15],[82,12,83,12],[82,13,83,13],[82,14,83,14],[82,15,83,15],[84,0,87,0],[88,0,91,0],[81,12,81,13],[81,14,81,15],[82,4,83,4],[82,5,83,5],[82,6,83,6],[82,7,83,7],[82,8,83,8],[82,9,83,9],[82,10,83,10],[82,11,83,11],[81,0,83,0],[81,1,83,1],[81,4,81,5],[81,6,81,7],[81,8,81,9],[81,10,81,11],[92,0,95,0],[98,0,99,1],[98,4,98,15],[99,4,99,5],[99,6,99,7],[99,8,99,9],[99,10,99,11],[99,12,99,13],[99,14,99,15],[101,12,102,12],[101,13,102,13],[101,14,102,14],[101,15,102,15],[103,0,106,0],[107,0,110,0],[100,12,100,13],[100,14,100,15],[101,4,102,4],[101,5,102,5],[101,6,102,6],[101,7,102,7],[101,8,102,8],[101,9,102,9],[101,10,102,10],[101,11,102,11],[100,0,102,0],[100,1,102,1],[100,4,100,5],[100,6,100,7],[100,8,100,9],[100,10,100,11],[111,0,114,0],[117,0,118,1],[117,4,117,15],[118,4,118,5],[118,6,118,7],[118,8,118,9],[118,10,118,11],[118,12,118,13],[118,14,118,15],[130,0,133,0],[120,12,121,12],[120,13,121,13],[120,14,121,14],[120,15,121,15],[122,0,125,0],[126,0,129,0],[119,12,119,13],[119,14,119,15],[120,4,121,4],[120,5,121,5],[120,6,121,6],[120,7,121,7],[120,8,121,8],[120,9,121,9],[120,10,121,10],[120,11,121,11],[119,0,121,0],[119,1,121,1],[119,4,119,5],[119,6,119,7],[119,8,119,9],[119,10,119,11]]}
[]
["4SCU14L_60"]
["Evaporator Air \n",null,"Condenser  Entering Air Temperature ˚F"]
[80,"°F DB",65,null,75,null,85,null,90,null,95,null,105,null,115]
["CFM","EWB†\n˚F","Capacity Mbtuh",null,"Capacity Mbtuh",null,"Capacity Mbtuh",null,"Capacity Mbtuh",null,"Capacity Mbtuh",null,"Capacity Mbtuh",null,"Capacity Mbtuh"]
[null,null,"Total","Sens.","Total","Sens.","Total","Sens.","Total","Sens.","Total","Sens.","Total","Sens.","Total","Sens."]
[null,null,null,null,null,null,null,null,null,null,null,null,null,null,null,null,null,"Total Factors",null,null,null,null,null,null,"Sens. %",null,null,null,null,null,null,"IDB Adj",null,null,null,null,null,null,"Sens Calc"]
[1600,72,{"$f":"R8*$K$13","v":22.067453625632378},{"$f":"IF(AM8>C8,C8,AM8)","v":11.195683926518864},{"$f":"S8*$K$13","v":20.974704890387859},{"$f":"IF(AN8>E8,E8,AN8)","v":10.646810330700907},{"$f":"T8*$K$13","v":19.912310286677908},{"$f":"IF(AO8>G8,G8,AO8)","v":10.113348000729134},{"$f":"U8*$K$13","v":19.365935919055648},{"$f":"IF(AP8>I8,I8,AP8)","v":9.8389991667408516},{"$f":"V8*$K$13","v":18.819561551433392},{"$f":"IF(AQ8>K8,K8,AQ8)","v":9.5644725013028111},{"$f":"W8*$K$13","v":17.726812816188872},{"$f":"IF(AR8>M8,M8,AR8)","v":9.0155906834182975},{"$f":"X8*$K$13","v":16.634064080944352},{"$f":"IF(AS8>O8,O8,AS8)","v":8.4667013136128411},null,1.2259696458684655,1.1652613827993255,1.1062394603709949,1.075885328836425,1.0455311973018551,0.98482293423271505,0.92411467116357504,0.50733918450448467,0.50760238994256612,0.50789425511791808,0.50805699284894856,0.50821973057997905,0.50858497671870717,0.50899775739785225,{"$f":"IF(Y8<0.9,0.9,Y8*-3.6846+4.1276)","v":0.9},{"$f":"IF(Z8<0.9,0.9,Z8*-3.6846+4.1276)","v":0.9},0.9,0.9,0.9,0.9,0.9,{"$f":"Y8*C8+($A$4-80)*AF8*$A$8/1000","v":11.195683926518864},{"$f":"Z8*E8+($A$4-80)*AG8*$A$8/1000","v":10.646810330700907},{"$f":"AA8*G8+($A$4-80)*AH8*$A$8/1000","v":10.113348000729134},{"$f":"AB8*I8+($A$4-80)*AI8*$A$8/1000","v":9.8389991667408516},{"$f":"AC8*K8+($A$4-80)*AJ8*$A$8/1000","v":9.5644725013028111},{"$f":"AD8*M8+($A$4-80)*AK8*$A$8/1000","v":9.0155906834182975},{"$f":"AE8*O8+($A$4-80)*AL8*$A$8/1000","v":8.4667013136128411}]
[null,67,20.27655986509275,13.840799704934879,19.396290050590217,{"$f":"IF(AN9>E9,E9,AN9)","v":13.571270157176576},18.516020236087687,{"$f":"IF(AO9>G9,G9,AO9)","v":13.301959474634209},18.060708263069138,{"$f":"IF(AP9>I9,I9,AP9)","v":13.160904295564752},{"$f":"V9*$K$13","v":17.605396290050592},{"$f":"IF(AQ9>K9,K9,AQ9)","v":13.010468838256934},16.725126475548063,{"$f":"IF(AR9>M9,M9,AR9)","v":12.741010365133167},15.844856661045531,{"$f":"IF(AS9>O9,O9,AS9)","v":12.471815423479256},null,1.1264755480607083,1.0775716694772344,1.0286677908937605,1.0033726812816188,0.97807757166947729,0.92917369308600339,0.8802698145025295,0.6826009834519613,0.69968381178975048,0.7184027293677675,0.72870366454434166,0.73900459972091581,0.76178858101673397,0.78712074777811825,{"$f":"IF(Y9<0.9,0.9,Y9*-3.6846+4.1276)","v":0.9},0.9,0.9,0.9,0.9,0.9,0.9,{"$f":"Y9*C9+($A$4-80)*AF9*$A$8/1000","v":13.840799704934879},{"$f":"Z9*E9+($A$4-80)*AG9*$A$8/1000","v":13.571270157176576},{"$f":"AA9*G9+($A$4-80)*AH9*$A$8/1000","v":13.301959474634209},{"$f":"AB9*I9+($A$4-80)*AI9*$A$8/1000","v":13.160904295564752},{"$f":"AC9*K9+($A$4-80)*AJ9*$A$8/1000","v":13.010468838256934},{"$f":"AD9*M9+($A$4-80)*AK9*$A$8/1000","v":12.741010365133167},{"$f":"AE9*O9+($A$4-80)*AL9*$A$8/1000","v":12.471815423479256}]
[null,62,18.75885328836425,16.728874830355572,17.908937605396289,16.406932950477199,17.02866779089376,16.056623580305128,16.603709949409783,15.901769457990305,{"$f":"V10*$K$13","v":16.178752107925803},15.734330900431029,15.328836424957842,15.328836424957842,14.478920741989882,14.478920741989882,null,1.042158516020236,0.99494097807757165,0.94603709949409776,0.92242833052276563,0.89881956155143339,0.85160202360876902,0.80438448566610454,0.89178557842510375,0.91613100184867968,0.94291718985154904,0.95772387655781532,0.9725305632640816,1,1,0.9,0.75202371058835471,0.65332732227298251,0.59877060443507357,0.54421388659716508,0.44300000000000006,0.44300000000000006,16.728874830355572,{"$f":"Z10*E10+($A$4-80)*AG10*$A$8/1000","v":16.406932950477199},{"$f":"AA10*G10+($A$4-80)*AH10*$A$8/1000","v":16.056623580305128},15.901769457990305,15.734330900431029,15.328836424957842,14.478920741989882]
[null,57,18.21247892074199,18.21247892074199,17.514333895446882,17.514333895446882,16.81618887015177,16.81618887015177,16.467116357504217,16.467116357504217,{"$f":"V11*$K$13","v":16.118043844856661},16.118043844856661,15.419898819561551,15.419898819561551,14.752107925801011,14.752107925801011,null,1.0118043844856661,0.97301854974704893,0.93423271500843175,0.91483979763912315,0.89544688026981445,0.85666104553119726,0.81956155143338949,1,1,1,1,1,1,1,0.44300000000000006,0.44300000000000006,0.44300000000000006,0.44300000000000006,0.44300000000000006,0.44300000000000006,0.44300000000000006,18.21247892074199,{"$f":"Z11*E11+($A$4-80)*AG11*$A$8/1000","v":17.514333895446882},{"$f":"AA11*G11+($A$4-80)*AH11*$A$8/1000","v":16.81618887015177},{"$f":"AB11*I11+($A$4-80)*AI11*$A$8/1000","v":16.467116357504217},16.118043844856661,15.419898819561551,14.752107925801011]
[1800,72,22.431703204047217,11.766739723335778,21.308600337268132,11.174803314116211,20.155143338954467,10.566947967130979,19.593591905564921,10.270930909652927,{"$f":"V12*$K$13","v":19.032040472175382},9.9750059428877407,17.87858347386172,9.3671542356264208,16.755480607082632,8.7752049320717553,null,1.2462057335581787,1.1838111298482294,1.1197301854974704,1.0885328836424957,1.0573355817875212,0.99325463743676223,0.93086003372681281,0.52455846158007191,0.52442690450070528,0.52428046724470134,0.52419847055892821,0.52411647387315519,0.52393156590515633,0.52372146987908119,0.9,0.9,0.9,0.9,0.9,0.9,0.9,{"$f":"Y12*C12+($A$4-80)*AF12*$A$12/1000","v":11.766739723335778},{"$f":"Z12*E12+($A$4-80)*AG12*$A$12/1000","v":11.174803314116211},{"$f":"AA12*G12+($A$4-80)*AH12*$A$12/1000","v":10.566947967130979},{"$f":"AB12*I12+($A$4-80)*AI12*$A$12/1000","v":10.270930909652927},{"$f":"AC12*K12+($A$4-80)*AJ12*$A$12/1000","v":9.9750059428877407},{"$f":"AD12*M12+($A$4-80)*AK12*$A$12/1000","v":9.3671542356264208},{"$f":"AE12*O12+($A$4-80)*AL12*$A$12/1000","v":8.7752049320717553}]
[null,67,20.610455311973016,14.727541993567076,19.73018549747049,14.372305862324847,18.88026981450253,14.039287872597962,18.440134907251263,13.865199860607555,18,13.683798863847075,17.150084317032043,13.351526384536264,16.26981450252951,12.995756792044551,null,1.145025295109612,1.0961214165261384,1.0489038785834739,1.0244519392917368,1,0.95278246205733563,0.90387858347386174,0.71456655229792809,0.7284425107998832,0.74359572244110317,0.75190338521630373,0.76021104799150419,0.77851083048475944,0.79876490233026731,0.9,0.9,0.9,0.9,0.9,0.9,0.9,{"$f":"Y13*C13+($A$4-80)*AF13*$A$12/1000","v":14.727541993567076},{"$f":"Z13*E13+($A$4-80)*AG13*$A$12/1000","v":14.372305862324847},{"$f":"AA13*G13+($A$4-80)*AH13*$A$12/1000","v":14.039287872597962},{"$f":"AB13*I13+($A$4-80)*AI13*$A$12/1000","v":13.865199860607555},{"$f":"AC13*K13+($A$4-80)*AJ13*$A$12/1000","v":13.683798863847075},{"$f":"AD13*M13+($A$4-80)*AK13*$A$12/1000","v":13.351526384536264},{"$f":"AE13*O13+($A$4-80)*AL13*$A$12/1000","v":12.995756792044551}]
[null,62,18.940978077571668,17.946584696394837,18.242833052276559,17.610588052062059,17.544688026981451,17.274561960361257,17.195615514333895,17.110172339134369,{"$f":"V14*$K$13","v":16.846543001686342},16.846543001686342,16.14839797639123,16.14839797639123,15.450252951096122,15.450252951096122,null,1.0522765598650927,1.0134907251264755,0.97470489038785835,0.95531197301854975,0.93591905564924116,0.89713322091062397,0.85834738617200679,0.94750042066970619,0.96534282814501771,0.98460354118552729,0.99503110690464669,1.005458672623766,1,1,0.63643995000040077,0.57069781541686782,0.49972979214780633,0.46130838349913894,0.422886974850472,0.44300000000000006,0.44300000000000006,17.946584696394837,{"$f":"Z14*E14+($A$4-80)*AG14*$A$12/1000","v":17.610588052062059},{"$f":"AA14*G14+($A$4-80)*AH14*$A$12/1000","v":17.274561960361257},17.110172339134369,16.938502764774743,16.14839797639123,15.450252951096122]
[null,57,18.88026981450253,18.88026981450253,18.151770657672852,18.151770657672852,17.392917369308602,17.392917369308602,17.013490725126474,17.013490725126474,16.634064080944352,16.634064080944352,15.905564924114671,15.905564924114671,15.146711635750421,15.146711635750421,null,1.0489038785834739,1.0084317032040473,0.96627318718381117,0.94519392917369305,0.92411467116357504,0.88364249578414844,0.84148397976391232,1,1,1,1,1,1,1,0.44300000000000006,0.44300000000000006,0.44300000000000006,0.44300000000000006,0.44300000000000006,0.44300000000000006,0.44300000000000006,18.88026981450253,{"$f":"Z15*E15+($A$4-80)*AG15*$A$12/1000","v":18.151770657672852},{"$f":"AA15*G15+($A$4-80)*AH15*$A$12/1000","v":17.392917369308602},17.013490725126474,16.634064080944352,15.905564924114671,15.146711635750421]
[2000,72,22.67453625632378,11.860078253937017,21.521079258010115,11.597939252067279,20.367622259696457,11.335573346774217,19.806070826306911,11.218546051450286,19.244519392917368,11.090432738699722,18.091062394603707,10.828156193211404,16.937605396290053,10.565588024025503,null,1.2596964586846544,1.1956155143338953,1.1315345699831365,1.1003372681281618,1.0691399662731871,1.0050590219224282,0.94097807757166951,0.52305714744791387,0.53891067046512287,0.55654868311285899,0.56641956649723457,0.57629044988161016,0.59853622507218152,0.62379467326235793,0.9,0.9,0.9,0.9,0.9,0.9,0.9,{"$f":"Y16*C16+($A$4-80)*AF16*$A$16/1000","v":11.860078253937017},{"$f":"Z16*E16+($A$4-80)*AG16*$A$16/1000","v":11.597939252067279},{"$f":"AA16*G16+($A$4-80)*AH16*$A$16/1000","v":11.335573346774217},{"$f":"AB16*I16+($A$4-80)*AI16*$A$16/1000","v":11.218546051450286},{"$f":"AC16*K16+($A$4-80)*AJ16*$A$16/1000","v":11.090432738699722},{"$f":"AD16*M16+($A$4-80)*AK16*$A$16/1000","v":10.828156193211404},{"$f":"AE16*O16+($A$4-80)*AL16*$A$16/1000","v":10.565588024025503}]
[null,67,20.94435075885329,15.86682193757194,20.003372681281618,15.279064746181103,19.09274873524452,14.714368374889316,18.63743676222597,14.433775423635899,18.182124789207421,14.149747319177848,17.271500843170323,13.585213567571031,16.36087689713322,13.020781795561112,null,1.163575042158516,1.1112984822934233,1.06070826306914,1.0354131534569984,1.0101180438448567,0.9595278246205734,0.90893760539629009,0.75757048381482772,0.76382443049109716,0.77067836480386542,0.77445067193413752,0.77822297906440951,0.78656821378340369,0.7958486502543537,0.9,0.9,0.9,0.9,0.9,0.9,0.9,{"$f":"Y17*C17+($A$4-80)*AF17*$A$16/1000","v":15.86682193757194},{"$f":"Z17*E17+($A$4-80)*AG17*$A$16/1000","v":15.279064746181103},{"$f":"AA17*G17+($A$4-80)*AH17*$A$16/1000","v":14.714368374889316},{"$f":"AB17*I17+($A$4-80)*AI17*$A$16/1000","v":14.433775423635899},{"$f":"AC17*K17+($A$4-80)*AJ17*$A$16/1000","v":14.149747319177848},{"$f":"AD17*M17+($A$4-80)*AK17*$A$16/1000","v":13.585213567571031},{"$f":"AE17*O17+($A$4-80)*AL17*$A$16/1000","v":13.020781795561112}]
[null,62,19.062394603709951,18.934831078777737,18.516020236087687,18.430968713438862,17.969645868465431,17.927115240812959,17.681281618887013,17.660357555873869,17.392917369308602,17.392917369308602,16.846543001686342,16.846543001686342,16.300168634064082,16.300168634064082,null,1.0590219224283306,1.0286677908937605,0.99831365935919059,0.98229342327150082,0.96627318718381117,0.93591905564924116,0.90556492411467115,0.99330810595498908,0.99540659809373822,0.99763319611506052,0.99881659805753031,1,1,1,0.46765695279824726,0.45992484866381211,0.45172072559444798,0.44736036279722402,0.44300000000000006,0.44300000000000006,0.44300000000000006,18.934831078777737,{"$f":"Z18*E18+($A$4-80)*AG18*$A$16/1000","v":18.430968713438862},{"$f":"AA18*G18+($A$4-80)*AH18*$A$16/1000","v":17.927115240812959},17.660357555873869,17.392917369308602,16.846543001686342,16.300168634064082]
[null,57,19.456998313659359,19.456998313659359,18.667790893760539,18.667790893760539,17.87858347386172,17.87858347386172,17.499156829679595,17.499156829679595,17.11973018549747,17.11973018549747,16.330522765598651,16.330522765598651,15.571669477234401,15.571669477234401,null,1.0809443507588532,1.0370994940978078,0.99325463743676223,0.97217537942664423,0.95109612141652611,0.90725126475548057,0.86509274873524455,1,1,1,1,1,1,1,0.44300000000000006,0.44300000000000006,0.44300000000000006,0.44300000000000006,0.44300000000000006,0.44300000000000006,0.44300000000000006,19.456998313659359,{"$f":"Z19*E19+($A$4-80)*AG19*$A$16/1000","v":18.667790893760539},{"$f":"AA19*G19+($A$4-80)*AH19*$A$16/1000","v":17.87858347386172},17.499156829679595,17.11973018549747,16.330522765598651,15.571669477234401]

{"sheet":"4SCU16L_24","index":26,"n_rows":19,"n_cols":45,"rows_kept":19,"cut":false,"hidden":true,"merged":[[2,0,2,1],[2,2,2,15],[3,2,3,3],[3,4,3,5],[3,6,3,7],[3,8,3,9],[3,10,3,11],[3,12,3,13],[3,14,3,15],[5,2,6,2],[5,3,6,3],[5,4,6,4],[5,5,6,5],[5,6,6,6],[5,7,6,7],[5,8,6,8],[4,0,6,0],[4,1,6,1],[4,2,4,3],[4,4,4,5],[4,6,4,7],[4,8,4,9],[5,9,6,9],[5,10,6,10],[5,11,6,11],[5,12,6,12],[5,13,6,13],[5,14,6,14],[5,15,6,15],[4,10,4,11],[4,12,4,13],[4,14,4,15],[7,0,10,0],[11,0,14,0],[15,0,18,0],[22,4,22,15],[23,4,23,5],[23,6,23,7],[23,8,23,9],[23,10,23,11],[23,12,23,13],[23,14,23,15],[25,12,26,12],[25,13,26,13],[25,14,26,14],[25,15,26,15],[27,0,30,0],[31,0,34,0],[24,12,24,13],[24,14,24,15],[25,4,26,4],[25,5,26,5],[25,6,26,6],[25,7,26,7],[25,8,26,8],[25,9,26,9],[25,10,26,10],[25,11,26,11],[24,0,26,0],[24,1,26,1],[24,4,24,5],[24,6,24,7],[24,8,24,9],[24,10,24,11],[35,0,38,0],[41,0,42,1],[41,4,41,15],[42,4,42,5],[42,6,42,7],[42,8,42,9],[42,10,42,11],[42,12,42,13],[42,14,42,15],[44,12,45,12],[44,13,45,13],[44,14,45,14],[44,15,45,15],[46,0,49,0],[50,0,53,0],[43,12,43,13],[43,14,43,15],[44,4,45,4],[44,5,45,5],[44,6,45,6],[44,7,45,7],[44,8,45,8],[44,9,45,9],[44,10,45,10],[44,11,45,11],[43,0,45,0],[43,1,45,1],[43,4,43,5],[43,6,43,7],[43,8,43,9],[43,10,43,11],[54,0,57,0],[60,0,61,1],[60,4,60,15],[61,4,61,5],[61,6,61,7],[61,8,61,9],[61,10,61,11],[61,12,61,13],[61,14,61,15],[63,12,64,12],[63,13,64,13],[63,14,64,14],[63,15,64,15],[65,0,68,0],[69,0,72,0],[62,12,62,13],[62,14,62,15],[63,4,64,4],[63,5,64,5],[63,6,64,6],[63,7,64,7],[63,8,64,8],[63,9,64,9],[63,10,64,10],[63,11,64,11],[62,0,64,0],[62,1,64,1],[62,4,62,5],[62,6,62,7],[62,8,62,9],[62,10,62,11],[73,0,76,0],[79,0,80,1],[79,4,79,15],[80,4,80,5],[80,6,80,7],[80,8,80,9],[80,10,80,11],[80,12,80,13],[80,14,80,15],[82,12,83,12],[82,13,83,13],[82,14,83,14],[82,15,83,15],[84,0,87,0],[88,0,91,0],[81,12,81,13],[81,14,81,15],[82,4,83,4],[82,5,83,5],[82,6,83,6],[82,7,83,7],[82,8,83,8],[82,9,83,9],[82,10,83,10],[82,11,83,11],[81,0,83,0],[81,1,83,1],[81,4,81,5],[81,6,81,7],[81,8,81,9],[81,10,81,11],[92,0,95,0],[98,0,99,1],[98,4,98,15],[99,4,99,5],[99,6,99,7],[99,8,99,9],[99,10,99,11],[99,12,99,13],[99,14,99,15],[101,12,102,12],[101,13,102,13],[101,14,102,14],[101,15,102,15],[103,0,106,0],[107,0,110,0],[100,12,100,13],[100,14,100,15],[101,4,102,4],[101,5,102,5],[101,6,102,6],[101,7,102,7],[101,8,102,8],[101,9,102,9],[101,10,102,10],[101,11,102,11],[100,0,102,0],[100,1,102,1],[100,4,100,5],[100,6,100,7],[100,8,100,9],[100,10,100,11],[111,0,114,0],[117,0,118,1],[117,4,117,15],[118,4,118,5],[118,6,118,7],[118,8,118,9],[118,10,118,11],[118,12,118,13],[118,14,118,15],[130,0,133,0],[120,12,121,12],[120,13,121,13],[120,14,121,14],[120,15,121,15],[122,0,125,0],[126,0,129,0],[119,12,119,13],[119,14,119,15],[120,4,121,4],[120,5,121,5],[120,6,121,6],[120,7,121,7],[120,8,121,8],[120,9,121,9],[120,10,121,10],[120,11,121,11],[119,0,121,0],[119,1,121,1],[119,4,119,5],[119,6,119,7],[119,8,119,9],[119,10,119,11]]}
[]
["4SCU16L_24"]
["Evaporator Air \n",null,"Condenser  Entering Air Temperature ˚F"]
[80,"°F DB",65,null,75,null,85,null,90,null,95,null,105,null,115]
["CFM","EWB†\n˚F","Capacity Mbtuh",null,"Capacity Mbtuh",null,"Capacity Mbtuh",null,"Capacity Mbtuh",null,"Capacity Mbtuh",null,"Capacity Mbtuh",null,"Capacity Mbtuh"]
[null,null,"Total","Sens.","Total","Sens.","Total","Sens.","Total","Sens.","Total","Sens.","Total","Sens.","Total","Sens."]
[null,null,null,null,null,null,null,null,null,null,null,null,null,null,null,null,null,"Total Factors",null,null,null,null,null,null,"Sens. %",null,null,null,null,null,null,"IDB Adj",null,null,null,null,null,null,"Sens Calc"]
[600,72,{"$f":"R8*$K$13","v":21.775280898876407},{"$f":"IF(AM8>C8,C8,AM8)","v":10.590782957505452},{"$f":"S8*$K$13","v":20.696629213483146},{"$f":"IF(AN8>E8,E8,AN8)","v":10.176185159000779},{"$f":"T8*$K$13","v":19.617977528089888},{"$f":"IF(AO8>G8,G8,AO8)","v":9.7613714969432976},{"$f":"U8*$K$13","v":19.112359550561798},{"$f":"IF(AP8>I8,I8,AP8)","v":9.5724902962735641},{"$f":"V8*$K$13","v":18.606741573033709},{"$f":"IF(AQ8>K8,K8,AQ8)","v":9.3802916067709106},{"$f":"W8*$K$13","v":17.528089887640451},{"$f":"IF(AR8>M8,M8,AR8)","v":8.9654223297079945},{"$f":"X8*$K$13","v":16.44943820224719},{"$f":"IF(AS8>O8,O8,AS8)","v":8.5502605595488141},null,1.2097378277153559,1.1498127340823969,1.0898876404494382,1.0617977528089888,1.0337078651685394,0.97378277153558057,0.91385767790262173,0.48636722560267548,0.49168321343706262,0.49757277389917148,0.5008534017450601,0.50413402959094866,0.51148883804103296,0.51979043019115057,{"$f":"IF(Y8<0.9,0.9,Y8*-3.6846+4.1276)","v":0.9},{"$f":"IF(Z8<0.9,0.9,Z8*-3.6846+4.1276)","v":0.9},0.9,0.9,0.9,0.9,0.9,{"$f":"Y8*C8+($A$4-80)*AF8*$A$8/1000","v":10.590782957505452},{"$f":"Z8*E8+($A$4-80)*AG8*$A$8/1000","v":10.176185159000779},{"$f":"AA8*G8+($A$4-80)*AH8*$A$8/1000","v":9.7613714969432976},{"$f":"AB8*I8+($A$4-80)*AI8*$A$8/1000","v":9.5724902962735641},{"$f":"AC8*K8+($A$4-80)*AJ8*$A$8/1000","v":9.3802916067709106},{"$f":"AD8*M8+($A$4-80)*AK8*$A$8/1000","v":8.9654223297079945},{"$f":"AE8*O8+($A$4-80)*AL8*$A$8/1000","v":8.5502605595488141}]
[null,67,20.022471910112362,13.083091019969444,19.078651685393258,{"$f":"IF(AN9>E9,E9,AN9)","v":12.649117038647374},18.067415730337078,{"$f":"IF(AO9>G9,G9,AO9)","v":12.170547737612804},17.561797752808989,{"$f":"IF(AP9>I9,I9,AP9)","v":11.933937616497671},{"$f":"V9*$K$13","v":17.056179775280899},{"$f":"IF(AQ9>K9,K9,AQ9)","v":11.691339958017561},16.112359550561798,{"$f":"IF(AR9>M9,M9,AR9)","v":11.258483411831833},15.101123595505619,{"$f":"IF(AS9>O9,O9,AS9)","v":10.778629793590863},null,1.1123595505617978,1.0599250936329587,1.0037453183520599,0.97565543071161054,0.94756554307116103,0.89513108614232206,0.83895131086142327,0.65342037080655468,0.66299847846856086,0.67361862478080814,0.67953963395284245,0.68546064312487676,0.6987482731192699,0.71376343127201392,{"$f":"IF(Y9<0.9,0.9,Y9*-3.6846+4.1276)","v":0.9},0.9,0.9,0.9,0.9,0.9,0.9,{"$f":"Y9*C9+($A$4-80)*AF9*$A$8/1000","v":13.083091019969444},{"$f":"Z9*E9+($A$4-80)*AG9*$A$8/1000","v":12.649117038647374},{"$f":"AA9*G9+($A$4-80)*AH9*$A$8/1000","v":12.170547737612804},{"$f":"AB9*I9+($A$4-80)*AI9*$A$8/1000","v":11.933937616497671},{"$f":"AC9*K9+($A$4-80)*AJ9*$A$8/1000","v":11.691339958017561},{"$f":"AD9*M9+($A$4-80)*AK9*$A$8/1000","v":11.258483411831833},{"$f":"AE9*O9+($A$4-80)*AL9*$A$8/1000","v":10.778629793590863}]
[null,62,18.404494382022474,15.421448312302269,17.528089887640451,15.006033410416087,16.584269662921351,14.532979295841173,16.112359550561798,14.301097127493865,{"$f":"V10*$K$13","v":15.640449438202248},14.058573911025931,14.764044943820224,13.644872068602352,13.820224719101123,13.168879593822878,null,1.0224719101123596,0.97378277153558057,0.9213483146067416,0.89513108614232206,0.86891385767790263,0.8202247191011236,0.76779026217228463,0.83791752124230878,0.85611344456861005,0.87631108220180498,0.88758552604390095,0.89885996988599703,0.92419605335282295,0.95287014947173665,0.9,0.9,0.9,0.9,0.9,0.72230722181618878,0.61665464725643915,15.421448312302269,{"$f":"Z10*E10+($A$4-80)*AG10*$A$8/1000","v":15.006033410416087},{"$f":"AA10*G10+($A$4-80)*AH10*$A$8/1000","v":14.532979295841173},14.301097127493865,14.058573911025931,13.644872068602352,13.168879593822878]
[null,57,17.393258426966291,17.393258426966291,16.651685393258429,16.651685393258429,15.97752808988764,15.97752808988764,15.606741573033709,15.606741573033709,{"$f":"V11*$K$13","v":15.235955056179774},15.235955056179774,14.49438202247191,14.49438202247191,13.820224719101123,13.820224719101123,null,0.9662921348314607,0.92509363295880154,0.88764044943820219,0.86704119850187267,0.84644194756554303,0.80524344569288386,0.76779026217228463,1,1,1,1,1,1,1,0.44300000000000006,0.44300000000000006,0.44300000000000006,0.44300000000000006,0.44300000000000006,0.44300000000000006,0.44300000000000006,17.393258426966291,{"$f":"Z11*E11+($A$4-80)*AG11*$A$8/1000","v":16.651685393258429},{"$f":"AA11*G11+($A$4-80)*AH11*$A$8/1000","v":15.97752808988764},{"$f":"AB11*I11+($A$4-80)*AI11*$A$8/1000","v":15.606741573033709},15.235955056179774,14.49438202247191,13.820224719101123]
[800,72,23.056179775280899,11.851405036562692,21.910112359550563,11.478043030787099,20.696629213483146,11.069014026851965,20.123595505617978,10.885854380728249,{"$f":"V12*$K$13","v":19.55056179775281},10.695671973308798,18.404494382022474,10.322769998476621,17.258426966292134,9.9503972405014789,null,1.2808988764044944,1.2172284644194757,1.1498127340823969,1.1179775280898876,1.0861423220973783,1.0224719101123596,0.95880149812734083,0.51402292799906413,0.52386965627694959,0.5348220675297638,0.54094977101329655,0.54707747449682931,0.56088310736533531,0.57655296510718201,0.9,0.9,0.9,0.9,0.9,0.9,0.9,{"$f":"Y12*C12+($A$4-80)*AF12*$A$12/1000","v":11.851405036562692},{"$f":"Z12*E12+($A$4-80)*AG12*$A$12/1000","v":11.478043030787099},{"$f":"AA12*G12+($A$4-80)*AH12*$A$12/1000","v":11.069014026851965},{"$f":"AB12*I12+($A$4-80)*AI12*$A$12/1000","v":10.885854380728249},{"$f":"AC12*K12+($A$4-80)*AJ12*$A$12/1000","v":10.695671973308798},{"$f":"AD12*M12+($A$4-80)*AK12*$A$12/1000","v":10.322769998476621},{"$f":"AE12*O12+($A$4-80)*AL12*$A$12/1000","v":9.9503972405014789}]
[null,67,21.303370786516854,15.078833272270295,20.157303370786519,14.614819033811424,19.078651685393258,14.198731865739557,18.539325842696631,13.99660830473397,18,13.782891782667264,16.921348314606742,13.367346336133709,15.842696629213483,12.952156115807501,null,1.1835205992509363,1.1198501872659177,1.0599250936329587,1.0299625468164795,1,0.94007490636704116,0.88014981273408244,0.70781443102956554,0.7250384024577573,0.7442209281806953,0.75496856916443833,0.76571621014818136,0.78996933858957508,0.81754744277082803,0.9,0.9,0.9,0.9,0.9,0.9,0.9,{"$f":"Y13*C13+($A$4-80)*AF13*$A$12/1000","v":15.078833272270295},{"$f":"Z13*E13+($A$4-80)*AG13*$A$12/1000","v":14.614819033811424},{"$f":"AA13*G13+($A$4-80)*AH13*$A$12/1000","v":14.198731865739557},{"$f":"AB13*I13+($A$4-80)*AI13*$A$12/1000","v":13.99660830473397},{"$f":"AC13*K13+($A$4-80)*AJ13*$A$12/1000","v":13.782891782667264},{"$f":"AD13*M13+($A$4-80)*AK13*$A$12/1000","v":13.367346336133709},{"$f":"AE13*O13+($A$4-80)*AL13*$A$12/1000","v":12.952156115807501}]
[null,62,19.415730337078649,18.109349564476545,18.606741573033709,17.734181226318182,17.730337078651687,17.294814900895535,17.292134831460675,17.079755670634722,{"$f":"V14*$K$13","v":16.853932584269661},16.853932584269661,16.044943820224717,16.044943820224717,15.168539325842696,15.168539325842696,null,1.0786516853932584,1.0337078651685394,0.98501872659176026,0.9606741573033708,0.93632958801498123,0.89138576779026213,0.84269662921348309,0.93271534215185914,0.95310515044825961,0.97543632837750482,0.98771816418875247,1,1,1,0.69091705030725992,0.61578876265834293,0.53350730446024563,0.48825365223012263,0.44300000000000006,0.44300000000000006,0.44300000000000006,18.109349564476545,{"$f":"Z14*E14+($A$4-80)*AG14*$A$12/1000","v":17.734181226318182},{"$f":"AA14*G14+($A$4-80)*AH14*$A$12/1000","v":17.294814900895535},17.079755670634722,16.853932584269661,16.044943820224717,15.168539325842696]
[null,57,19.280898876404493,19.280898876404493,18.471910112359552,18.471910112359552,17.662921348314605,17.662921348314605,17.258426966292134,17.258426966292134,16.853932584269661,16.853932584269661,16.044943820224717,16.044943820224717,15.235955056179774,15.235955056179774,null,1.0711610486891385,1.0262172284644195,0.98127340823970033,0.95880149812734083,0.93632958801498123,0.89138576779026213,0.84644194756554303,1,1,1,1,1,1,1,0.44300000000000006,0.44300000000000006,0.44300000000000006,0.44300000000000006,0.44300000000000006,0.44300000000000006,0.44300000000000006,19.280898876404493,{"$f":"Z15*E15+($A$4-80)*AG15*$A$12/1000","v":18.471910112359552},{"$f":"AA15*G15+($A$4-80)*AH15*$A$12/1000","v":17.662921348314605},17.258426966292134,16.853932584269661,16.044943820224717,15.235955056179774]
[1000,72,23.86516853932584,13.126803465777815,22.651685393258425,12.747099769535183,21.370786516853933,12.329261041338432,20.764044943820224,12.144531616458568,20.157303370786519,11.950141060537572,18.876404494382022,11.530774398684954,17.662921348314605,11.152335774030313,null,1.3258426966292134,1.2584269662921348,1.1872659176029963,1.1535580524344569,1.1198501872659177,1.0486891385767789,0.98127340823970033,0.55004025821762037,0.56274398784158297,0.57692125798061011,0.58488274559784237,0.59284423321507462,0.61085650088271481,0.63139814496736513,0.9,0.9,0.9,0.9,0.9,0.9,0.9,{"$f":"Y16*C16+($A$4-80)*AF16*$A$16/1000","v":13.126803465777815},{"$f":"Z16*E16+($A$4-80)*AG16*$A$16/1000","v":12.747099769535183},{"$f":"AA16*G16+($A$4-80)*AH16*$A$16/1000","v":12.329261041338432},{"$f":"AB16*I16+($A$4-80)*AI16*$A$16/1000","v":12.144531616458568},{"$f":"AC16*K16+($A$4-80)*AJ16*$A$16/1000","v":11.950141060537572},{"$f":"AD16*M16+($A$4-80)*AK16*$A$16/1000","v":11.530774398684954},{"$f":"AE16*O16+($A$4-80)*AL16*$A$16/1000","v":11.152335774030313}]
[null,67,20.831460674157302,15.279818953965535,20.08988764044944,15.453811572977163,19.348314606741571,15.628120171492343,18.977528089887642,15.723159934691401,18.606741573033709,15.80278276393418,17.865168539325843,15.977843717327628,17.123595505617978,16.153355136136177,null,1.1573033707865168,1.1161048689138577,1.0749063670411985,1.0543071161048689,1.0337078651685394,0.99250936329588013,0.95131086142322097,0.73349724212671663,0.76923335010904215,0.80772514242904681,0.82851464427917976,0.84930414612931282,0.8943572898378358,0.94333898104732261,0.9,0.9,0.9,0.9,0.9,0.9,0.65177319043303505,{"$f":"Y17*C17+($A$4-80)*AF17*$A$16/1000","v":15.279818953965535},{"$f":"Z17*E17+($A$4-80)*AG17*$A$16/1000","v":15.453811572977163},{"$f":"AA17*G17+($A$4-80)*AH17*$A$16/1000","v":15.628120171492343},{"$f":"AB17*I17+($A$4-80)*AI17*$A$16/1000","v":15.723159934691401},{"$f":"AC17*K17+($A$4-80)*AJ17*$A$16/1000","v":15.80278276393418},{"$f":"AD17*M17+($A$4-80)*AK17*$A$16/1000","v":15.977843717327628},{"$f":"AE17*O17+($A$4-80)*AL17*$A$16/1000","v":16.153355136136177}]
[null,62,20.764044943820224,20.764044943820224,19.887640449438202,19.887640449438202,18.943820224719101,18.943820224719101,18.50561797752809,18.50561797752809,18.067415730337078,18.067415730337078,17.123595505617978,17.123595505617978,16.179775280898877,16.179775280898877,null,1.1535580524344569,1.1048689138576779,1.0524344569288389,1.0280898876404494,1.0037453183520599,0.95131086142322097,0.898876404494382,1,1,1,1,1,1,1,0.44300000000000006,0.44300000000000006,0.44300000000000006,0.44300000000000006,0.44300000000000006,0.44300000000000006,0.44300000000000006,20.764044943820224,{"$f":"Z18*E18+($A$4-80)*AG18*$A$16/1000","v":19.887640449438202},{"$f":"AA18*G18+($A$4-80)*AH18*$A$16/1000","v":18.943820224719101},18.50561797752809,18.067415730337078,17.123595505617978,16.179775280898877]
[null,57,20.764044943820224,20.764044943820224,19.820224719101123,19.820224719101123,18.943820224719101,18.943820224719101,18.471910112359552,18.471910112359552,18,18,17.123595505617978,17.123595505617978,16.179775280898877,16.179775280898877,null,1.1535580524344569,1.101123595505618,1.0524344569288389,1.0262172284644195,1,0.95131086142322097,0.898876404494382,1,1,1,1,1,1,1,0.44300000000000006,0.44300000000000006,0.44300000000000006,0.44300000000000006,0.44300000000000006,0.44300000000000006,0.44300000000000006,20.764044943820224,{"$f":"Z19*E19+($A$4-80)*AG19*$A$16/1000","v":19.820224719101123},{"$f":"AA19*G19+($A$4-80)*AH19*$A$16/1000","v":18.943820224719101},18.471910112359552,18,17.123595505617978,16.179775280898877]

{"sheet":"4SCU16L_36","index":27,"n_rows":19,"n_cols":45,"rows_kept":19,"cut":false,"hidden":true,"merged":[[2,0,2,1],[2,2,2,15],[3,2,3,3],[3,4,3,5],[3,6,3,7],[3,8,3,9],[3,10,3,11],[3,12,3,13],[3,14,3,15],[5,2,6,2],[5,3,6,3],[5,4,6,4],[5,5,6,5],[5,6,6,6],[5,7,6,7],[5,8,6,8],[4,0,6,0],[4,1,6,1],[4,2,4,3],[4,4,4,5],[4,6,4,7],[4,8,4,9],[5,9,6,9],[5,10,6,10],[5,11,6,11],[5,12,6,12],[5,13,6,13],[5,14,6,14],[5,15,6,15],[4,10,4,11],[4,12,4,13],[4,14,4,15],[7,0,10,0],[11,0,14,0],[15,0,18,0],[22,4,22,15],[23,4,23,5],[23,6,23,7],[23,8,23,9],[23,10,23,11],[23,12,23,13],[23,14,23,15],[25,12,26,12],[25,13,26,13],[25,14,26,14],[25,15,26,15],[27,0,30,0],[31,0,34,0],[24,12,24,13],[24,14,24,15],[25,4,26,4],[25,5,26,5],[25,6,26,6],[25,7,26,7],[25,8,26,8],[25,9,26,9],[25,10,26,10],[25,11,26,11],[24,0,26,0],[24,1,26,1],[24,4,24,5],[24,6,24,7],[24,8,24,9],[24,10,24,11],[35,0,38,0],[41,0,42,1],[41,4,41,15],[42,4,42,5],[42,6,42,7],[42,8,42,9],[42,10,42,11],[42,12,42,13],[42,14,42,15],[44,12,45,12],[44,13,45,13],[44,14,45,14],[44,15,45,15],[46,0,49,0],[50,0,53,0],[43,12,43,13],[43,14,43,15],[44,4,45,4],[44,5,45,5],[44,6,45,6],[44,7,45,7],[44,8,45,8],[44,9,45,9],[44,10,45,10],[44,11,45,11],[43,0,45,0],[43,1,45,1],[43,4,43,5],[43,6,43,7],[43,8,43,9],[43,10,43,11],[54,0,57,0],[60,0,61,1],[60,4,60,15],[61,4,61,5],[61,6,61,7],[61,8,61,9],[61,10,61,11],[61,12,61,13],[61,14,61,15],[63,12,64,12],[63,13,64,13],[63,14,64,14],[63,15,64,15],[65,0,68,0],[69,0,72,0],[62,12,62,13],[62,14,62,15],[63,4,64,4],[63,5,64,5],[63,6,64,6],[63,7,64,7],[63,8,64,8],[63,9,64,9],[63,10,64,10],[63,11,64,11],[62,0,64,0],[62,1,64,1],[62,4,62,5],[62,6,62,7],[62,8,62,9],[62,10,62,11],[73,0,76,0],[79,0,80,1],[79,4,79,15],[80,4,80,5],[80,6,80,7],[80,8,80,9],[80,10,80,11],[80,12,80,13],[80,14,80,15],[82,12,83,12],[82,13,83,13],[82,14,83,14],[82,15,83,15],[84,0,87,0],[88,0,91,0],[81,12,81,13],[81,14,81,15],[82,4,83,4],[82,5,83,5],[82,6,83,6],[82,7,83,7],[82,8,83,8],[82,9,83,9],[82,10,83,10],[82,11,83,11],[81,0,83,0],[81,1,83,1],[81,4,81,5],[81,6,81,7],[81,8,81,9],[81,10,81,11],[92,0,95,0],[98,0,99,1],[98,4,98,15],[99,4,99,5],[99,6,99,7],[99,8,99,9],[99,10,99,11],[99,12,99,13],[99,14,99,15],[101,12,102,12],[101,13,102,13],[101,14,102,14],[101,15,102,15],[103,0,106,0],[107,0,110,0],[100,12,100,13],[100,14,100,15],[101,4,102,4],[101,5,102,5],[101,6,102,6],[101,7,102,7],[101,8,102,8],[101,9,102,9],[101,10,102,10],[101,11,102,11],[100,0,102,0],[100,1,102,1],[100,4,100,5],[100,6,100,7],[100,8,100,9],[100,10,100,11],[111,0,114,0],[117,0,118,1],[117,4,117,15],[118,4,118,5],[118,6,118,7],[118,8,118,9],[118,10,118,11],[118,12,118,13],[118,14,118,15],[130,0,133,0],[120,12,121,12],[120,13,121,13],[120,14,121,14],[120,15,121,15],[122,0,125,0],[126,0,129,0],[119,12,119,13],[119,14,119,15],[120,4,121,4],[120,5,121,5],[120,6,121,6],[120,7,121,7],[120,8,121,8],[120,9,121,9],[120,10,121,10],[120,11,121,11],[119,0,121,0],[119,1,121,1],[119,4,119,5],[119,6,119,7],[119,8,119,9],[119,10,119,11]]}
[]
["4SCU16L_36"]
["Evaporator Air \n",null,"Condenser  Entering Air Temperature ˚F"]
[80,"°F DB",65,null,75,null,85,null,90,null,95,null,105,null,115]
["CFM","EWB†\n˚F","Capacity Mbtuh",null,"Capacity Mbtuh",null,"Capacity Mbtuh",null,"Capacity Mbtuh",null,"Capacity Mbtuh",null,"Capacity Mbtuh",null,"Capacity Mbtuh"]
[null,null,"Total","Sens.","Total","Sens.","Total","Sens.","Total","Sens.","Total","Sens.","Total","Sens.","Total","Sens."]
[null,null,null,null,null,null,null,null,null,null,null,null,null,null,null,null,null,"Total Factors",null,null,null,null,null,null,"Sens. %",null,null,null,null,null,null,"IDB Adj",null,null,null,null,null,null,"Sens Calc"]
[1050,72,{"$f":"R8*$K$13","v":23.333333333333332},{"$f":"IF(AM8>C8,C8,AM8)","v":12.01246331628135},{"$f":"S8*$K$13","v":22.205128205128204},{"$f":"IF(AN8>E8,E8,AN8)","v":11.582075134994044},{"$f":"T8*$K$13","v":21.076923076923077},{"$f":"IF(AO8>G8,G8,AO8)","v":11.151869495633942},{"$f":"U8*$K$13","v":20.512820512820515},{"$f":"IF(AP8>I8,I8,AP8)","v":10.939234037367589},{"$f":"V8*$K$13","v":19.948717948717949},{"$f":"IF(AQ8>K8,K8,AQ8)","v":10.721877760340289},{"$f":"W8*$K$13","v":18.76923076923077},{"$f":"IF(AR8>M8,M8,AR8)","v":10.264094936801866},{"$f":"X8*$K$13","v":17.641025641025642},{"$f":"IF(AS8>O8,O8,AS8)","v":9.8341144768201172},null,1.2962962962962963,1.2336182336182335,1.170940170940171,1.1396011396011396,1.1082621082621082,1.0427350427350428,0.98005698005698005,0.51481985641205785,0.52159460769603661,0.52910329723810678,0.53328765932166988,0.53747202140523298,0.54685751712468955,0.55745707063369843,{"$f":"IF(Y8<0.9,0.9,Y8*-3.6846+4.1276)","v":0.9},{"$f":"IF(Z8<0.9,0.9,Z8*-3.6846+4.1276)","v":0.9},0.9,0.9,0.9,0.9,0.9,{"$f":"Y8*C8+($A$4-80)*AF8*$A$8/1000","v":12.01246331628135},{"$f":"Z8*E8+($A$4-80)*AG8*$A$8/1000","v":11.582075134994044},{"$f":"AA8*G8+($A$4-80)*AH8*$A$8/1000","v":11.151869495633942},{"$f":"AB8*I8+($A$4-80)*AI8*$A$8/1000","v":10.939234037367589},{"$f":"AC8*K8+($A$4-80)*AJ8*$A$8/1000","v":10.721877760340289},{"$f":"AD8*M8+($A$4-80)*AK8*$A$8/1000","v":10.264094936801866},{"$f":"AE8*O8+($A$4-80)*AL8*$A$8/1000","v":9.8341144768201172}]
[null,67,21.641025641025642,15.415753213854495,20.564102564102566,{"$f":"IF(AN9>E9,E9,AN9)","v":14.807878557466696},19.435897435897438,{"$f":"IF(AO9>G9,G9,AO9)","v":14.163297834539751},18.871794871794872,{"$f":"IF(AP9>I9,I9,AP9)","v":13.843635832278538},{"$f":"V9*$K$13","v":18.307692307692307},{"$f":"IF(AQ9>K9,K9,AQ9)","v":13.518509103756106},17.179487179487179,{"$f":"IF(AR9>M9,M9,AR9)","v":12.873471850388734},16.102564102564102,{"$f":"IF(AS9>O9,O9,AS9)","v":12.267201829235381},null,1.2022792022792024,1.1424501424501425,1.0797720797720798,1.0484330484330484,1.017094017094017,0.95441595441595439,0.89458689458689455,0.71233930727526695,0.72008387000149765,0.72871849016761248,0.73356222480823774,0.738405959448863,0.74935134651516511,0.76181667410856668,{"$f":"IF(Y9<0.9,0.9,Y9*-3.6846+4.1276)","v":0.9},0.9,0.9,0.9,0.9,0.9,0.9,{"$f":"Y9*C9+($A$4-80)*AF9*$A$8/1000","v":15.415753213854495},{"$f":"Z9*E9+($A$4-80)*AG9*$A$8/1000","v":14.807878557466696},{"$f":"AA9*G9+($A$4-80)*AH9*$A$8/1000","v":14.163297834539751},{"$f":"AB9*I9+($A$4-80)*AI9*$A$8/1000","v":13.843635832278538},{"$f":"AC9*K9+($A$4-80)*AJ9*$A$8/1000","v":13.518509103756106},{"$f":"AD9*M9+($A$4-80)*AK9*$A$8/1000","v":12.873471850388734},{"$f":"AE9*O9+($A$4-80)*AL9*$A$8/1000","v":12.267201829235381}]
[null,62,19.897435897435898,17.901719257247041,18.871794871794872,17.39178468164841,17.897435897435898,16.929611551422695,17.384615384615383,16.681519816002403,{"$f":"V10*$K$13","v":16.871794871794872},16.419445931863478,15.846153846153847,15.846153846153847,14.871794871794872,14.871794871794872,null,1.1054131054131053,1.0484330484330484,0.99430199430199429,0.96581196581196582,0.93732193732193736,0.88034188034188032,0.8262108262108262,0.89969980803174565,0.92157554698952171,0.94592385459238548,0.95955644959305864,0.9731890445937319,1,1,0.9,0.73196273956240843,0.64224896536889631,0.59201830582941639,0.54178764628993559,0.44300000000000006,0.44300000000000006,17.901719257247041,{"$f":"Z10*E10+($A$4-80)*AG10*$A$8/1000","v":17.39178468164841},{"$f":"AA10*G10+($A$4-80)*AH10*$A$8/1000","v":16.929611551422695},16.681519816002403,16.419445931863478,15.846153846153847,14.871794871794872]
[null,57,19.589743589743591,19.589743589743591,18.76923076923077,18.76923076923077,17.948717948717949,17.948717948717949,17.538461538461537,17.538461538461537,{"$f":"V11*$K$13","v":17.128205128205128},17.128205128205128,16.256410256410255,16.256410256410255,15.435897435897436,15.435897435897436,null,1.0883190883190883,1.0427350427350428,0.9971509971509972,0.97435897435897434,0.95156695156695159,0.90313390313390318,0.85754985754985757,1,1,1,1,1,1,1,0.44300000000000006,0.44300000000000006,0.44300000000000006,0.44300000000000006,0.44300000000000006,0.44300000000000006,0.44300000000000006,19.589743589743591,{"$f":"Z11*E11+($A$4-80)*AG11*$A$8/1000","v":18.76923076923077},{"$f":"AA11*G11+($A$4-80)*AH11*$A$8/1000","v":17.948717948717949},{"$f":"AB11*I11+($A$4-80)*AI11*$A$8/1000","v":17.538461538461537},17.128205128205128,16.256410256410255,15.435897435897436]
[1250,72,24.051282051282051,12.985193033309454,22.871794871794872,12.581694584387945,21.641025641025642,12.149558941581194,21.051282051282051,11.951375816063099,{"$f":"V12*$K$13","v":20.46153846153846},11.745746027281674,19.282051282051285,11.342066529190229,18.102564102564102,10.938546650283365,null,1.3361823361823362,1.2706552706552707,1.2022792022792024,1.1695156695156694,1.1367521367521367,1.0712250712250713,1.0056980056980056,0.53989608560668301,0.55009651209767918,0.56141326862756702,0.56772674400299739,0.57404021937842775,0.58821887584896126,0.60425399342925112,0.9,0.9,0.9,0.9,0.9,0.9,0.9,{"$f":"Y12*C12+($A$4-80)*AF12*$A$12/1000","v":12.985193033309454},{"$f":"Z12*E12+($A$4-80)*AG12*$A$12/1000","v":12.581694584387945},{"$f":"AA12*G12+($A$4-80)*AH12*$A$12/1000","v":12.149558941581194},{"$f":"AB12*I12+($A$4-80)*AI12*$A$12/1000","v":11.951375816063099},{"$f":"AC12*K12+($A$4-80)*AJ12*$A$12/1000","v":11.745746027281674},{"$f":"AD12*M12+($A$4-80)*AK12*$A$12/1000","v":11.342066529190229},{"$f":"AE12*O12+($A$4-80)*AL12*$A$12/1000","v":10.938546650283365}]
[null,67,22.717948717948719,17.033851149301679,21.179487179487179,15.906560246995062,19.589743589743591,14.740807319481672,18.794871794871796,14.158596891267999,18,13.575040620278784,16.410256410256409,12.409256160193893,14.820512820512821,11.243448244659191,null,1.2621082621082622,1.1766381766381766,1.0883190883190883,1.0441595441595442,1,0.9116809116809117,0.8233618233618234,0.74979705961937404,0.75103613756998477,0.75247576630861934,0.75332234482872029,0.75416892334882135,0.75618904726181546,0.75864097152544718,0.9,0.9,0.9,0.9,0.9,0.9,0.9,{"$f":"Y13*C13+($A$4-80)*AF13*$A$12/1000","v":17.033851149301679},{"$f":"Z13*E13+($A$4-80)*AG13*$A$12/1000","v":15.906560246995062},{"$f":"AA13*G13+($A$4-80)*AH13*$A$12/1000","v":14.740807319481672},{"$f":"AB13*I13+($A$4-80)*AI13*$A$12/1000","v":14.158596891267999},{"$f":"AC13*K13+($A$4-80)*AJ13*$A$12/1000","v":13.575040620278784},{"$f":"AD13*M13+($A$4-80)*AK13*$A$12/1000","v":12.409256160193893},{"$f":"AE13*O13+($A$4-80)*AL13*$A$12/1000","v":11.243448244659191}]
[null,62,20.307692307692307,19.812601836260903,19.538461538461537,19.20898602590664,18.820512820512818,18.655641025641021,18.46153846153846,18.380674910920142,{"$f":"V14*$K$13","v":18.102564102564102},18.102564102564102,17.333333333333332,17.333333333333332,16.615384615384617,16.615384615384617,null,1.1282051282051282,1.0854700854700854,1.0455840455840455,1.0256410256410255,1.0056980056980056,0.96296296296296291,0.92307692307692313,0.97562054496739292,0.98313708006608791,0.99123978201634877,0.99561989100817438,1,1,1,0.53282854001314428,0.50513311478849277,0.47527789918256147,0.45913894959128054,0.44300000000000006,0.44300000000000006,0.44300000000000006,19.812601836260903,{"$f":"Z14*E14+($A$4-80)*AG14*$A$12/1000","v":19.20898602590664},{"$f":"AA14*G14+($A$4-80)*AH14*$A$12/1000","v":18.655641025641021},18.380674910920142,18.102564102564102,17.333333333333332,16.615384615384617]
[null,57,20.769230769230766,20.769230769230766,19.846153846153847,19.846153846153847,18.974358974358978,18.974358974358978,18.512820512820511,18.512820512820511,18.051282051282051,18.051282051282051,17.128205128205128,17.128205128205128,16.256410256410255,16.256410256410255,null,1.1538461538461537,1.1025641025641026,1.0541310541310542,1.0284900284900285,1.0028490028490029,0.95156695156695159,0.90313390313390318,1,1,1,1,1,1,1,0.44300000000000006,0.44300000000000006,0.44300000000000006,0.44300000000000006,0.44300000000000006,0.44300000000000006,0.44300000000000006,20.769230769230766,{"$f":"Z15*E15+($A$4-80)*AG15*$A$12/1000","v":19.846153846153847},{"$f":"AA15*G15+($A$4-80)*AH15*$A$12/1000","v":18.974358974358978},18.512820512820511,18.051282051282051,17.128205128205128,16.256410256410255]
[1450,72,24.974358974358974,14.878319707476884,23.282051282051281,13.459006655870919,21.589743589743591,12.039378572886116,20.743589743589745,11.319238663173969,19.897435897435898,10.619354616878985,18.205128205128204,9.1988236986967991,16.46153846153846,7.7534747482482667,null,1.3874643874643875,1.2934472934472934,1.1994301994301995,1.1524216524216524,1.1054131054131053,1.0113960113960114,0.9145299145299145,0.5957438075889101,0.57808508764203292,0.55764342558498636,0.54567405174757078,0.53370467791015519,0.50528749894250025,0.47100547536087606,0.9,0.9,0.9,0.9,0.9,0.9,0.9,{"$f":"Y16*C16+($A$4-80)*AF16*$A$16/1000","v":14.878319707476884},{"$f":"Z16*E16+($A$4-80)*AG16*$A$16/1000","v":13.459006655870919},{"$f":"AA16*G16+($A$4-80)*AH16*$A$16/1000","v":12.039378572886116},{"$f":"AB16*I16+($A$4-80)*AI16*$A$16/1000","v":11.319238663173969},{"$f":"AC16*K16+($A$4-80)*AJ16*$A$16/1000","v":10.619354616878985},{"$f":"AD16*M16+($A$4-80)*AK16*$A$16/1000","v":9.1988236986967991},{"$f":"AE16*O16+($A$4-80)*AL16*$A$16/1000","v":7.7534747482482667}]
[null,67,22.820512820512821,17.691555223431362,21.589743589743591,17.159909149373593,20.410256410256409,16.668521305485413,19.820512820512818,16.430369501437038,19.23076923076923,16.177728808760254,18.051282051282051,15.687649797474908,16.820512820512821,15.152240027297125,null,1.2678062678062678,1.1994301994301995,1.1339031339031338,1.1011396011396011,1.0683760683760684,1.0028490028490029,0.93447293447293445,0.77524792552114952,0.79481764468595018,0.81667378255518996,0.82895784030536168,0.84124189805553329,0.86906014503057016,0.90081914796431073,0.9,0.9,0.9,0.9,0.9,0.9,0.80844176741070095,{"$f":"Y17*C17+($A$4-80)*AF17*$A$16/1000","v":17.691555223431362},{"$f":"Z17*E17+($A$4-80)*AG17*$A$16/1000","v":17.159909149373593},{"$f":"AA17*G17+($A$4-80)*AH17*$A$16/1000","v":16.668521305485413},{"$f":"AB17*I17+($A$4-80)*AI17*$A$16/1000","v":16.430369501437038},{"$f":"AC17*K17+($A$4-80)*AJ17*$A$16/1000","v":16.177728808760254},{"$f":"AD17*M17+($A$4-80)*AK17*$A$16/1000","v":15.687649797474908},{"$f":"AE17*O17+($A$4-80)*AL17*$A$16/1000","v":15.152240027297125}]
[null,62,21.743589743589745,21.743589743589745,20.769230769230766,20.769230769230766,19.794871794871796,19.794871794871796,19.307692307692307,19.307692307692307,18.820512820512818,18.820512820512818,17.846153846153847,17.846153846153847,16.923076923076923,16.923076923076923,null,1.207977207977208,1.1538461538461537,1.0997150997150997,1.0726495726495726,1.0455840455840455,0.99145299145299148,0.94017094017094016,1,1,1,1,1,1,1,0.44300000000000006,0.44300000000000006,0.44300000000000006,0.44300000000000006,0.44300000000000006,0.44300000000000006,0.44300000000000006,21.743589743589745,{"$f":"Z18*E18+($A$4-80)*AG18*$A$16/1000","v":20.769230769230766},{"$f":"AA18*G18+($A$4-80)*AH18*$A$16/1000","v":19.794871794871796},19.307692307692307,18.820512820512818,17.846153846153847,16.923076923076923]
[null,57,21.69230769230769,21.69230769230769,20.717948717948719,20.717948717948719,19.794871794871796,19.794871794871796,19.307692307692307,19.307692307692307,18.820512820512818,18.820512820512818,17.846153846153847,17.846153846153847,16.871794871794872,16.871794871794872,null,1.2051282051282051,1.1509971509971511,1.0997150997150997,1.0726495726495726,1.0455840455840455,0.99145299145299148,0.93732193732193736,1,1,1,1,1,1,1,0.44300000000000006,0.44300000000000006,0.44300000000000006,0.44300000000000006,0.44300000000000006,0.44300000000000006,0.44300000000000006,21.69230769230769,{"$f":"Z19*E19+($A$4-80)*AG19*$A$16/1000","v":20.717948717948719},{"$f":"AA19*G19+($A$4-80)*AH19*$A$16/1000","v":19.794871794871796},19.307692307692307,18.820512820512818,17.846153846153847,16.871794871794872]

{"sheet":"4SCU16L_48","index":28,"n_rows":19,"n_cols":45,"rows_kept":19,"cut":false,"hidden":true,"merged":[[2,0,2,1],[2,2,2,15],[3,2,3,3],[3,4,3,5],[3,6,3,7],[3,8,3,9],[3,10,3,11],[3,12,3,13],[3,14,3,15],[5,2,6,2],[5,3,6,3],[5,4,6,4],[5,5,6,5],[5,6,6,6],[5,7,6,7],[5,8,6,8],[4,0,6,0],[4,1,6,1],[4,2,4,3],[4,4,4,5],[4,6,4,7],[4,8,4,9],[5,9,6,9],[5,10,6,10],[5,11,6,11],[5,12,6,12],[5,13,6,13],[5,14,6,14],[5,15,6,15],[4,10,4,11],[4,12,4,13],[4,14,4,15],[7,0,10,0],[11,0,14,0],[15,0,18,0],[22,4,22,15],[23,4,23,5],[23,6,23,7],[23,8,23,9],[23,10,23,11],[23,12,23,13],[23,14,23,15],[25,12,26,12],[25,13,26,13],[25,14,26,14],[25,15,26,15],[27,0,30,0],[31,0,34,0],[24,12,24,13],[24,14,24,15],[25,4,26,4],[25,5,26,5],[25,6,26,6],[25,7,26,7],[25,8,26,8],[25,9,26,9],[25,10,26,10],[25,11,26,11],[24,0,26,0],[24,1,26,1],[24,4,24,5],[24,6,24,7],[24,8,24,9],[24,10,24,11],[35,0,38,0],[41,0,42,1],[41,4,41,15],[42,4,42,5],[42,6,42,7],[42,8,42,9],[42,10,42,11],[42,12,42,13],[42,14,42,15],[44,12,45,12],[44,13,45,13],[44,14,45,14],[44,15,45,15],[46,0,49,0],[50,0,53,0],[43,12,43,13],[43,14,43,15],[44,4,45,4],[44,5,45,5],[44,6,45,6],[44,7,45,7],[44,8,45,8],[44,9,45,9],[44,10,45,10],[44,11,45,11],[43,0,45,0],[43,1,45,1],[43,4,43,5],[43,6,43,7],[43,8,43,9],[43,10,43,11],[54,0,57,0],[60,0,61,1],[60,4,60,15],[61,4,61,5],[61,6,61,7],[61,8,61,9],[61,10,61,11],[61,12,61,13],[61,14,61,15],[63,12,64,12],[63,13,64,13],[63,14,64,14],[63,15,64,15],[65,0,68,0],[69,0,72,0],[62,12,62,13],[62,14,62,15],[63,4,64,4],[63,5,64,5],[63,6,64,6],[63,7,64,7],[63,8,64,8],[63,9,64,9],[63,10,64,10],[63,11,64,11],[62,0,64,0],[62,1,64,1],[62,4,62,5],[62,6,62,7],[62,8,62,9],[62,10,62,11],[73,0,76,0],[79,0,80,1],[79,4,79,15],[80,4,80,5],[80,6,80,7],[80,8,80,9],[80,10,80,11],[80,12,80,13],[80,14,80,15],[82,12,83,12],[82,13,83,13],[82,14,83,14],[82,15,83,15],[84,0,87,0],[88,0,91,0],[81,12,81,13],[81,14,81,15],[82,4,83,4],[82,5,83,5],[82,6,83,6],[82,7,83,7],[82,8,83,8],[82,9,83,9],[82,10,83,10],[82,11,83,11],[81,0,83,0],[81,1,83,1],[81,4,81,5],[81,6,81,7],[81,8,81,9],[81,10,81,11],[92,0,95,0],[98,0,99,1],[98,4,98,15],[99,4,99,5],[99,6,99,7],[99,8,99,9],[99,10,99,11],[99,12,99,13],[99,14,99,15],[101,12,102,12],[101,13,102,13],[101,14,102,14],[101,15,102,15],[103,0,106,0],[107,0,110,0],[100,12,100,13],[100,14,100,15],[101,4,102,4],[101,5,102,5],[101,6,102,6],[101,7,102,7],[101,8,102,8],[101,9,102,9],[101,10,102,10],[101,11,102,11],[100,0,102,0],[100,1,102,1],[100,4,100,5],[100,6,100,7],[100,8,100,9],[100,10,100,11],[111,0,114,0],[117,0,118,1],[117,4,117,15],[118,4,118,5],[118,6,118,7],[118,8,118,9],[118,10,118,11],[118,12,118,13],[118,14,118,15],[130,0,133,0],[120,12,121,12],[120,13,121,13],[120,14,121,14],[120,15,121,15],[122,0,125,0],[126,0,129,0],[119,12,119,13],[119,14,119,15],[120,4,121,4],[120,5,121,5],[120,6,121,6],[120,7,121,7],[120,8,121,8],[120,9,121,9],[120,10,121,10],[120,11,121,11],[119,0,121,0],[119,1,121,1],[119,4,119,5],[119,6,119,7],[119,8,119,9],[119,10,119,11]]}
[]
["4SCU16L_48"]
["Evaporator Air \n",null,"Condenser  Entering Air Temperature ˚F"]
[80,"°F DB",65,null,75,null,85,null,90,null,95,null,105,null,115]
["CFM","EWB†\n˚F","Capacity Mbtuh",null,"Capacity Mbtuh",null,"Capacity Mbtuh",null,"Capacity Mbtuh",null,"Capacity Mbtuh",null,"Capacity Mbtuh",null,"Capacity Mbtuh"]
[null,null,"Total","Sens.","Total","Sens.","Total","Sens.","Total","Sens.","Total","Sens.","Total","Sens.","Total","Sens."]
[null,null,null,null,null,null,null,null,null,null,null,null,null,null,null,null,null,"Total Factors",null,null,null,null,null,null,"Sens. %",null,null,null,null,null,null,"IDB Adj",null,null,null,null,null,null,"Sens Calc"]
[1400,72,{"$f":"R8*$K$13","v":22.21757322175732},{"$f":"IF(AM8>C8,C8,AM8)","v":11.535345033474149},{"$f":"S8*$K$13","v":21.1255230125523},{"$f":"IF(AN8>E8,E8,AN8)","v":11.151475942187492},{"$f":"T8*$K$13","v":20.03347280334728},{"$f":"IF(AO8>G8,G8,AO8)","v":10.767741924818443},{"$f":"U8*$K$13","v":19.468619246861927},{"$f":"IF(AP8>I8,I8,AP8)","v":10.568664613320841},{"$f":"V8*$K$13","v":18.903765690376567},{"$f":"IF(AQ8>K8,K8,AQ8)","v":10.363522054173158},{"$f":"W8*$K$13","v":17.811715481171547},{"$f":"IF(AR8>M8,M8,AR8)","v":9.9796803847798312},{"$f":"X8*$K$13","v":16.719665271966527},{"$f":"IF(AS8>O8,O8,AS8)","v":9.5960040271860514},null,1.2343096234309623,1.1736401673640167,1.112970711297071,1.0815899581589958,1.0502092050209204,0.9895397489539749,0.92887029288702927,0.51919914557444857,0.52786744903600924,0.53748753551203177,0.54285640287635517,0.54822527024067846,0.56028743527422598,0.57393517580016673,{"$f":"IF(Y8<0.9,0.9,Y8*-3.6846+4.1276)","v":0.9},{"$f":"IF(Z8<0.9,0.9,Z8*-3.6846+4.1276)","v":0.9},0.9,0.9,0.9,0.9,0.9,{"$f":"Y8*C8+($A$4-80)*AF8*$A$8/1000","v":11.535345033474149},{"$f":"Z8*E8+($A$4-80)*AG8*$A$8/1000","v":11.151475942187492},{"$f":"AA8*G8+($A$4-80)*AH8*$A$8/1000","v":10.767741924818443},{"$f":"AB8*I8+($A$4-80)*AI8*$A$8/1000","v":10.568664613320841},{"$f":"AC8*K8+($A$4-80)*AJ8*$A$8/1000","v":10.363522054173158},{"$f":"AD8*M8+($A$4-80)*AK8*$A$8/1000","v":9.9796803847798312},{"$f":"AE8*O8+($A$4-80)*AL8*$A$8/1000","v":9.5960040271860514}]
[null,67,20.635983263598327,14.829558569500952,19.619246861924687,{"$f":"IF(AN9>E9,E9,AN9)","v":14.235328979795378},18.602510460251047,{"$f":"IF(AO9>G9,G9,AO9)","v":13.64107520529352},18.094142259414227,{"$f":"IF(AP9>I9,I9,AP9)","v":13.346120766250756},{"$f":"V9*$K$13","v":17.585774058577407},{"$f":"IF(AQ9>K9,K9,AQ9)","v":13.046793058790833},16.569037656903767,{"$f":"IF(AR9>M9,M9,AR9)","v":12.452477327287596},15.552301255230125,{"$f":"IF(AS9>O9,O9,AS9)","v":11.858121437366322},null,1.1464435146443515,1.0899581589958158,1.0334728033472804,1.0052301255230125,0.97698744769874479,0.92050209205020916,0.86401673640167365,0.71862621616194799,0.72557978805099066,0.73329216690624177,0.73759344736592225,0.74189472782560284,0.75155103061154926,0.76246731867919049,{"$f":"IF(Y9<0.9,0.9,Y9*-3.6846+4.1276)","v":0.9},0.9,0.9,0.9,0.9,0.9,0.9,{"$f":"Y9*C9+($A$4-80)*AF9*$A$8/1000","v":14.829558569500952},{"$f":"Z9*E9+($A$4-80)*AG9*$A$8/1000","v":14.235328979795378},{"$f":"AA9*G9+($A$4-80)*AH9*$A$8/1000","v":13.64107520529352},{"$f":"AB9*I9+($A$4-80)*AI9*$A$8/1000","v":13.346120766250756},{"$f":"AC9*K9+($A$4-80)*AJ9*$A$8/1000","v":13.046793058790833},{"$f":"AD9*M9+($A$4-80)*AK9*$A$8/1000","v":12.452477327287596},{"$f":"AE9*O9+($A$4-80)*AL9*$A$8/1000","v":11.858121437366322}]
[null,62,18.790794979079497,16.866327632937512,18.07531380753138,16.792632137016287,17.359832635983263,16.718652226266183,17.02092050209205,16.706589108174349,{"$f":"V10*$K$13","v":16.682008368200837},16.682008368200837,15.96652719665272,15.96652719665272,15.251046025104602,15.251046025104602,null,1.0439330543933054,1.00418410041841,0.96443514644351469,0.94560669456066948,0.92677824267782427,0.88702928870292885,0.84728033472803344,0.89758457008952708,0.92903682424696599,0.96306528852196149,0.98153264426098075,1,1,1,0.9,0.7044709173796293,0.57908963791198076,0.51104481895599019,0.44300000000000006,0.44300000000000006,0.44300000000000006,16.866327632937512,{"$f":"Z10*E10+($A$4-80)*AG10*$A$8/1000","v":16.792632137016287},{"$f":"AA10*G10+($A$4-80)*AH10*$A$8/1000","v":16.718652226266183},16.706589108174349,16.682008368200837,15.96652719665272,15.251046025104602]
[null,57,18.94142259414226,18.94142259414226,18.15062761506276,18.15062761506276,17.397489539748953,17.397489539748953,17.02092050209205,17.02092050209205,{"$f":"V11*$K$13","v":16.644351464435147},16.644351464435147,15.89121338912134,15.89121338912134,15.100418410041842,15.100418410041842,null,1.0523012552301256,1.00836820083682,0.96652719665271969,0.94560669456066948,0.92468619246861927,0.88284518828451886,0.83891213389121344,1,1,1,1,1,1,1,0.44300000000000006,0.44300000000000006,0.44300000000000006,0.44300000000000006,0.44300000000000006,0.44300000000000006,0.44300000000000006,18.94142259414226,{"$f":"Z11*E11+($A$4-80)*AG11*$A$8/1000","v":18.15062761506276},{"$f":"AA11*G11+($A$4-80)*AH11*$A$8/1000","v":17.397489539748953},{"$f":"AB11*I11+($A$4-80)*AI11*$A$8/1000","v":17.02092050209205},16.644351464435147,15.89121338912134,15.100418410041842]
[1600,72,22.74476987447699,12.300077580917453,21.577405857740587,11.867836976587421,20.410041841004183,11.435492325648454,19.826359832635983,11.222619296872296,{"$f":"V12*$K$13","v":19.24267782426778},11.003024789022191,18.07531380753138,10.57041068739888,16.90794979079498,10.137619840067348,null,1.2635983263598327,1.1987447698744771,1.1338912133891212,1.1014644351464435,1.0690376569037656,1.00418410041841,0.93933054393305437,0.54078707539353765,0.55001222365801694,0.56028754937063974,0.56604537553075418,0.57180320169086851,0.58479818386303994,0.599577119964389,0.9,0.9,0.9,0.9,0.9,0.9,0.9,{"$f":"Y12*C12+($A$4-80)*AF12*$A$12/1000","v":12.300077580917453},{"$f":"Z12*E12+($A$4-80)*AG12*$A$12/1000","v":11.867836976587421},{"$f":"AA12*G12+($A$4-80)*AH12*$A$12/1000","v":11.435492325648454},{"$f":"AB12*I12+($A$4-80)*AI12*$A$12/1000","v":11.222619296872296},{"$f":"AC12*K12+($A$4-80)*AJ12*$A$12/1000","v":11.003024789022191},{"$f":"AD12*M12+($A$4-80)*AK12*$A$12/1000","v":10.57041068739888},{"$f":"AE12*O12+($A$4-80)*AL12*$A$12/1000","v":10.137619840067348}]
[null,67,21.16317991631799,15.469114087647208,20.108786610878663,14.987181183557754,19.05439330543933,14.505419829800188,18.527196652719663,14.269342568625085,18,14.023860354137888,16.94560669456067,13.542540680692769,15.85355648535565,13.030557424388222,null,1.1757322175732217,1.1171548117154813,1.0585774058577406,1.0292887029288702,1,0.94142259414225937,0.88075313807531386,0.73094469492836756,0.74530509839165682,0.76126379870932037,0.7701835758584904,0.77910335300766043,0.79917709202112874,0.82193275915249009,0.9,0.9,0.9,0.9,0.9,0.9,0.9,{"$f":"Y13*C13+($A$4-80)*AF13*$A$12/1000","v":15.469114087647208},{"$f":"Z13*E13+($A$4-80)*AG13*$A$12/1000","v":14.987181183557754},{"$f":"AA13*G13+($A$4-80)*AH13*$A$12/1000","v":14.505419829800188},{"$f":"AB13*I13+($A$4-80)*AI13*$A$12/1000","v":14.269342568625085},{"$f":"AC13*K13+($A$4-80)*AJ13*$A$12/1000","v":14.023860354137888},{"$f":"AD13*M13+($A$4-80)*AK13*$A$12/1000","v":13.542540680692769},{"$f":"AE13*O13+($A$4-80)*AL13*$A$12/1000","v":13.030557424388222}]
[null,62,19.80753138075314,19.80753138075314,19.01673640167364,19.01673640167364,18.188284518828453,18.188284518828453,17.774058577405857,17.774058577405857,{"$f":"V14*$K$13","v":17.359832635983263},17.359832635983263,16.531380753138073,16.531380753138073,15.702928870292887,15.702928870292887,null,1.100418410041841,1.0564853556485356,1.0104602510460252,0.9874476987447699,0.96443514644351469,0.91841004184100417,0.87238493723849375,1,1,1,1,1,1,1,0.44300000000000006,0.44300000000000006,0.44300000000000006,0.44300000000000006,0.44300000000000006,0.44300000000000006,0.44300000000000006,19.80753138075314,{"$f":"Z14*E14+($A$4-80)*AG14*$A$12/1000","v":19.01673640167364},{"$f":"AA14*G14+($A$4-80)*AH14*$A$12/1000","v":18.188284518828453},17.774058577405857,17.359832635983263,16.531380753138073,15.702928870292887]
[null,57,19.80753138075314,19.80753138075314,18.97907949790795,18.97907949790795,18.15062761506276,18.15062761506276,17.736401673640167,17.736401673640167,17.322175732217573,17.322175732217573,16.531380753138073,16.531380753138073,15.702928870292887,15.702928870292887,null,1.100418410041841,1.0543933054393306,1.00836820083682,0.9853556485355649,0.96234309623430958,0.91841004184100417,0.87238493723849375,1,1,1,1,1,1,1,0.44300000000000006,0.44300000000000006,0.44300000000000006,0.44300000000000006,0.44300000000000006,0.44300000000000006,0.44300000000000006,19.80753138075314,{"$f":"Z15*E15+($A$4-80)*AG15*$A$12/1000","v":18.97907949790795},{"$f":"AA15*G15+($A$4-80)*AH15*$A$12/1000","v":18.15062761506276},17.736401673640167,17.322175732217573,16.531380753138073,15.702928870292887]
[1800,72,23.083682008368203,13.266916517942692,21.916317991631797,12.568910826764263,20.748953974895397,11.870866448120157,20.146443514644353,11.510613441440382,19.543933054393307,11.151290256129874,18.376569037656903,10.453211237239445,17.171548117154813,9.7337295628816989,null,1.2824267782426779,1.2175732217573221,1.1527196652719665,1.1192468619246863,1.0857740585774058,1.0209205020920502,0.95397489539748959,0.57473138440969784,0.57349554936935077,0.57211879030060853,0.57134716770597116,0.57057554511133368,0.56883367160751996,0.56685218458302289,0.9,0.9,0.9,0.9,0.9,0.9,0.9,{"$f":"Y16*C16+($A$4-80)*AF16*$A$16/1000","v":13.266916517942692},{"$f":"Z16*E16+($A$4-80)*AG16*$A$16/1000","v":12.568910826764263},{"$f":"AA16*G16+($A$4-80)*AH16*$A$16/1000","v":11.870866448120157},{"$f":"AB16*I16+($A$4-80)*AI16*$A$16/1000","v":11.510613441440382},{"$f":"AC16*K16+($A$4-80)*AJ16*$A$16/1000","v":11.151290256129874},{"$f":"AD16*M16+($A$4-80)*AK16*$A$16/1000","v":10.453211237239445},{"$f":"AE16*O16+($A$4-80)*AL16*$A$16/1000","v":9.7337295628816989}]
[null,67,21.502092050209203,16.257376161996618,20.410041841004183,15.805328102153634,19.355648535564853,15.382256604586273,18.828451882845187,15.177001558220265,18.301255230125523,14.959778364143371,17.209205020920503,14.506261420778987,16.15481171548117,14.084242086338232,null,1.1945606694560669,1.1338912133891212,1.0753138075313808,1.0460251046025104,1.0167364016736402,0.95606694560669458,0.89748953974895396,0.75608346034582441,0.77438979426295995,0.79471667282665781,0.80606741609214305,0.81741815935762818,0.84293617300417645,0.87182954121596423,0.9,0.9,0.9,0.9,0.9,0.9,0.9,{"$f":"Y17*C17+($A$4-80)*AF17*$A$16/1000","v":16.257376161996618},{"$f":"Z17*E17+($A$4-80)*AG17*$A$16/1000","v":15.805328102153634},{"$f":"AA17*G17+($A$4-80)*AH17*$A$16/1000","v":15.382256604586273},{"$f":"AB17*I17+($A$4-80)*AI17*$A$16/1000","v":15.177001558220265},{"$f":"AC17*K17+($A$4-80)*AJ17*$A$16/1000","v":14.959778364143371},{"$f":"AD17*M17+($A$4-80)*AK17*$A$16/1000","v":14.506261420778987},{"$f":"AE17*O17+($A$4-80)*AL17*$A$16/1000","v":14.084242086338232}]
[null,62,20.560669456066947,20.560669456066947,19.69456066945607,19.69456066945607,18.828451882845187,18.828451882845187,18.376569037656903,18.376569037656903,17.92468619246862,17.92468619246862,17.05857740585774,17.05857740585774,16.19246861924686,16.19246861924686,null,1.1422594142259415,1.094142259414226,1.0460251046025104,1.0209205020920502,0.99581589958159,0.94769874476987448,0.89958158995815896,1,1,1,1,1,1,1,0.44300000000000006,0.44300000000000006,0.44300000000000006,0.44300000000000006,0.44300000000000006,0.44300000000000006,0.44300000000000006,20.560669456066947,{"$f":"Z18*E18+($A$4-80)*AG18*$A$16/1000","v":19.69456066945607},{"$f":"AA18*G18+($A$4-80)*AH18*$A$16/1000","v":18.828451882845187},18.376569037656903,17.92468619246862,17.05857740585774,16.19246861924686]
[null,57,20.523012552301257,20.523012552301257,19.656903765690373,19.656903765690373,18.790794979079497,18.790794979079497,18.35774058577406,18.35774058577406,17.92468619246862,17.92468619246862,17.02092050209205,17.02092050209205,16.15481171548117,16.15481171548117,null,1.1401673640167365,1.0920502092050208,1.0439330543933054,1.0198744769874477,0.99581589958159,0.94560669456066948,0.89748953974895396,1,1,1,1,1,1,1,0.44300000000000006,0.44300000000000006,0.44300000000000006,0.44300000000000006,0.44300000000000006,0.44300000000000006,0.44300000000000006,20.523012552301257,{"$f":"Z19*E19+($A$4-80)*AG19*$A$16/1000","v":19.656903765690373},{"$f":"AA19*G19+($A$4-80)*AH19*$A$16/1000","v":18.790794979079497},18.35774058577406,17.92468619246862,17.02092050209205,16.15481171548117]

{"sheet":"4SCU16L_60","index":29,"n_rows":19,"n_cols":45,"rows_kept":19,"cut":false,"hidden":true,"merged":[[2,0,2,1],[2,2,2,15],[3,2,3,3],[3,4,3,5],[3,6,3,7],[3,8,3,9],[3,10,3,11],[3,12,3,13],[3,14,3,15],[5,2,6,2],[5,3,6,3],[5,4,6,4],[5,5,6,5],[5,6,6,6],[5,7,6,7],[5,8,6,8],[4,0,6,0],[4,1,6,1],[4,2,4,3],[4,4,4,5],[4,6,4,7],[4,8,4,9],[5,9,6,9],[5,10,6,10],[5,11,6,11],[5,12,6,12],[5,13,6,13],[5,14,6,14],[5,15,6,15],[4,10,4,11],[4,12,4,13],[4,14,4,15],[7,0,10,0],[11,0,14,0],[15,0,18,0],[22,4,22,15],[23,4,23,5],[23,6,23,7],[23,8,23,9],[23,10,23,11],[23,12,23,13],[23,14,23,15],[25,12,26,12],[25,13,26,13],[25,14,26,14],[25,15,26,15],[27,0,30,0],[31,0,34,0],[24,12,24,13],[24,14,24,15],[25,4,26,4],[25,5,26,5],[25,6,26,6],[25,7,26,7],[25,8,26,8],[25,9,26,9],[25,10,26,10],[25,11,26,11],[24,0,26,0],[24,1,26,1],[24,4,24,5],[24,6,24,7],[24,8,24,9],[24,10,24,11],[35,0,38,0],[41,0,42,1],[41,4,41,15],[42,4,42,5],[42,6,42,7],[42,8,42,9],[42,10,42,11],[42,12,42,13],[42,14,42,15],[44,12,45,12],[44,13,45,13],[44,14,45,14],[44,15,45,15],[46,0,49,0],[50,0,53,0],[43,12,43,13],[43,14,43,15],[44,4,45,4],[44,5,45,5],[44,6,45,6],[44,7,45,7],[44,8,45,8],[44,9,45,9],[44,10,45,10],[44,11,45,11],[43,0,45,0],[43,1,45,1],[43,4,43,5],[43,6,43,7],[43,8,43,9],[43,10,43,11],[54,0,57,0],[60,0,61,1],[60,4,60,15],[61,4,61,5],[61,6,61,7],[61,8,61,9],[61,10,61,11],[61,12,61,13],[61,14,61,15],[63,12,64,12],[63,13,64,13],[63,14,64,14],[63,15,64,15],[65,0,68,0],[69,0,72,0],[62,12,62,13],[62,14,62,15],[63,4,64,4],[63,5,64,5],[63,6,64,6],[63,7,64,7],[63,8,64,8],[63,9,64,9],[63,10,64,10],[63,11,64,11],[62,0,64,0],[62,1,64,1],[62,4,62,5],[62,6,62,7],[62,8,62,9],[62,10,62,11],[73,0,76,0],[79,0,80,1],[79,4,79,15],[80,4,80,5],[80,6,80,7],[80,8,80,9],[80,10,80,11],[80,12,80,13],[80,14,80,15],[82,12,83,12],[82,13,83,13],[82,14,83,14],[82,15,83,15],[84,0,87,0],[88,0,91,0],[81,12,81,13],[81,14,81,15],[82,4,83,4],[82,5,83,5],[82,6,83,6],[82,7,83,7],[82,8,83,8],[82,9,83,9],[82,10,83,10],[82,11,83,11],[81,0,83,0],[81,1,83,1],[81,4,81,5],[81,6,81,7],[81,8,81,9],[81,10,81,11],[92,0,95,0],[98,0,99,1],[98,4,98,15],[99,4,99,5],[99,6,99,7],[99,8,99,9],[99,10,99,11],[99,12,99,13],[99,14,99,15],[101,12,102,12],[101,13,102,13],[101,14,102,14],[101,15,102,15],[103,0,106,0],[107,0,110,0],[100,12,100,13],[100,14,100,15],[101,4,102,4],[101,5,102,5],[101,6,102,6],[101,7,102,7],[101,8,102,8],[101,9,102,9],[101,10,102,10],[101,11,102,11],[100,0,102,0],[100,1,102,1],[100,4,100,5],[100,6,100,7],[100,8,100,9],[100,10,100,11],[111,0,114,0],[117,0,118,1],[117,4,117,15],[118,4,118,5],[118,6,118,7],[118,8,118,9],[118,10,118,11],[118,12,118,13],[118,14,118,15],[130,0,133,0],[120,12,121,12],[120,13,121,13],[120,14,121,14],[120,15,121,15],[122,0,125,0],[126,0,129,0],[119,12,119,13],[119,14,119,15],[120,4,121,4],[120,5,121,5],[120,6,121,6],[120,7,121,7],[120,8,121,8],[120,9,121,9],[120,10,121,10],[120,11,121,11],[119,0,121,0],[119,1,121,1],[119,4,119,5],[119,6,119,7],[119,8,119,9],[119,10,119,11]]}
[]
["4SCU16L_60"]
["Evaporator Air \n",null,"Condenser  Entering Air Temperature ˚F"]
[80,"°F DB",65,null,75,null,85,null,90,null,95,null,105,null,115]
["CFM","EWB†\n˚F","Capacity Mbtuh",null,"Capacity Mbtuh",null,"Capacity Mbtuh",null,"Capacity Mbtuh",null,"Capacity Mbtuh",null,"Capacity Mbtuh",null,"Capacity Mbtuh"]
[null,null,"Total","Sens.","Total","Sens.","Total","Sens.","Total","Sens.","Total","Sens.","Total","Sens.","Total","Sens."]
[null,null,null,null,null,null,null,null,null,null,null,null,null,null,null,null,null,"Total Factors",null,null,null,null,null,null,"Sens. %",null,null,null,null,null,null,"IDB Adj",null,null,null,null,null,null,"Sens Calc"]
[1600,72,{"$f":"R8*$K$13","v":22.142384105960264},{"$f":"IF(AM8>C8,C8,AM8)","v":10.935023824858218},{"$f":"S8*$K$13","v":21.099337748344372},{"$f":"IF(AN8>E8,E8,AN8)","v":10.586048070945667},{"$f":"T8*$K$13","v":20.026490066225165},{"$f":"IF(AO8>G8,G8,AO8)","v":10.222142992079055},{"$f":"U8*$K$13","v":19.490066225165563},{"$f":"IF(AP8>I8,I8,AP8)","v":10.04266289578915},{"$f":"V8*$K$13","v":18.953642384105962},{"$f":"IF(AQ8>K8,K8,AQ8)","v":9.8579904707680335},{"$f":"W8*$K$13","v":17.910596026490065},{"$f":"IF(AR8>M8,M8,AR8)","v":9.5093691698397294},{"$f":"X8*$K$13","v":16.837748344370858},{"$f":"IF(AS8>O8,O8,AS8)","v":9.1449421346810293},null,1.2301324503311257,1.1721854304635762,1.1125827814569536,1.0827814569536425,1.0529801324503312,0.99503311258278149,0.93543046357615889,0.49385033574206399,0.50172418666440544,0.51043108194574649,0.51527084514582455,0.5201106083459025,0.53093538348892555,0.54312144044713295,{"$f":"IF(Y8<0.9,0.9,Y8*-3.6846+4.1276)","v":0.9},{"$f":"IF(Z8<0.9,0.9,Z8*-3.6846+4.1276)","v":0.9},0.9,0.9,0.9,0.9,0.9,{"$f":"Y8*C8+($A$4-80)*AF8*$A$8/1000","v":10.935023824858218},{"$f":"Z8*E8+($A$4-80)*AG8*$A$8/1000","v":10.586048070945667},{"$f":"AA8*G8+($A$4-80)*AH8*$A$8/1000","v":10.222142992079055},{"$f":"AB8*I8+($A$4-80)*AI8*$A$8/1000","v":10.04266289578915},{"$f":"AC8*K8+($A$4-80)*AJ8*$A$8/1000","v":9.8579904707680335},{"$f":"AD8*M8+($A$4-80)*AK8*$A$8/1000","v":9.5093691698397294},{"$f":"AE8*O8+($A$4-80)*AL8*$A$8/1000","v":9.1449421346810293}]
[null,67,20.592715231788077,14.073247983330832,19.609271523178805,{"$f":"IF(AN9>E9,E9,AN9)","v":13.493690149347678},18.596026490066222,{"$f":"IF(AO9>G9,G9,AO9)","v":12.893588532539509},18.10430463576159,{"$f":"IF(AP9>I9,I9,AP9)","v":12.605281524797743},{"$f":"V9*$K$13","v":17.612582781456954},{"$f":"IF(AQ9>K9,K9,AQ9)","v":12.314115645439033},16.629139072847682,{"$f":"IF(AR9>M9,M9,AR9)","v":11.734786205307515},15.6158940397351,{"$f":"IF(AS9>O9,O9,AS9)","v":11.13437880855342},null,1.1440397350993377,1.0894039735099337,1.0331125827814569,1.005794701986755,0.97847682119205293,0.92384105960264906,0.86754966887417218,0.68340905144973663,0.68812806908189794,0.6933518049905506,0.69625880575929,0.69916580652802929,0.70567611190817792,0.71301577612025713,{"$f":"IF(Y9<0.9,0.9,Y9*-3.6846+4.1276)","v":0.9},0.9,0.9,0.9,0.9,0.9,0.9,{"$f":"Y9*C9+($A$4-80)*AF9*$A$8/1000","v":14.073247983330832},{"$f":"Z9*E9+($A$4-80)*AG9*$A$8/1000","v":13.493690149347678},{"$f":"AA9*G9+($A$4-80)*AH9*$A$8/1000","v":12.893588532539509},{"$f":"AB9*I9+($A$4-80)*AI9*$A$8/1000","v":12.605281524797743},{"$f":"AC9*K9+($A$4-80)*AJ9*$A$8/1000","v":12.314115645439033},{"$f":"AD9*M9+($A$4-80)*AK9*$A$8/1000","v":11.734786205307515},{"$f":"AE9*O9+($A$4-80)*AL9*$A$8/1000","v":11.13437880855342}]
[null,62,18.983443708609272,16.280395537672902,18.059602649006621,15.797349944940686,17.135761589403973,15.314186182384114,16.688741721854303,15.090886137769816,{"$f":"V10*$K$13","v":16.241721854304636},14.858146782557768,15.317880794701987,14.375386493965008,14.394039735099339,13.892521872138445,null,1.054635761589404,1.0033112582781456,0.95198675496688745,0.92715231788079466,0.90231788079470199,0.85099337748344372,0.79966887417218546,0.85761023066059938,0.87473408202641867,0.89369743518454159,0.90425547889017555,0.9148135225958095,0.93847097301717086,0.96515794924909371,0.9,0.9,0.9,0.7957802624812591,0.75687809464348055,0.66970985282093221,0.57137902019678943,16.280395537672902,{"$f":"Z10*E10+($A$4-80)*AG10*$A$8/1000","v":15.797349944940686},{"$f":"AA10*G10+($A$4-80)*AH10*$A$8/1000","v":15.314186182384114},15.090886137769816,14.858146782557768,14.375386493965008,13.892521872138445]
[null,57,18.566225165562912,18.566225165562912,17.82119205298013,17.82119205298013,17.076158940397352,17.076158940397352,16.703642384105962,16.703642384105962,{"$f":"V11*$K$13","v":16.331125827814567},16.331125827814567,15.586092715231789,15.586092715231789,14.870860927152316,14.870860927152316,null,1.0314569536423841,0.99006622516556286,0.94867549668874174,0.92798013245033117,0.9072847682119205,0.86589403973509937,0.82615894039735094,1,1,1,1,1,1,1,0.44300000000000006,0.44300000000000006,0.44300000000000006,0.44300000000000006,0.44300000000000006,0.44300000000000006,0.44300000000000006,18.566225165562912,{"$f":"Z11*E11+($A$4-80)*AG11*$A$8/1000","v":17.82119205298013},{"$f":"AA11*G11+($A$4-80)*AH11*$A$8/1000","v":17.076158940397352},{"$f":"AB11*I11+($A$4-80)*AI11*$A$8/1000","v":16.703642384105962},16.331125827814567,15.586092715231789,14.870860927152316]
[1800,72,22.678807947019866,11.617413411469178,21.576158940397349,11.228019938177157,20.443708609271521,10.82306977768158,19.892384105960264,10.631235291004263,{"$f":"V12*$K$13","v":19.341059602649008},10.433855443778402,18.23841059602649,10.044910386963062,17.105960264900663,9.6394937185399332,null,1.259933774834437,1.1986754966887416,1.1357615894039734,1.1051324503311257,1.0745033112582782,1.0132450331125828,0.95033112582781454,0.51225855603207648,0.52039011990937722,0.52940833703593093,0.5344374628186912,0.53946658860145136,0.5507557982684903,0.56351666724720473,0.9,0.9,0.9,0.9,0.9,0.9,0.9,{"$f":"Y12*C12+($A$4-80)*AF12*$A$12/1000","v":11.617413411469178},{"$f":"Z12*E12+($A$4-80)*AG12*$A$12/1000","v":11.228019938177157},{"$f":"AA12*G12+($A$4-80)*AH12*$A$12/1000","v":10.82306977768158},{"$f":"AB12*I12+($A$4-80)*AI12*$A$12/1000","v":10.631235291004263},{"$f":"AC12*K12+($A$4-80)*AJ12*$A$12/1000","v":10.433855443778402},{"$f":"AD12*M12+($A$4-80)*AK12*$A$12/1000","v":10.044910386963062},{"$f":"AE12*O12+($A$4-80)*AL12*$A$12/1000","v":9.6394937185399332}]
[null,67,21.099337748344372,14.471724623609212,20.056291390728479,13.991098179794392,19.013245033112582,13.51025357912355,18.506622516556291,13.284172817653483,18,13.050760412179848,16.956953642384107,12.569841320468678,15.913907284768211,12.088623530369967,null,1.1721854304635762,1.1142384105960266,1.0562913907284768,1.0281456953642385,1,0.94205298013245031,0.88410596026490063,0.68588525366132802,0.6975914892352495,0.71057063408138488,0.7178064396012438,0.72504224512110271,0.74127945299385678,0.75962636416390561,0.9,0.9,0.9,0.9,0.9,0.9,0.9,{"$f":"Y13*C13+($A$4-80)*AF13*$A$12/1000","v":14.471724623609212},{"$f":"Z13*E13+($A$4-80)*AG13*$A$12/1000","v":13.991098179794392},{"$f":"AA13*G13+($A$4-80)*AH13*$A$12/1000","v":13.51025357912355},{"$f":"AB13*I13+($A$4-80)*AI13*$A$12/1000","v":13.284172817653483},{"$f":"AC13*K13+($A$4-80)*AJ13*$A$12/1000","v":13.050760412179848},{"$f":"AD13*M13+($A$4-80)*AK13*$A$12/1000","v":12.569841320468678},{"$f":"AE13*O13+($A$4-80)*AL13*$A$12/1000","v":12.088623530369967}]
[null,62,19.460264900662249,17.294405133851964,18.536423841059602,16.860051629929249,17.582781456953644,16.398811973050073,17.105960264900663,16.17408930977577,{"$f":"V14*$K$13","v":16.629139072847682},15.937102346473173,15.705298013245033,15.504257790258173,14.751655629139073,14.751655629139073,null,1.0811258278145695,1.0298013245033113,0.97682119205298013,0.95033112582781454,0.92384105960264906,0.87251655629139069,0.81953642384105962,0.88870347973852204,0.90956334266499339,0.93266312916405314,0.9455236104437249,0.95838409172339667,0.98719920992156196,1,0.9,0.77622290761656521,0.69110943428212979,0.64372370495905118,0.59633797563597257,0.49016579112301306,0.44300000000000006,17.294405133851964,{"$f":"Z14*E14+($A$4-80)*AG14*$A$12/1000","v":16.860051629929249},{"$f":"AA14*G14+($A$4-80)*AH14*$A$12/1000","v":16.398811973050073},16.17408930977577,15.937102346473173,15.504257790258173,14.751655629139073]
[null,57,19.341059602649008,19.341059602649008,18.566225165562912,18.566225165562912,17.76158940397351,17.76158940397351,17.374172185430464,17.374172185430464,16.986754966887418,16.986754966887418,16.211920529801326,16.211920529801326,15.40728476821192,15.40728476821192,null,1.0745033112582782,1.0314569536423841,0.98675496688741726,0.96523178807947019,0.94370860927152322,0.90066225165562919,0.85596026490066224,1,1,1,1,1,1,1,0.44300000000000006,0.44300000000000006,0.44300000000000006,0.44300000000000006,0.44300000000000006,0.44300000000000006,0.44300000000000006,19.341059602649008,{"$f":"Z15*E15+($A$4-80)*AG15*$A$12/1000","v":18.566225165562912},{"$f":"AA15*G15+($A$4-80)*AH15*$A$12/1000","v":17.76158940397351},17.374172185430464,16.986754966887418,16.211920529801326,15.40728476821192]
[2000,72,23.066225165562912,12.133114880231206,21.903973509933778,11.723622620574877,20.771523178807946,11.330152104444396,20.190397350993379,11.128645698776193,19.609271523178805,10.920491864645147,18.476821192052977,10.527527558720106,17.314569536423839,10.117677156507614,null,1.2814569536423841,1.2168874172185431,1.1539735099337749,1.1216887417218544,1.0894039735099337,1.0264900662251655,0.96192052980132448,0.52601215817252722,0.53522812266267761,0.54546563614573695,0.55118507601974742,0.556904515893758,0.56976941267624959,0.58434471242403896,0.9,0.9,0.9,0.9,0.9,0.9,0.9,{"$f":"Y16*C16+($A$4-80)*AF16*$A$16/1000","v":12.133114880231206},{"$f":"Z16*E16+($A$4-80)*AG16*$A$16/1000","v":11.723622620574877},{"$f":"AA16*G16+($A$4-80)*AH16*$A$16/1000","v":11.330152104444396},{"$f":"AB16*I16+($A$4-80)*AI16*$A$16/1000","v":11.128645698776193},{"$f":"AC16*K16+($A$4-80)*AJ16*$A$16/1000","v":10.920491864645147},{"$f":"AD16*M16+($A$4-80)*AK16*$A$16/1000","v":10.527527558720106},{"$f":"AE16*O16+($A$4-80)*AL16*$A$16/1000","v":10.117677156507614}]
[null,67,21.486754966887418,15.164051751977372,20.413907284768211,14.700682196898979,19.370860927152318,14.258601008914447,18.849337748344372,14.04234876952855,18.327814569536422,13.816820386215786,17.254966887417218,13.352334236497287,16.211920529801326,12.910661993629182,null,1.1937086092715232,1.1341059602649006,1.076158940397351,1.0471854304635762,1.0182119205298013,0.95860927152317876,0.90066225165562919,0.7057395020954178,0.72013074184322656,0.7360850435371219,0.7449783624765256,0.7538716814159292,0.77382554968761863,0.79636844813644048,0.9,0.9,0.9,0.9,0.9,0.9,0.9,{"$f":"Y17*C17+($A$4-80)*AF17*$A$16/1000","v":15.164051751977372},{"$f":"Z17*E17+($A$4-80)*AG17*$A$16/1000","v":14.700682196898979},{"$f":"AA17*G17+($A$4-80)*AH17*$A$16/1000","v":14.258601008914447},{"$f":"AB17*I17+($A$4-80)*AI17*$A$16/1000","v":14.04234876952855},{"$f":"AC17*K17+($A$4-80)*AJ17*$A$16/1000","v":13.816820386215786},{"$f":"AD17*M17+($A$4-80)*AK17*$A$16/1000","v":13.352334236497287},{"$f":"AE17*O17+($A$4-80)*AL17*$A$16/1000","v":12.910661993629182}]
[null,62,19.579470198675494,18.090537670249795,18.923841059602651,17.93047062072317,18.23841059602649,17.74213440912801,17.910596026490065,17.666917931452495,17.582781456953644,17.582781456953644,16.897350993377483,16.897350993377483,16.241721854304636,16.241721854304636,null,1.0877483443708609,1.0513245033112584,1.0132450331125828,0.99503311258278149,0.97682119205298013,0.9387417218543046,0.90231788079470199,0.92395440155850483,0.94750693393847707,0.97278950463991631,0.9863947523199581,1,1,1,0.72319761201753296,0.63641595121028738,0.54325979120376422,0.49312989560188258,0.44300000000000006,0.44300000000000006,0.44300000000000006,18.090537670249795,{"$f":"Z18*E18+($A$4-80)*AG18*$A$16/1000","v":17.93047062072317},{"$f":"AA18*G18+($A$4-80)*AH18*$A$16/1000","v":17.74213440912801},17.666917931452495,17.582781456953644,16.897350993377483,16.241721854304636]
[null,57,20.026490066225165,20.026490066225165,19.192052980132448,19.192052980132448,18.357615894039736,18.357615894039736,17.955298013245031,17.955298013245031,17.552980132450333,17.552980132450333,16.718543046357617,16.718543046357617,15.8841059602649,15.8841059602649,null,1.1125827814569536,1.0662251655629138,1.0198675496688743,0.99751655629139069,0.97516556291390732,0.92880794701986757,0.88245033112582782,1,1,1,1,1,1,1,0.44300000000000006,0.44300000000000006,0.44300000000000006,0.44300000000000006,0.44300000000000006,0.44300000000000006,0.44300000000000006,20.026490066225165,{"$f":"Z19*E19+($A$4-80)*AG19*$A$16/1000","v":19.192052980132448},{"$f":"AA19*G19+($A$4-80)*AH19*$A$16/1000","v":18.357615894039736},17.955298013245031,17.552980132450333,16.718543046357617,15.8841059602649]

{"sheet":"4SCU18L_24","index":30,"n_rows":19,"n_cols":45,"rows_kept":19,"cut":false,"hidden":true,"merged":[[2,0,2,1],[2,2,2,15],[3,2,3,3],[3,4,3,5],[3,6,3,7],[3,8,3,9],[3,10,3,11],[3,12,3,13],[3,14,3,15],[5,2,6,2],[5,3,6,3],[5,4,6,4],[5,5,6,5],[5,6,6,6],[5,7,6,7],[5,8,6,8],[4,0,6,0],[4,1,6,1],[4,2,4,3],[4,4,4,5],[4,6,4,7],[4,8,4,9],[5,9,6,9],[5,10,6,10],[5,11,6,11],[5,12,6,12],[5,13,6,13],[5,14,6,14],[5,15,6,15],[4,10,4,11],[4,12,4,13],[4,14,4,15],[7,0,10,0],[11,0,14,0],[15,0,18,0],[22,4,22,15],[23,4,23,5],[23,6,23,7],[23,8,23,9],[23,10,23,11],[23,12,23,13],[23,14,23,15],[25,12,26,12],[25,13,26,13],[25,14,26,14],[25,15,26,15],[27,0,30,0],[31,0,34,0],[24,12,24,13],[24,14,24,15],[25,4,26,4],[25,5,26,5],[25,6,26,6],[25,7,26,7],[25,8,26,8],[25,9,26,9],[25,10,26,10],[25,11,26,11],[24,0,26,0],[24,1,26,1],[24,4,24,5],[24,6,24,7],[24,8,24,9],[24,10,24,11],[35,0,38,0],[41,0,42,1],[41,4,41,15],[42,4,42,5],[42,6,42,7],[42,8,42,9],[42,10,42,11],[42,12,42,13],[42,14,42,15],[44,12,45,12],[44,13,45,13],[44,14,45,14],[44,15,45,15],[46,0,49,0],[50,0,53,0],[43,12,43,13],[43,14,43,15],[44,4,45,4],[44,5,45,5],[44,6,45,6],[44,7,45,7],[44,8,45,8],[44,9,45,9],[44,10,45,10],[44,11,45,11],[43,0,45,0],[43,1,45,1],[43,4,43,5],[43,6,43,7],[43,8,43,9],[43,10,43,11],[54,0,57,0],[60,0,61,1],[60,4,60,15],[61,4,61,5],[61,6,61,7],[61,8,61,9],[61,10,61,11],[61,12,61,13],[61,14,61,15],[63,12,64,12],[63,13,64,13],[63,14,64,14],[63,15,64,15],[65,0,68,0],[69,0,72,0],[62,12,62,13],[62,14,62,15],[63,4,64,4],[63,5,64,5],[63,6,64,6],[63,7,64,7],[63,8,64,8],[63,9,64,9],[63,10,64,10],[63,11,64,11],[62,0,64,0],[62,1,64,1],[62,4,62,5],[62,6,62,7],[62,8,62,9],[62,10,62,11],[73,0,76,0],[79,0,80,1],[79,4,79,15],[80,4,80,5],[80,6,80,7],[80,8,80,9],[80,10,80,11],[80,12,80,13],[80,14,80,15],[82,12,83,12],[82,13,83,13],[82,14,83,14],[82,15,83,15],[84,0,87,0],[88,0,91,0],[81,12,81,13],[81,14,81,15],[82,4,83,4],[82,5,83,5],[82,6,83,6],[82,7,83,7],[82,8,83,8],[82,9,83,9],[82,10,83,10],[82,11,83,11],[81,0,83,0],[81,1,83,1],[81,4,81,5],[81,6,81,7],[81,8,81,9],[81,10,81,11],[92,0,95,0],[98,0,99,1],[98,4,98,15],[99,4,99,5],[99,6,99,7],[99,8,99,9],[99,10,99,11],[99,12,99,13],[99,14,99,15],[101,12,102,12],[101,13,102,13],[101,14,102,14],[101,15,102,15],[103,0,106,0],[107,0,110,0],[100,12,100,13],[100,14,100,15],[101,4,102,4],[101,5,102,5],[101,6,102,6],[101,7,102,7],[101,8,102,8],[101,9,102,9],[101,10,102,10],[101,11,102,11],[100,0,102,0],[100,1,102,1],[100,4,100,5],[100,6,100,7],[100,8,100,9],[100,10,100,11],[111,0,114,0],[117,0,118,1],[117,4,117,15],[118,4,118,5],[118,6,118,7],[118,8,118,9],[118,10,118,11],[118,12,118,13],[118,14,118,15],[130,0,133,0],[120,12,121,12],[120,13,121,13],[120,14,121,14],[120,15,121,15],[122,0,125,0],[126,0,129,0],[119,12,119,13],[119,14,119,15],[120,4,121,4],[120,5,121,5],[120,6,121,6],[120,7,121,7],[120,8,121,8],[120,9,121,9],[120,10,121,10],[120,11,121,11],[119,0,121,0],[119,1,121,1],[119,4,119,5],[119,6,119,7],[119,8,119,9],[119,10,119,11]]}
[]
["4SCU18L_24"]
["Evaporator Air \n",null,"Condenser  Entering Air Temperature ˚F"]
[80,"°F DB",65,null,75,null,85,null,90,null,95,null,105,null,115]
["CFM","EWB†\n˚F","Capacity Mbtuh",null,"Capacity Mbtuh",null,"Capacity Mbtuh",null,"Capacity Mbtuh",null,"Capacity Mbtuh",null,"Capacity Mbtuh",null,"Capacity Mbtuh"]
[null,null,"Total","Sens.","Total","Sens.","Total","Sens.","Total","Sens.","Total","Sens.","Total","Sens.","Total","Sens."]
[null,null,null,null,null,null,null,null,null,null,null,null,null,null,null,null,null,"Total Factors",null,null,null,null,null,null,"Sens. %",null,null,null,null,null,null,"IDB Adj",null,null,null,null,null,null,"Sens Calc"]
[700,72,{"$f":"R8*$K$13","v":21.886363636363633},{"$f":"IF(AM8>C8,C8,AM8)","v":11.000242317646242},{"$f":"S8*$K$13","v":20.795454545454547},{"$f":"IF(AN8>E8,E8,AN8)","v":10.623794427576353},{"$f":"T8*$K$13","v":19.77272727272727},{"$f":"IF(AO8>G8,G8,AO8)","v":10.282582965357124},{"$f":"U8*$K$13","v":19.227272727272727},{"$f":"IF(AP8>I8,I8,AP8)","v":10.097257360611367},{"$f":"V8*$K$13","v":18.68181818181818},{"$f":"IF(AQ8>K8,K8,AQ8)","v":9.9063526434475886},{"$f":"W8*$K$13","v":17.59090909090909},{"$f":"IF(AR8>M8,M8,AR8)","v":9.5299011754255147},{"$f":"X8*$K$13","v":16.5},{"$f":"IF(AS8>O8,O8,AS8)","v":9.1531851607039574},null,1.2159090909090908,1.1553030303030303,1.0984848484848484,1.0681818181818181,1.0378787878787878,0.97727272727272729,0.91666666666666663,0.50260712562454279,0.51087098886705962,0.5200386787077167,0.52515286509089854,0.53026705147408026,0.54175148800868567,0.55473849458811864,{"$f":"IF(Y8<0.9,0.9,Y8*-3.6846+4.1276)","v":0.9},{"$f":"IF(Z8<0.9,0.9,Z8*-3.6846+4.1276)","v":0.9},0.9,0.9,0.9,0.9,0.9,{"$f":"Y8*C8+($A$4-80)*AF8*$A$8/1000","v":11.000242317646242},{"$f":"Z8*E8+($A$4-80)*AG8*$A$8/1000","v":10.623794427576353},{"$f":"AA8*G8+($A$4-80)*AH8*$A$8/1000","v":10.282582965357124},{"$f":"AB8*I8+($A$4-80)*AI8*$A$8/1000","v":10.097257360611367},{"$f":"AC8*K8+($A$4-80)*AJ8*$A$8/1000","v":9.9063526434475886},{"$f":"AD8*M8+($A$4-80)*AK8*$A$8/1000","v":9.5299011754255147},{"$f":"AE8*O8+($A$4-80)*AL8*$A$8/1000","v":9.1531851607039574}]
[null,67,20.386363636363637,14.012978529008681,19.363636363636363,{"$f":"IF(AN9>E9,E9,AN9)","v":13.583894639023297},18.340909090909093,{"$f":"IF(AO9>G9,G9,AO9)","v":13.154435579296123},17.829545454545453,{"$f":"IF(AP9>I9,I9,AP9)","v":12.943968249954606},{"$f":"V9*$K$13","v":17.31818181818182},{"$f":"IF(AQ9>K9,K9,AQ9)","v":12.72453579478373},16.295454545454547,{"$f":"IF(AR9>M9,M9,AR9)","v":12.294113512897468},15.340909090909092,{"$f":"IF(AS9>O9,O9,AS9)","v":11.916025511237093},null,1.1325757575757576,1.0757575757575757,1.018939393939394,0.99053030303030298,0.96212121212121215,0.90530303030303028,0.85227272727272729,0.68737018425460639,0.70151568558336275,0.71721829676459647,0.72598419757552923,0.73475009838646199,0.75445048056832431,0.77674832962138085,{"$f":"IF(Y9<0.9,0.9,Y9*-3.6846+4.1276)","v":0.9},0.9,0.9,0.9,0.9,0.9,0.9,{"$f":"Y9*C9+($A$4-80)*AF9*$A$8/1000","v":14.012978529008681},{"$f":"Z9*E9+($A$4-80)*AG9*$A$8/1000","v":13.583894639023297},{"$f":"AA9*G9+($A$4-80)*AH9*$A$8/1000","v":13.154435579296123},{"$f":"AB9*I9+($A$4-80)*AI9*$A$8/1000","v":12.943968249954606},{"$f":"AC9*K9+($A$4-80)*AJ9*$A$8/1000","v":12.72453579478373},{"$f":"AD9*M9+($A$4-80)*AK9*$A$8/1000","v":12.294113512897468},{"$f":"AE9*O9+($A$4-80)*AL9*$A$8/1000","v":11.916025511237093}]
[null,62,18.75,16.32515772440501,17.863636363636363,15.915719877875535,16.90909090909091,15.444845508881251,16.46590909090909,15.245723150118804,{"$f":"V10*$K$13","v":16.022727272727273},15.035528879233702,15.136363636363637,14.627168464801688,14.25,14.219946795762834,null,1.0416666666666667,0.99242424242424243,0.93939393939393945,0.91477272727272729,0.89015151515151514,0.84090909090909094,0.79166666666666663,0.87067507863493387,0.89095632904137856,0.91340484192308469,0.92589622995890608,0.93838761799472747,0.9663594781550664,0.99789100321142687,0.9,0.9,0.76206851945020215,0.71604275109341486,0.67001698273662713,0.56695186678984255,0.45077080956717674,16.32515772440501,{"$f":"Z10*E10+($A$4-80)*AG10*$A$8/1000","v":15.915719877875535},{"$f":"AA10*G10+($A$4-80)*AH10*$A$8/1000","v":15.444845508881251},15.245723150118804,15.035528879233702,14.627168464801688,14.219946795762834]
[null,57,18.40909090909091,18.40909090909091,17.65909090909091,17.65909090909091,16.90909090909091,16.90909090909091,16.53409090909091,16.53409090909091,{"$f":"V11*$K$13","v":16.15909090909091},16.15909090909091,15.40909090909091,15.40909090909091,14.65909090909091,14.65909090909091,null,1.0227272727272727,0.98106060606060608,0.93939393939393945,0.91856060606060608,0.89772727272727271,0.85606060606060608,0.81439393939393945,1,1,1,1,1,1,1,0.44300000000000006,0.44300000000000006,0.44300000000000006,0.44300000000000006,0.44300000000000006,0.44300000000000006,0.44300000000000006,18.40909090909091,{"$f":"Z11*E11+($A$4-80)*AG11*$A$8/1000","v":17.65909090909091},{"$f":"AA11*G11+($A$4-80)*AH11*$A$8/1000","v":16.90909090909091},{"$f":"AB11*I11+($A$4-80)*AI11*$A$8/1000","v":16.53409090909091},16.15909090909091,15.40909090909091,14.65909090909091]
[900,72,22.90909090909091,12.415075386408651,21.681818181818183,11.970858444698852,20.522727272727273,11.564034216393859,19.943181818181817,11.364577802874583,{"$f":"V12*$K$13","v":19.363636363636363},11.157734224335112,18.136363636363637,10.711790836249,16.977272727272727,10.305755848534719,null,1.2727272727272727,1.2045454545454546,1.1401515151515151,1.1079545454545454,1.0757575757575757,1.0075757575757576,0.94318181818181823,0.54192789385117124,0.55211506453537673,0.56347453546105175,0.5698477758706344,0.57622101628021705,0.59062505864029569,0.60703247300606111,0.9,0.9,0.9,0.9,0.9,0.9,0.9,{"$f":"Y12*C12+($A$4-80)*AF12*$A$12/1000","v":12.415075386408651},{"$f":"Z12*E12+($A$4-80)*AG12*$A$12/1000","v":11.970858444698852},{"$f":"AA12*G12+($A$4-80)*AH12*$A$12/1000","v":11.564034216393859},{"$f":"AB12*I12+($A$4-80)*AI12*$A$12/1000","v":11.364577802874583},{"$f":"AC12*K12+($A$4-80)*AJ12*$A$12/1000","v":11.157734224335112},{"$f":"AD12*M12+($A$4-80)*AK12*$A$12/1000","v":10.711790836249},{"$f":"AE12*O12+($A$4-80)*AL12*$A$12/1000","v":10.305755848534719}]
[null,67,21.272727272727273,15.601840201321171,20.18181818181818,15.113872754288801,19.09090909090909,14.62589085197253,18.545454545454547,14.387160544605841,18,14.13789186733303,16.90909090909091,13.64987249571322,15.818181818181818,13.16182852129776,null,1.1818181818181819,1.1212121212121211,1.0606060606060606,1.0303030303030303,1,0.93939393939393945,0.87878787878787878,0.73341983852364478,0.74888558692421991,0.76611809224618022,0.77577826466011879,0.78543843707405725,0.80725052394002905,0.83206961916250211,0.9,0.9,0.9,0.9,0.9,0.9,0.9,{"$f":"Y13*C13+($A$4-80)*AF13*$A$12/1000","v":15.601840201321171},{"$f":"Z13*E13+($A$4-80)*AG13*$A$12/1000","v":15.113872754288801},{"$f":"AA13*G13+($A$4-80)*AH13*$A$12/1000","v":14.62589085197253},{"$f":"AB13*I13+($A$4-80)*AI13*$A$12/1000","v":14.387160544605841},{"$f":"AC13*K13+($A$4-80)*AJ13*$A$12/1000","v":14.13789186733303},{"$f":"AD13*M13+($A$4-80)*AK13*$A$12/1000","v":13.64987249571322},{"$f":"AE13*O13+($A$4-80)*AL13*$A$12/1000","v":13.16182852129776}]
[null,62,20.045454545454543,20.045454545454543,19.227272727272727,19.227272727272727,18.340909090909093,18.340909090909093,17.897727272727273,17.897727272727273,{"$f":"V14*$K$13","v":17.454545454545453},17.454545454545453,16.636363636363637,16.636363636363637,15.75,15.75,null,1.1136363636363635,1.0681818181818181,1.018939393939394,0.99431818181818177,0.96969696969696972,0.9242424242424242,0.875,1,1,1,1,1,1,1,0.44300000000000006,0.44300000000000006,0.44300000000000006,0.44300000000000006,0.44300000000000006,0.44300000000000006,0.44300000000000006,20.045454545454543,{"$f":"Z14*E14+($A$4-80)*AG14*$A$12/1000","v":19.227272727272727},{"$f":"AA14*G14+($A$4-80)*AH14*$A$12/1000","v":18.340909090909093},17.897727272727273,17.454545454545453,16.636363636363637,15.75]
[null,57,20.045454545454543,20.045454545454543,19.15909090909091,19.15909090909091,18.340909090909093,18.340909090909093,17.897727272727273,17.897727272727273,17.454545454545453,17.454545454545453,16.568181818181817,16.568181818181817,15.75,15.75,null,1.1136363636363635,1.0643939393939394,1.018939393939394,0.99431818181818177,0.96969696969696972,0.92045454545454541,0.875,1,1,1,1,1,1,1,0.44300000000000006,0.44300000000000006,0.44300000000000006,0.44300000000000006,0.44300000000000006,0.44300000000000006,0.44300000000000006,20.045454545454543,{"$f":"Z15*E15+($A$4-80)*AG15*$A$12/1000","v":19.15909090909091},{"$f":"AA15*G15+($A$4-80)*AH15*$A$12/1000","v":18.340909090909093},17.897727272727273,17.454545454545453,16.568181818181817,15.75]
[1100,72,23.454545454545453,13.084431818181818,22.227272727272727,12.599179761314165,21,12.113682059929953,20.420454545454547,11.894091583578188,19.84090909090909,11.667989699431152,18.613636363636367,11.182719455852158,17.386363636363637,10.697149506045152,null,1.303030303030303,1.2348484848484849,1.1666666666666667,1.134469696969697,1.1022727272727273,1.0340909090909092,0.96590909090909094,0.55786337209302328,0.56683426329020781,0.57684200285380727,0.58245968801050663,0.58807737316720587,0.60078102082722207,0.61526088662220479,0.9,0.9,0.9,0.9,0.9,0.9,0.9,{"$f":"Y16*C16+($A$4-80)*AF16*$A$16/1000","v":13.084431818181818},{"$f":"Z16*E16+($A$4-80)*AG16*$A$16/1000","v":12.599179761314165},{"$f":"AA16*G16+($A$4-80)*AH16*$A$16/1000","v":12.113682059929953},{"$f":"AB16*I16+($A$4-80)*AI16*$A$16/1000","v":11.894091583578188},{"$f":"AC16*K16+($A$4-80)*AJ16*$A$16/1000","v":11.667989699431152},{"$f":"AD16*M16+($A$4-80)*AK16*$A$16/1000","v":11.182719455852158},{"$f":"AE16*O16+($A$4-80)*AL16*$A$16/1000","v":10.697149506045152}]
[null,67,21.886363636363633,17.29217630124888,20.795454545454547,16.795278480710465,19.636363636363633,16.243345575707089,19.09090909090909,16.00162371817116,18.545454545454547,15.747931449993306,17.386363636363637,15.19466486449884,16.295454545454547,14.701155798426926,null,1.2159090909090908,1.1553030303030303,1.0909090909090908,1.0606060606060606,1.0303030303030303,0.96590909090909094,0.90530303030303028,0.79008905218582637,0.80764180672268904,0.82720741357767602,0.83818028999944183,0.84915316642120764,0.87394150854633845,0.90216297786720323,0.9,0.9,0.9,0.9,0.9,0.9,0.80349029175050291,{"$f":"Y17*C17+($A$4-80)*AF17*$A$16/1000","v":17.29217630124888},{"$f":"Z17*E17+($A$4-80)*AG17*$A$16/1000","v":16.795278480710465},{"$f":"AA17*G17+($A$4-80)*AH17*$A$16/1000","v":16.243345575707089},{"$f":"AB17*I17+($A$4-80)*AI17*$A$16/1000","v":16.00162371817116},{"$f":"AC17*K17+($A$4-80)*AJ17*$A$16/1000","v":15.747931449993306},{"$f":"AD17*M17+($A$4-80)*AK17*$A$16/1000","v":15.19466486449884},{"$f":"AE17*O17+($A$4-80)*AL17*$A$16/1000","v":14.701155798426926}]
[null,62,21.204545454545453,21.204545454545453,20.31818181818182,20.31818181818182,19.363636363636363,19.363636363636363,18.886363636363637,18.886363636363637,18.40909090909091,18.40909090909091,17.454545454545453,17.454545454545453,16.5,16.5,null,1.178030303030303,1.1287878787878789,1.0757575757575757,1.0492424242424243,1.0227272727272727,0.96969696969696972,0.91666666666666663,1,1,1,1,1,1,1,0.44300000000000006,0.44300000000000006,0.44300000000000006,0.44300000000000006,0.44300000000000006,0.44300000000000006,0.44300000000000006,21.204545454545453,{"$f":"Z18*E18+($A$4-80)*AG18*$A$16/1000","v":20.31818181818182},{"$f":"AA18*G18+($A$4-80)*AH18*$A$16/1000","v":19.363636363636363},18.886363636363637,18.40909090909091,17.454545454545453,16.5]
[null,57,21.204545454545453,21.204545454545453,20.25,20.25,19.295454545454547,19.295454545454547,18.852272727272727,18.852272727272727,18.40909090909091,18.40909090909091,17.454545454545453,17.454545454545453,16.5,16.5,null,1.178030303030303,1.125,1.071969696969697,1.0473484848484849,1.0227272727272727,0.96969696969696972,0.91666666666666663,1,1,1,1,1,1,1,0.44300000000000006,0.44300000000000006,0.44300000000000006,0.44300000000000006,0.44300000000000006,0.44300000000000006,0.44300000000000006,21.204545454545453,{"$f":"Z19*E19+($A$4-80)*AG19*$A$16/1000","v":20.25},{"$f":"AA19*G19+($A$4-80)*AH19*$A$16/1000","v":19.295454545454547},18.852272727272727,18.40909090909091,17.454545454545453,16.5]

{"sheet":"4SCU18L_36","index":31,"n_rows":19,"n_cols":45,"rows_kept":19,"cut":false,"hidden":true,"merged":[[2,0,2,1],[2,2,2,15],[3,2,3,3],[3,4,3,5],[3,6,3,7],[3,8,3,9],[3,10,3,11],[3,12,3,13],[3,14,3,15],[5,2,6,2],[5,3,6,3],[5,4,6,4],[5,5,6,5],[5,6,6,6],[5,7,6,7],[5,8,6,8],[4,0,6,0],[4,1,6,1],[4,2,4,3],[4,4,4,5],[4,6,4,7],[4,8,4,9],[5,9,6,9],[5,10,6,10],[5,11,6,11],[5,12,6,12],[5,13,6,13],[5,14,6,14],[5,15,6,15],[4,10,4,11],[4,12,4,13],[4,14,4,15],[7,0,10,0],[11,0,14,0],[15,0,18,0],[22,4,22,15],[23,4,23,5],[23,6,23,7],[23,8,23,9],[23,10,23,11],[23,12,23,13],[23,14,23,15],[25,12,26,12],[25,13,26,13],[25,14,26,14],[25,15,26,15],[27,0,30,0],[31,0,34,0],[24,12,24,13],[24,14,24,15],[25,4,26,4],[25,5,26,5],[25,6,26,6],[25,7,26,7],[25,8,26,8],[25,9,26,9],[25,10,26,10],[25,11,26,11],[24,0,26,0],[24,1,26,1],[24,4,24,5],[24,6,24,7],[24,8,24,9],[24,10,24,11],[35,0,38,0],[41,0,42,1],[41,4,41,15],[42,4,42,5],[42,6,42,7],[42,8,42,9],[42,10,42,11],[42,12,42,13],[42,14,42,15],[44,12,45,12],[44,13,45,13],[44,14,45,14],[44,15,45,15],[46,0,49,0],[50,0,53,0],[43,12,43,13],[43,14,43,15],[44,4,45,4],[44,5,45,5],[44,6,45,6],[44,7,45,7],[44,8,45,8],[44,9,45,9],[44,10,45,10],[44,11,45,11],[43,0,45,0],[43,1,45,1],[43,4,43,5],[43,6,43,7],[43,8,43,9],[43,10,43,11],[54,0,57,0],[60,0,61,1],[60,4,60,15],[61,4,61,5],[61,6,61,7],[61,8,61,9],[61,10,61,11],[61,12,61,13],[61,14,61,15],[63,12,64,12],[63,13,64,13],[63,14,64,14],[63,15,64,15],[65,0,68,0],[69,0,72,0],[62,12,62,13],[62,14,62,15],[63,4,64,4],[63,5,64,5],[63,6,64,6],[63,7,64,7],[63,8,64,8],[63,9,64,9],[63,10,64,10],[63,11,64,11],[62,0,64,0],[62,1,64,1],[62,4,62,5],[62,6,62,7],[62,8,62,9],[62,10,62,11],[73,0,76,0],[79,0,80,1],[79,4,79,15],[80,4,80,5],[80,6,80,7],[80,8,80,9],[80,10,80,11],[80,12,80,13],[80,14,80,15],[82,12,83,12],[82,13,83,13],[82,14,83,14],[82,15,83,15],[84,0,87,0],[88,0,91,0],[81,12,81,13],[81,14,81,15],[82,4,83,4],[82,5,83,5],[82,6,83,6],[82,7,83,7],[82,8,83,8],[82,9,83,9],[82,10,83,10],[82,11,83,11],[81,0,83,0],[81,1,83,1],[81,4,81,5],[81,6,81,7],[81,8,81,9],[81,10,81,11],[92,0,95,0],[98,0,99,1],[98,4,98,15],[99,4,99,5],[99,6,99,7],[99,8,99,9],[99,10,99,11],[99,12,99,13],[99,14,99,15],[101,12,102,12],[101,13,102,13],[101,14,102,14],[101,15,102,15],[103,0,106,0],[107,0,110,0],[100,12,100,13],[100,14,100,15],[101,4,102,4],[101,5,102,5],[101,6,102,6],[101,7,102,7],[101,8,102,8],[101,9,102,9],[101,10,102,10],[101,11,102,11],[100,0,102,0],[100,1,102,1],[100,4,100,5],[100,6,100,7],[100,8,100,9],[100,10,100,11],[111,0,114,0],[117,0,118,1],[117,4,117,15],[118,4,118,5],[118,6,118,7],[118,8,118,9],[118,10,118,11],[118,12,118,13],[118,14,118,15],[130,0,133,0],[120,12,121,12],[120,13,121,13],[120,14,121,14],[120,15,121,15],[122,0,125,0],[126,0,129,0],[119,12,119,13],[119,14,119,15],[120,4,121,4],[120,5,121,5],[120,6,121,6],[120,7,121,7],[120,8,121,8],[120,9,121,9],[120,10,121,10],[120,11,121,11],[119,0,121,0],[119,1,121,1],[119,4,119,5],[119,6,119,7],[119,8,119,9],[119,10,119,11]]}
[]
["4SCU18L_36"]
["Evaporator Air \n",null,"Condenser  Entering Air Temperature ˚F"]
[80,"°F DB",65,null,75,null,85,null,90,null,95,null,105,null,115]
["CFM","EWB†\n˚F","Capacity Mbtuh",null,"Capacity Mbtuh",null,"Capacity Mbtuh",null,"Capacity Mbtuh",null,"Capacity Mbtuh",null,"Capacity Mbtuh",null,"Capacity Mbtuh"]
[null,null,"Total","Sens.","Total","Sens.","Total","Sens.","Total","Sens.","Total","Sens.","Total","Sens.","Total","Sens."]
[null,null,null,null,null,null,null,null,null,null,null,null,null,null,null,null,null,"Total Factors",null,null,null,null,null,null,"Sens. %",null,null,null,null,null,null,"IDB Adj",null,null,null,null,null,null,"Sens Calc"]
[1000,72,{"$f":"R8*$K$13","v":22.084432717678101},{"$f":"IF(AM8>C8,C8,AM8)","v":11.053389322646703},{"$f":"S8*$K$13","v":20.944591029023748},{"$f":"IF(AN8>E8,E8,AN8)","v":10.663158405967366},{"$f":"T8*$K$13","v":19.852242744063325},{"$f":"IF(AO8>G8,G8,AO8)","v":10.297002588503045},{"$f":"U8*$K$13","v":19.282321899736147},{"$f":"IF(AP8>I8,I8,AP8)","v":10.104582643919228},{"$f":"V8*$K$13","v":18.712401055408971},{"$f":"IF(AQ8>K8,K8,AQ8)","v":9.9060629287799635},{"$f":"W8*$K$13","v":17.620052770448549},{"$f":"IF(AR8>M8,M8,AR8)","v":9.5401193926776422},{"$f":"X8*$K$13","v":16.527704485488126},{"$f":"IF(AS8>O8,O8,AS8)","v":9.1746109943746426},null,1.2269129287598945,1.1635883905013193,1.1029023746701847,1.0712401055408971,1.0395778364116095,0.97889182058047497,0.91820580474934033,0.5005059203444564,0.50911275332094119,0.51868208147828998,0.52403350055355602,0.52938491962882206,0.54143534738317256,0.55510497555363825,{"$f":"IF(Y8<0.9,0.9,Y8*-3.6846+4.1276)","v":0.9},{"$f":"IF(Z8<0.9,0.9,Z8*-3.6846+4.1276)","v":0.9},0.9,0.9,0.9,0.9,0.9,{"$f":"Y8*C8+($A$4-80)*AF8*$A$8/1000","v":11.053389322646703},{"$f":"Z8*E8+($A$4-80)*AG8*$A$8/1000","v":10.663158405967366},{"$f":"AA8*G8+($A$4-80)*AH8*$A$8/1000","v":10.297002588503045},{"$f":"AB8*I8+($A$4-80)*AI8*$A$8/1000","v":10.104582643919228},{"$f":"AC8*K8+($A$4-80)*AJ8*$A$8/1000","v":9.9060629287799635},{"$f":"AD8*M8+($A$4-80)*AK8*$A$8/1000","v":9.5401193926776422},{"$f":"AE8*O8+($A$4-80)*AL8*$A$8/1000","v":9.1746109943746426}]
[null,67,20.517150395778366,14.008043318565123,19.47229551451187,{"$f":"IF(AN9>E9,E9,AN9)","v":13.584438767563652},18.427440633245382,{"$f":"IF(AO9>G9,G9,AO9)","v":13.160389625481496},17.928759894459102,{"$f":"IF(AP9>I9,I9,AP9)","v":12.970115553209569},{"$f":"V9*$K$13","v":17.430079155672821},{"$f":"IF(AQ9>K9,K9,AQ9)","v":12.770614248251444},16.385224274406333,{"$f":"IF(AR9>M9,M9,AR9)","v":12.34640855369094},15.340369393139841,{"$f":"IF(AS9>O9,O9,AS9)","v":11.921587973119012},null,1.1398416886543536,1.0817941952506596,1.0237467018469657,0.99604221635883905,0.9683377308707124,0.91029023746701843,0.85224274406332456,0.68274799610804804,0.69762903697921752,0.71417349198990365,0.72342513534458086,0.73267677869925796,0.75350867018500256,0.77713825968560468,{"$f":"IF(Y9<0.9,0.9,Y9*-3.6846+4.1276)","v":0.9},0.9,0.9,0.9,0.9,0.9,0.9,{"$f":"Y9*C9+($A$4-80)*AF9*$A$8/1000","v":14.008043318565123},{"$f":"Z9*E9+($A$4-80)*AG9*$A$8/1000","v":13.584438767563652},{"$f":"AA9*G9+($A$4-80)*AH9*$A$8/1000","v":13.160389625481496},{"$f":"AB9*I9+($A$4-80)*AI9*$A$8/1000","v":12.970115553209569},{"$f":"AC9*K9+($A$4-80)*AJ9*$A$8/1000","v":12.770614248251444},{"$f":"AD9*M9+($A$4-80)*AK9*$A$8/1000","v":12.34640855369094},{"$f":"AE9*O9+($A$4-80)*AL9*$A$8/1000","v":11.921587973119012}]
[null,62,18.902374670184695,16.943309686576018,17.952506596306069,16.356886669279344,17.002638522427439,15.770442721980366,16.527704485488126,15.481565849145886,{"$f":"V10*$K$13","v":16.052770448548813},15.183974132231096,15.102902374670183,14.59747625441902,14.153034300791557,14.010943196905428,null,1.050131926121372,0.99736147757255933,0.9445910290237467,0.91820580474934033,0.89182058047493407,0.83905013192612132,0.78627968337730869,0.89635878995146734,0.911119936457506,0.92752914209040338,0.93670393627495063,0.94587873045949789,0.96653450391768148,0.9899603787522665,0.9,0.77048748212867357,0.71002612305369972,0.676220676401317,0.64241522974893428,0.56630696686491078,0.47999198844939883,16.943309686576018,{"$f":"Z10*E10+($A$4-80)*AG10*$A$8/1000","v":16.356886669279344},{"$f":"AA10*G10+($A$4-80)*AH10*$A$8/1000","v":15.770442721980366},15.481565849145886,15.183974132231096,14.59747625441902,14.010943196905428]
[null,57,18.427440633245382,18.427440633245382,17.66754617414248,17.66754617414248,16.907651715039577,16.907651715039577,16.527704485488126,16.527704485488126,{"$f":"V11*$K$13","v":16.147757255936675},16.147757255936675,15.340369393139841,15.340369393139841,14.580474934036939,14.580474934036939,null,1.0237467018469657,0.98153034300791553,0.93931398416886547,0.91820580474934033,0.8970976253298153,0.85224274406332456,0.81002638522427439,1,1,1,1,1,1,1,0.44300000000000006,0.44300000000000006,0.44300000000000006,0.44300000000000006,0.44300000000000006,0.44300000000000006,0.44300000000000006,18.427440633245382,{"$f":"Z11*E11+($A$4-80)*AG11*$A$8/1000","v":17.66754617414248},{"$f":"AA11*G11+($A$4-80)*AH11*$A$8/1000","v":16.907651715039577},{"$f":"AB11*I11+($A$4-80)*AI11*$A$8/1000","v":16.527704485488126},16.147757255936675,15.340369393139841,14.580474934036939]
[1200,72,22.891820580474935,12.08967069685149,21.656992084432719,11.653901658457693,20.469656992084431,11.243347903212715,19.875989445910289,11.041871703850717,{"$f":"V12*$K$13","v":19.282321899736147},10.832951838032017,18.094986807387865,10.422744701232677,16.907651715039577,10.012766565555072,null,1.2717678100263852,1.2031662269129288,1.1372031662269129,1.104221635883905,1.0712401055408971,1.0052770448548813,0.93931398416886547,0.52812185270939538,0.538112661861046,0.54926899398267848,0.55553821528732539,0.56180743659197241,0.57600178503458499,0.59220326597150008,0.9,0.9,0.9,0.9,0.9,0.9,0.9,{"$f":"Y12*C12+($A$4-80)*AF12*$A$12/1000","v":12.08967069685149},{"$f":"Z12*E12+($A$4-80)*AG12*$A$12/1000","v":11.653901658457693},{"$f":"AA12*G12+($A$4-80)*AH12*$A$12/1000","v":11.243347903212715},{"$f":"AB12*I12+($A$4-80)*AI12*$A$12/1000","v":11.041871703850717},{"$f":"AC12*K12+($A$4-80)*AJ12*$A$12/1000","v":10.832951838032017},{"$f":"AD12*M12+($A$4-80)*AK12*$A$12/1000","v":10.422744701232677},{"$f":"AE12*O12+($A$4-80)*AL12*$A$12/1000","v":10.012766565555072}]
[null,67,21.277044854881268,15.713042552650345,20.184696569920842,15.089963849827887,19.092348284960423,14.467002450759946,18.546174142480211,14.158699659697922,18,13.844179845288696,16.907651715039577,13.221523113854127,15.815303430079155,12.599066871954729,null,1.1820580474934037,1.1213720316622691,1.0606860158311346,1.0303430079155673,1,0.93931398416886547,0.87862796833773082,0.73849741163870042,0.74759428746206147,0.75773824334411544,0.76342967293007713,0.76912110251603871,0.78198459115959962,0.79663769510691407,0.9,0.9,0.9,0.9,0.9,0.9,0.9,{"$f":"Y13*C13+($A$4-80)*AF13*$A$12/1000","v":15.713042552650345},{"$f":"Z13*E13+($A$4-80)*AG13*$A$12/1000","v":15.089963849827887},{"$f":"AA13*G13+($A$4-80)*AH13*$A$12/1000","v":14.467002450759946},{"$f":"AB13*I13+($A$4-80)*AI13*$A$12/1000","v":14.158699659697922},{"$f":"AC13*K13+($A$4-80)*AJ13*$A$12/1000","v":13.844179845288696},{"$f":"AD13*M13+($A$4-80)*AK13*$A$12/1000","v":13.221523113854127},{"$f":"AE13*O13+($A$4-80)*AL13*$A$12/1000","v":12.599066871954729}]
[null,62,19.377308707124012,18.340128423040362,18.664907651715041,17.972417762266115,17.905013192612138,17.559124669082717,17.548812664907651,17.37930893885444,{"$f":"V14*$K$13","v":17.192612137203167},17.192612137203167,16.432717678100264,16.432717678100264,15.67282321899736,15.67282321899736,null,1.0765171503957784,1.0369393139841689,0.99472295514511877,0.97493403693931402,0.95514511873350927,0.9129287598944591,0.87071240105540892,0.94647449241997506,0.96289883119859443,0.98068202911617297,0.99034101455808643,1,1,1,0.6402200852293598,0.57970296656565923,0.51417899551854918,0.47858949775927462,0.44300000000000006,0.44300000000000006,0.44300000000000006,18.340128423040362,{"$f":"Z14*E14+($A$4-80)*AG14*$A$12/1000","v":17.972417762266115},{"$f":"AA14*G14+($A$4-80)*AH14*$A$12/1000","v":17.559124669082717},17.37930893885444,17.192612137203167,16.432717678100264,15.67282321899736]
[null,57,19.662269129287601,19.662269129287601,18.807387862796837,18.807387862796837,18,18,17.572559366754618,17.572559366754618,17.145118733509236,17.145118733509236,16.290237467018471,16.290237467018471,15.435356200527703,15.435356200527703,null,1.0923482849604222,1.0448548812664908,1,0.9762532981530343,0.9525065963060686,0.9050131926121372,0.85751978891820579,1,1,1,1,1,1,1,0.44300000000000006,0.44300000000000006,0.44300000000000006,0.44300000000000006,0.44300000000000006,0.44300000000000006,0.44300000000000006,19.662269129287601,{"$f":"Z15*E15+($A$4-80)*AG15*$A$12/1000","v":18.807387862796837},{"$f":"AA15*G15+($A$4-80)*AH15*$A$12/1000","v":18},17.572559366754618,17.145118733509236,16.290237467018471,15.435356200527703]
[1400,72,25.07651715039578,15.61671267515063,22.179419525065963,12.555418971800052,19.282321899736147,9.4927769095197778,17.83377308707124,7.8879979262898487,16.385224274406333,6.4280678135873002,13.440633245382585,3.3481211091432503,10.543535620052772,0.28433179526434404,null,1.3931398416886545,1.2321899736147757,1.0712401055408971,0.99076517150395782,0.91029023746701843,0.74670184696569919,0.58575197889182062,0.62276242675527027,0.56608420060816311,0.49230465910071103,0.44230673384581337,0.39230880859091571,0.24910441703284097,2.6967405006302899E-2,0.9,0.9,0.9,0.9,0.9,0.9,0.9,{"$f":"Y16*C16+($A$4-80)*AF16*$A$16/1000","v":15.61671267515063},{"$f":"Z16*E16+($A$4-80)*AG16*$A$16/1000","v":12.555418971800052},{"$f":"AA16*G16+($A$4-80)*AH16*$A$16/1000","v":9.4927769095197778},{"$f":"AB16*I16+($A$4-80)*AI16*$A$16/1000","v":7.8879979262898487},{"$f":"AC16*K16+($A$4-80)*AJ16*$A$16/1000","v":6.4280678135873002},{"$f":"AD16*M16+($A$4-80)*AK16*$A$16/1000","v":3.3481211091432503},{"$f":"AE16*O16+($A$4-80)*AL16*$A$16/1000","v":0.28433179526434404}]
[null,67,21.846965699208443,16.561179839609153,20.707124010554089,16.049600372517219,19.567282321899736,15.538640305502192,18.973614775725594,15.270523688012421,18.379947229551451,14.989683496544712,17.240105540897098,14.479189744073722,16.100263852242744,13.969605356450717,null,1.2137203166226913,1.1503957783641161,1.0870712401055409,1.054089709762533,1.0211081794195251,0.95778364116094983,0.89445910290237463,0.75805400473573303,0.7750762667155997,0.79411335973372854,0.80482943648403671,0.81554551323434477,0.8398550524952465,0.86766313177561816,0.9,0.9,0.9,0.9,0.9,0.9,0.9,{"$f":"Y17*C17+($A$4-80)*AF17*$A$16/1000","v":16.561179839609153},{"$f":"Z17*E17+($A$4-80)*AG17*$A$16/1000","v":16.049600372517219},{"$f":"AA17*G17+($A$4-80)*AH17*$A$16/1000","v":15.538640305502192},{"$f":"AB17*I17+($A$4-80)*AI17*$A$16/1000","v":15.270523688012421},{"$f":"AC17*K17+($A$4-80)*AJ17*$A$16/1000","v":14.989683496544712},{"$f":"AD17*M17+($A$4-80)*AK17*$A$16/1000","v":14.479189744073722},{"$f":"AE17*O17+($A$4-80)*AL17*$A$16/1000","v":13.969605356450717}]
[null,62,20.707124010554089,20.707124010554089,19.804749340369394,19.804749340369394,18.902374670184695,18.902374670184695,18.427440633245382,18.427440633245382,17.952506596306069,17.952506596306069,17.050131926121374,17.050131926121374,16.147757255936675,16.147757255936675,null,1.1503957783641161,1.1002638522427441,1.050131926121372,1.0237467018469657,0.99736147757255933,0.94722955145118737,0.8970976253298153,1,1,1,1,1,1,1,0.44300000000000006,0.44300000000000006,0.44300000000000006,0.44300000000000006,0.44300000000000006,0.44300000000000006,0.44300000000000006,20.707124010554089,{"$f":"Z18*E18+($A$4-80)*AG18*$A$16/1000","v":19.804749340369394},{"$f":"AA18*G18+($A$4-80)*AH18*$A$16/1000","v":18.902374670184695},18.427440633245382,17.952506596306069,17.050131926121374,16.147757255936675]
[null,57,20.707124010554089,20.707124010554089,19.75725593667546,19.75725593667546,18.854881266490764,18.854881266490764,18.403693931398418,18.403693931398418,17.952506596306069,17.952506596306069,17.050131926121374,17.050131926121374,16.100263852242744,16.100263852242744,null,1.1503957783641161,1.0976253298153034,1.0474934036939314,1.0224274406332454,0.99736147757255933,0.94722955145118737,0.89445910290237463,1,1,1,1,1,1,1,0.44300000000000006,0.44300000000000006,0.44300000000000006,0.44300000000000006,0.44300000000000006,0.44300000000000006,0.44300000000000006,20.707124010554089,{"$f":"Z19*E19+($A$4-80)*AG19*$A$16/1000","v":19.75725593667546},{"$f":"AA19*G19+($A$4-80)*AH19*$A$16/1000","v":18.854881266490764},18.403693931398418,17.952506596306069,17.050131926121374,16.100263852242744]

{"sheet":"4SCU18L_48","index":32,"n_rows":19,"n_cols":45,"rows_kept":19,"cut":false,"hidden":true,"merged":[[2,0,2,1],[2,2,2,15],[3,2,3,3],[3,4,3,5],[3,6,3,7],[3,8,3,9],[3,10,3,11],[3,12,3,13],[3,14,3,15],[5,2,6,2],[5,3,6,3],[5,4,6,4],[5,5,6,5],[5,6,6,6],[5,7,6,7],[5,8,6,8],[4,0,6,0],[4,1,6,1],[4,2,4,3],[4,4,4,5],[4,6,4,7],[4,8,4,9],[5,9,6,9],[5,10,6,10],[5,11,6,11],[5,12,6,12],[5,13,6,13],[5,14,6,14],[5,15,6,15],[4,10,4,11],[4,12,4,13],[4,14,4,15],[7,0,10,0],[11,0,14,0],[15,0,18,0],[22,4,22,15],[23,4,23,5],[23,6,23,7],[23,8,23,9],[23,10,23,11],[23,12,23,13],[23,14,23,15],[25,12,26,12],[25,13,26,13],[25,14,26,14],[25,15,26,15],[27,0,30,0],[31,0,34,0],[24,12,24,13],[24,14,24,15],[25,4,26,4],[25,5,26,5],[25,6,26,6],[25,7,26,7],[25,8,26,8],[25,9,26,9],[25,10,26,10],[25,11,26,11],[24,0,26,0],[24,1,26,1],[24,4,24,5],[24,6,24,7],[24,8,24,9],[24,10,24,11],[35,0,38,0],[41,0,42,1],[41,4,41,15],[42,4,42,5],[42,6,42,7],[42,8,42,9],[42,10,42,11],[42,12,42,13],[42,14,42,15],[44,12,45,12],[44,13,45,13],[44,14,45,14],[44,15,45,15],[46,0,49,0],[50,0,53,0],[43,12,43,13],[43,14,43,15],[44,4,45,4],[44,5,45,5],[44,6,45,6],[44,7,45,7],[44,8,45,8],[44,9,45,9],[44,10,45,10],[44,11,45,11],[43,0,45,0],[43,1,45,1],[43,4,43,5],[43,6,43,7],[43,8,43,9],[43,10,43,11],[54,0,57,0],[60,0,61,1],[60,4,60,15],[61,4,61,5],[61,6,61,7],[61,8,61,9],[61,10,61,11],[61,12,61,13],[61,14,61,15],[63,12,64,12],[63,13,64,13],[63,14,64,14],[63,15,64,15],[65,0,68,0],[69,0,72,0],[62,12,62,13],[62,14,62,15],[63,4,64,4],[63,5,64,5],[63,6,64,6],[63,7,64,7],[63,8,64,8],[63,9,64,9],[63,10,64,10],[63,11,64,11],[62,0,64,0],[62,1,64,1],[62,4,62,5],[62,6,62,7],[62,8,62,9],[62,10,62,11],[73,0,76,0],[79,0,80,1],[79,4,79,15],[80,4,80,5],[80,6,80,7],[80,8,80,9],[80,10,80,11],[80,12,80,13],[80,14,80,15],[82,12,83,12],[82,13,83,13],[82,14,83,14],[82,15,83,15],[84,0,87,0],[88,0,91,0],[81,12,81,13],[81,14,81,15],[82,4,83,4],[82,5,83,5],[82,6,83,6],[82,7,83,7],[82,8,83,8],[82,9,83,9],[82,10,83,10],[82,11,83,11],[81,0,83,0],[81,1,83,1],[81,4,81,5],[81,6,81,7],[81,8,81,9],[81,10,81,11],[92,0,95,0],[98,0,99,1],[98,4,98,15],[99,4,99,5],[99,6,99,7],[99,8,99,9],[99,10,99,11],[99,12,99,13],[99,14,99,15],[101,12,102,12],[101,13,102,13],[101,14,102,14],[101,15,102,15],[103,0,106,0],[107,0,110,0],[100,12,100,13],[100,14,100,15],[101,4,102,4],[101,5,102,5],[101,6,102,6],[101,7,102,7],[101,8,102,8],[101,9,102,9],[101,10,102,10],[101,11,102,11],[100,0,102,0],[100,1,102,1],[100,4,100,5],[100,6,100,7],[100,8,100,9],[100,10,100,11],[111,0,114,0],[117,0,118,1],[117,4,117,15],[118,4,118,5],[118,6,118,7],[118,8,118,9],[118,10,118,11],[118,12,118,13],[118,14,118,15],[130,0,133,0],[120,12,121,12],[120,13,121,13],[120,14,121,14],[120,15,121,15],[122,0,125,0],[126,0,129,0],[119,12,119,13],[119,14,119,15],[120,4,121,4],[120,5,121,5],[120,6,121,6],[120,7,121,7],[120,8,121,8],[120,9,121,9],[120,10,121,10],[120,11,121,11],[119,0,121,0],[119,1,121,1],[119,4,119,5],[119,6,119,7],[119,8,119,9],[119,10,119,11]]}
[]
["4SCU18L_48"]
["Evaporator Air \n",null,"Condenser  Entering Air Temperature ˚F"]
[80,"°F DB",65,null,75,null,85,null,90,null,95,null,105,null,115]
["CFM","EWB†\n˚F","Capacity Mbtuh",null,"Capacity Mbtuh",null,"Capacity Mbtuh",null,"Capacity Mbtuh",null,"Capacity Mbtuh",null,"Capacity Mbtuh",null,"Capacity Mbtuh"]
[null,null,"Total","Sens.","Total","Sens.","Total","Sens.","Total","Sens.","Total","Sens.","Total","Sens.","Total","Sens."]
[null,null,null,null,null,null,null,null,null,null,null,null,null,null,null,null,null,"Total Factors",null,null,null,null,null,null,"Sens. %",null,null,null,null,null,null,"IDB Adj",null,null,null,null,null,null,"Sens Calc"]
[1400,72,{"$f":"R8*$K$13","v":21.917864476386036},{"$f":"IF(AM8>C8,C8,AM8)","v":11.197541410777818},{"$f":"S8*$K$13","v":20.956878850102669},{"$f":"IF(AN8>E8,E8,AN8)","v":10.850691026533386},{"$f":"T8*$K$13","v":20.032854209445585},{"$f":"IF(AO8>G8,G8,AO8)","v":10.523076639703604},{"$f":"U8*$K$13","v":19.552361396303901},{"$f":"IF(AP8>I8,I8,AP8)","v":10.351600402167616},{"$f":"V8*$K$13","v":19.071868583162217},{"$f":"IF(AQ8>K8,K8,AQ8)","v":10.176146888126972},{"$f":"W8*$K$13","v":18.11088295687885},{"$f":"IF(AR8>M8,M8,AR8)","v":9.8290107718873934},{"$f":"X8*$K$13","v":17.186858316221766},{"$f":"IF(AS8>O8,O8,AS8)","v":9.5020686314283687},null,1.2176591375770021,1.1642710472279261,1.1129363449691991,1.0862422997946612,1.0595482546201231,1.0061601642710472,0.95482546201232033,0.51088651555637976,0.51776274053711147,0.52529093107171532,0.52942967820369979,0.53356842533568427,0.54271295305092526,0.55286827043077846,{"$f":"IF(Y8<0.9,0.9,Y8*-3.6846+4.1276)","v":0.9},{"$f":"IF(Z8<0.9,0.9,Z8*-3.6846+4.1276)","v":0.9},0.9,0.9,0.9,0.9,0.9,{"$f":"Y8*C8+($A$4-80)*AF8*$A$8/1000","v":11.197541410777818},{"$f":"Z8*E8+($A$4-80)*AG8*$A$8/1000","v":10.850691026533386},{"$f":"AA8*G8+($A$4-80)*AH8*$A$8/1000","v":10.523076639703604},{"$f":"AB8*I8+($A$4-80)*AI8*$A$8/1000","v":10.351600402167616},{"$f":"AC8*K8+($A$4-80)*AJ8*$A$8/1000","v":10.176146888126972},{"$f":"AD8*M8+($A$4-80)*AK8*$A$8/1000","v":9.8290107718873934},{"$f":"AE8*O8+($A$4-80)*AL8*$A$8/1000","v":9.5020686314283687}]
[null,67,20.328542094455852,14.425759344842421,19.404517453798768,{"$f":"IF(AN9>E9,E9,AN9)","v":13.907217105197597},18.517453798767967,{"$f":"IF(AO9>G9,G9,AO9)","v":13.415168821686766},18.055441478439427,{"$f":"IF(AP9>I9,I9,AP9)","v":13.157728441959783},{"$f":"V9*$K$13","v":17.593429158110883},{"$f":"IF(AQ9>K9,K9,AQ9)","v":12.896333639448082},16.706365503080082,{"$f":"IF(AR9>M9,M9,AR9)","v":12.404596988595854},15.782340862422997,{"$f":"IF(AS9>O9,O9,AS9)","v":11.885402756487235},null,1.1293634496919918,1.0780287474332648,1.0287474332648872,1.0030800821355237,0.97741273100616022,0.92813141683778233,0.87679671457905539,0.70963078797356149,0.71669997145304021,0.72446076914631352,0.72874033335999244,0.73301989757367136,0.74250721895847849,0.75308237606157735,{"$f":"IF(Y9<0.9,0.9,Y9*-3.6846+4.1276)","v":0.9},0.9,0.9,0.9,0.9,0.9,0.9,{"$f":"Y9*C9+($A$4-80)*AF9*$A$8/1000","v":14.425759344842421},{"$f":"Z9*E9+($A$4-80)*AG9*$A$8/1000","v":13.907217105197597},{"$f":"AA9*G9+($A$4-80)*AH9*$A$8/1000","v":13.415168821686766},{"$f":"AB9*I9+($A$4-80)*AI9*$A$8/1000","v":13.157728441959783},{"$f":"AC9*K9+($A$4-80)*AJ9*$A$8/1000","v":12.896333639448082},{"$f":"AD9*M9+($A$4-80)*AK9*$A$8/1000","v":12.404596988595854},{"$f":"AE9*O9+($A$4-80)*AL9*$A$8/1000","v":11.885402756487235}]
[null,62,18.776180698151951,16.875253909152306,17.88911704312115,16.449363210269428,17.002053388090349,16.023794769775549,16.540041067761805,15.799199442055189,{"$f":"V10*$K$13","v":16.078028747433265},15.562825685397399,15.190965092402465,15.13702239674047,14.303901437371662,14.303901437371662,null,1.0431211498973305,0.99383983572895274,0.94455852156057496,0.91889117043121149,0.89322381930184802,0.84394250513347024,0.79466119096509236,0.89875860167948096,0.91951789295238884,0.94246232522713669,0.95520920276609278,0.96795608030504898,0.99644902773893063,1,0.9,0.73954437162762821,0.6550033164680924,0.60803617148805467,0.56106902650801649,0.45608391239313617,0.44300000000000006,16.875253909152306,{"$f":"Z10*E10+($A$4-80)*AG10*$A$8/1000","v":16.449363210269428},{"$f":"AA10*G10+($A$4-80)*AH10*$A$8/1000","v":16.023794769775549},15.799199442055189,15.562825685397399,15.13702239674047,14.303901437371662]
[null,57,18.55441478439425,18.55441478439425,17.815195071868583,17.815195071868583,17.075975359342916,17.075975359342916,16.706365503080082,16.706365503080082,{"$f":"V11*$K$13","v":16.336755646817249},16.336755646817249,15.634496919917865,15.634496919917865,14.895277207392198,14.895277207392198,null,1.0308008213552362,0.98973305954825463,0.94866529774127306,0.92813141683778233,0.9075975359342916,0.86858316221765919,0.82751540041067762,1,1,1,1,1,1,1,0.44300000000000006,0.44300000000000006,0.44300000000000006,0.44300000000000006,0.44300000000000006,0.44300000000000006,0.44300000000000006,18.55441478439425,{"$f":"Z11*E11+($A$4-80)*AG11*$A$8/1000","v":17.815195071868583},{"$f":"AA11*G11+($A$4-80)*AH11*$A$8/1000","v":17.075975359342916},{"$f":"AB11*I11+($A$4-80)*AI11*$A$8/1000","v":16.706365503080082},16.336755646817249,15.634496919917865,14.895277207392198]
[1600,72,22.39835728952772,11.859171156462805,21.400410677618069,11.50286849129564,20.439425051334702,11.166598666301025,19.940451745379875,10.990879093914591,{"$f":"V12*$K$13","v":19.441478439425051},10.8103108947655,18.4435318275154,10.453847646404498,17.44558521560575,10.097179095507588,null,1.2443531827515399,1.1889117043121149,1.1355236139630389,1.1078028747433264,1.0800821355236139,1.0246406570841888,0.9691991786447639,0.5294661123209925,0.5375069041701187,0.54632645674990954,0.55118506011084401,0.55604366347177847,0.56680291736795707,0.57878133468834692,0.9,0.9,0.9,0.9,0.9,0.9,0.9,{"$f":"Y12*C12+($A$4-80)*AF12*$A$12/1000","v":11.859171156462805},{"$f":"Z12*E12+($A$4-80)*AG12*$A$12/1000","v":11.50286849129564},{"$f":"AA12*G12+($A$4-80)*AH12*$A$12/1000","v":11.166598666301025},{"$f":"AB12*I12+($A$4-80)*AI12*$A$12/1000","v":10.990879093914591},{"$f":"AC12*K12+($A$4-80)*AJ12*$A$12/1000","v":10.8103108947655},{"$f":"AD12*M12+($A$4-80)*AK12*$A$12/1000","v":10.453847646404498},{"$f":"AE12*O12+($A$4-80)*AL12*$A$12/1000","v":10.097179095507588}]
[null,67,20.845995893223822,15.086015342925135,19.885010266940451,14.660844371435767,18.924024640657084,14.235495406629276,18.462012320328544,14.040749332778258,18,13.8383556012333,17.039014373716633,13.413239650529091,16.078028747433265,12.987920513168516,null,1.1581108829568789,1.1047227926078029,1.0513347022587269,1.0256673511293635,1,0.94661190965092401,0.89322381930184802,0.723688876280983,0.73728120703110478,0.75224460319319197,0.76052106829752097,0.76879753340184998,0.78720748491295101,0.80780552872452971,0.9,0.9,0.9,0.9,0.9,0.9,0.9,{"$f":"Y13*C13+($A$4-80)*AF13*$A$12/1000","v":15.086015342925135},{"$f":"Z13*E13+($A$4-80)*AG13*$A$12/1000","v":14.660844371435767},{"$f":"AA13*G13+($A$4-80)*AH13*$A$12/1000","v":14.235495406629276},{"$f":"AB13*I13+($A$4-80)*AI13*$A$12/1000","v":14.040749332778258},{"$f":"AC13*K13+($A$4-80)*AJ13*$A$12/1000","v":13.8383556012333},{"$f":"AD13*M13+($A$4-80)*AK13*$A$12/1000","v":13.413239650529091},{"$f":"AE13*O13+($A$4-80)*AL13*$A$12/1000","v":12.987920513168516}]
[null,62,18.960985626283367,18.144072832267319,18.369609856262834,17.824837811755835,17.7782340862423,17.505760813113927,17.482546201232033,17.348575454673071,{"$f":"V14*$K$13","v":17.186858316221766},17.186858316221766,16.595482546201232,16.595482546201232,15.967145790554415,15.967145790554415,null,1.053388090349076,1.0205338809034907,0.98767967145790558,0.97125256673511295,0.95482546201232033,0.92197125256673507,0.88706365503080087,0.95691612186638342,0.97034384242399851,0.98467377177021054,0.99233688588510527,1,1,1,0.60174685737112377,0.55227107820453503,0.49947102053548242,0.47123551026774102,0.44300000000000006,0.44300000000000006,0.44300000000000006,18.144072832267319,{"$f":"Z14*E14+($A$4-80)*AG14*$A$12/1000","v":17.824837811755835},{"$f":"AA14*G14+($A$4-80)*AH14*$A$12/1000","v":17.505760813113927},17.348575454673071,17.186858316221766,16.595482546201232,15.967145790554415]
[null,57,19.404517453798768,19.404517453798768,18.628336755646817,18.628336755646817,17.852156057494867,17.852156057494867,17.482546201232033,17.482546201232033,17.112936344969199,17.112936344969199,16.336755646817249,16.336755646817249,15.560574948665298,15.560574948665298,null,1.0780287474332648,1.0349075975359343,0.99178644763860369,0.97125256673511295,0.95071868583162222,0.9075975359342916,0.86447638603696098,1,1,1,1,1,1,1,0.44300000000000006,0.44300000000000006,0.44300000000000006,0.44300000000000006,0.44300000000000006,0.44300000000000006,0.44300000000000006,19.404517453798768,{"$f":"Z15*E15+($A$4-80)*AG15*$A$12/1000","v":18.628336755646817},{"$f":"AA15*G15+($A$4-80)*AH15*$A$12/1000","v":17.852156057494867},17.482546201232033,17.112936344969199,16.336755646817249,15.560574948665298]
[1800,72,22.694045174537987,12.515203134573573,21.733059548254619,12.177310122678026,20.809034907597539,11.859991283617278,20.347022587268995,11.703875169265453,19.885010266940451,11.542890517941334,18.924024640657084,11.204156998471635,18,10.887123591354147,null,1.2607802874743326,1.2073921971252566,1.1560574948665299,1.1303901437371664,1.1047227926078029,1.0513347022587269,1,0.55147520146012763,0.56031273901589185,0.56994432160268538,0.57521316050381222,0.58048199940493905,0.59205994555725761,0.60484019951967483,0.9,0.9,0.9,0.9,0.9,0.9,0.9,{"$f":"Y16*C16+($A$4-80)*AF16*$A$16/1000","v":12.515203134573573},{"$f":"Z16*E16+($A$4-80)*AG16*$A$16/1000","v":12.177310122678026},{"$f":"AA16*G16+($A$4-80)*AH16*$A$16/1000","v":11.859991283617278},{"$f":"AB16*I16+($A$4-80)*AI16*$A$16/1000","v":11.703875169265453},{"$f":"AC16*K16+($A$4-80)*AJ16*$A$16/1000","v":11.542890517941334},{"$f":"AD16*M16+($A$4-80)*AK16*$A$16/1000","v":11.204156998471635},{"$f":"AE16*O16+($A$4-80)*AL16*$A$16/1000","v":10.887123591354147}]
[null,67,21.178644763860369,15.914505275657481,20.217659137577002,15.523475461530005,19.256673511293634,15.132765635978723,18.776180698151951,14.942387120486933,18.295687885010267,14.74242676127354,17.297741273100616,14.321918837578146,16.336755646817249,13.93160677792263,null,1.1765913757700206,1.1232032854209446,1.0698151950718686,1.0431211498973305,1.0164271047227926,0.96098562628336759,0.9075975359342916,0.75144115466794581,0.76781764673624953,0.78584526175321368,0.79581611195069291,0.80578696214817214,0.82796468113729305,0.85277683519963809,0.9,0.9,0.9,0.9,0.9,0.9,0.9,{"$f":"Y17*C17+($A$4-80)*AF17*$A$16/1000","v":15.914505275657481},{"$f":"Z17*E17+($A$4-80)*AG17*$A$16/1000","v":15.523475461530005},{"$f":"AA17*G17+($A$4-80)*AH17*$A$16/1000","v":15.132765635978723},{"$f":"AB17*I17+($A$4-80)*AI17*$A$16/1000","v":14.942387120486933},{"$f":"AC17*K17+($A$4-80)*AJ17*$A$16/1000","v":14.74242676127354},{"$f":"AD17*M17+($A$4-80)*AK17*$A$16/1000","v":14.321918837578146},{"$f":"AE17*O17+($A$4-80)*AL17*$A$16/1000","v":13.93160677792263}]
[null,62,20.106776180698152,20.106776180698152,19.330595482546201,19.330595482546201,18.55441478439425,18.55441478439425,18.166324435318273,18.166324435318273,17.7782340862423,17.7782340862423,17.002053388090349,17.002053388090349,16.188911704312115,16.188911704312115,null,1.1170431211498972,1.0739219712525667,1.0308008213552362,1.0092402464065708,0.98767967145790558,0.94455852156057496,0.89938398357289528,1,1,1,1,1,1,1,0.44300000000000006,0.44300000000000006,0.44300000000000006,0.44300000000000006,0.44300000000000006,0.44300000000000006,0.44300000000000006,20.106776180698152,{"$f":"Z18*E18+($A$4-80)*AG18*$A$16/1000","v":19.330595482546201},{"$f":"AA18*G18+($A$4-80)*AH18*$A$16/1000","v":18.55441478439425},18.166324435318273,17.7782340862423,17.002053388090349,16.188911704312115]
[null,57,20.069815195071868,20.069815195071868,19.293634496919918,19.293634496919918,18.517453798767967,18.517453798767967,18.129363449691994,18.129363449691994,17.741273100616016,17.741273100616016,16.965092402464066,16.965092402464066,16.188911704312115,16.188911704312115,null,1.1149897330595482,1.0718685831622177,1.0287474332648872,1.0071868583162218,0.98562628336755642,0.94250513347022591,0.89938398357289528,1,1,1,1,1,1,1,0.44300000000000006,0.44300000000000006,0.44300000000000006,0.44300000000000006,0.44300000000000006,0.44300000000000006,0.44300000000000006,20.069815195071868,{"$f":"Z19*E19+($A$4-80)*AG19*$A$16/1000","v":19.293634496919918},{"$f":"AA19*G19+($A$4-80)*AH19*$A$16/1000","v":18.517453798767967},18.129363449691994,17.741273100616016,16.965092402464066,16.188911704312115]

{"sheet":"4SCU18L_60","index":33,"n_rows":19,"n_cols":45,"rows_kept":19,"cut":false,"hidden":true,"merged":[[2,0,2,1],[2,2,2,15],[3,2,3,3],[3,4,3,5],[3,6,3,7],[3,8,3,9],[3,10,3,11],[3,12,3,13],[3,14,3,15],[5,2,6,2],[5,3,6,3],[5,4,6,4],[5,5,6,5],[5,6,6,6],[5,7,6,7],[5,8,6,8],[4,0,6,0],[4,1,6,1],[4,2,4,3],[4,4,4,5],[4,6,4,7],[4,8,4,9],[5,9,6,9],[5,10,6,10],[5,11,6,11],[5,12,6,12],[5,13,6,13],[5,14,6,14],[5,15,6,15],[4,10,4,11],[4,12,4,13],[4,14,4,15],[7,0,10,0],[11,0,14,0],[15,0,18,0],[22,4,22,15],[23,4,23,5],[23,6,23,7],[23,8,23,9],[23,10,23,11],[23,12,23,13],[23,14,23,15],[25,12,26,12],[25,13,26,13],[25,14,26,14],[25,15,26,15],[27,0,30,0],[31,0,34,0],[24,12,24,13],[24,14,24,15],[25,4,26,4],[25,5,26,5],[25,6,26,6],[25,7,26,7],[25,8,26,8],[25,9,26,9],[25,10,26,10],[25,11,26,11],[24,0,26,0],[24,1,26,1],[24,4,24,5],[24,6,24,7],[24,8,24,9],[24,10,24,11],[35,0,38,0],[41,0,42,1],[41,4,41,15],[42,4,42,5],[42,6,42,7],[42,8,42,9],[42,10,42,11],[42,12,42,13],[42,14,42,15],[44,12,45,12],[44,13,45,13],[44,14,45,14],[44,15,45,15],[46,0,49,0],[50,0,53,0],[43,12,43,13],[43,14,43,15],[44,4,45,4],[44,5,45,5],[44,6,45,6],[44,7,45,7],[44,8,45,8],[44,9,45,9],[44,10,45,10],[44,11,45,11],[43,0,45,0],[43,1,45,1],[43,4,43,5],[43,6,43,7],[43,8,43,9],[43,10,43,11],[54,0,57,0],[60,0,61,1],[60,4,60,15],[61,4,61,5],[61,6,61,7],[61,8,61,9],[61,10,61,11],[61,12,61,13],[61,14,61,15],[63,12,64,12],[63,13,64,13],[63,14,64,14],[63,15,64,15],[65,0,68,0],[69,0,72,0],[62,12,62,13],[62,14,62,15],[63,4,64,4],[63,5,64,5],[63,6,64,6],[63,7,64,7],[63,8,64,8],[63,9,64,9],[63,10,64,10],[63,11,64,11],[62,0,64,0],[62,1,64,1],[62,4,62,5],[62,6,62,7],[62,8,62,9],[62,10,62,11],[73,0,76,0],[79,0,80,1],[79,4,79,15],[80,4,80,5],[80,6,80,7],[80,8,80,9],[80,10,80,11],[80,12,80,13],[80,14,80,15],[82,12,83,12],[82,13,83,13],[82,14,83,14],[82,15,83,15],[84,0,87,0],[88,0,91,0],[81,12,81,13],[81,14,81,15],[82,4,83,4],[82,5,83,5],[82,6,83,6],[82,7,83,7],[82,8,83,8],[82,9,83,9],[82,10,83,10],[82,11,83,11],[81,0,83,0],[81,1,83,1],[81,4,81,5],[81,6,81,7],[81,8,81,9],[81,10,81,11],[92,0,95,0],[98,0,99,1],[98,4,98,15],[99,4,99,5],[99,6,99,7],[99,8,99,9],[99,10,99,11],[99,12,99,13],[99,14,99,15],[101,12,102,12],[101,13,102,13],[101,14,102,14],[101,15,102,15],[103,0,106,0],[107,0,110,0],[100,12,100,13],[100,14,100,15],[101,4,102,4],[101,5,102,5],[101,6,102,6],[101,7,102,7],[101,8,102,8],[101,9,102,9],[101,10,102,10],[101,11,102,11],[100,0,102,0],[100,1,102,1],[100,4,100,5],[100,6,100,7],[100,8,100,9],[100,10,100,11],[111,0,114,0],[117,0,118,1],[117,4,117,15],[118,4,118,5],[118,6,118,7],[118,8,118,9],[118,10,118,11],[118,12,118,13],[118,14,118,15],[130,0,133,0],[120,12,121,12],[120,13,121,13],[120,14,121,14],[120,15,121,15],[122,0,125,0],[126,0,129,0],[119,12,119,13],[119,14,119,15],[120,4,121,4],[120,5,121,5],[120,6,121,6],[120,7,121,7],[120,8,121,8],[120,9,121,9],[120,10,121,10],[120,11,121,11],[119,0,121,0],[119,1,121,1],[119,4,119,5],[119,6,119,7],[119,8,119,9],[119,10,119,11]]}
[]
["4SCU18L_60"]
["Evaporator Air \n",null,"Condenser  Entering Air Temperature ˚F"]
[80,"°F DB",65,null,75,null,85,null,90,null,95,null,105,null,115]
["CFM","EWB†\n˚F","Capacity Mbtuh",null,"Capacity Mbtuh",null,"Capacity Mbtuh",null,"Capacity Mbtuh",null,"Capacity Mbtuh",null,"Capacity Mbtuh",null,"Capacity Mbtuh"]
[null,null,"Total","Sens.","Total","Sens.","Total","Sens.","Total","Sens.","Total","Sens.","Total","Sens.","Total","Sens."]
[null,null,null,null,null,null,null,null,null,null,null,null,null,null,null,null,null,"Total Factors",null,null,null,null,null,null,"Sens. %",null,null,null,null,null,null,"IDB Adj",null,null,null,null,null,null,"Sens Calc"]
[1525,72,{"$f":"R8*$K$13","v":22.317567567567568},{"$f":"IF(AM8>C8,C8,AM8)","v":11.006548109256222},{"$f":"S8*$K$13","v":21.253378378378379},{"$f":"IF(AN8>E8,E8,AN8)","v":10.607842151895015},{"$f":"T8*$K$13","v":20.189189189189189},{"$f":"IF(AO8>G8,G8,AO8)","v":10.20924714670384},{"$f":"U8*$K$13","v":19.657094594594593},{"$f":"IF(AP8>I8,I8,AP8)","v":10.011957449081935},{"$f":"V8*$K$13","v":19.125},{"$f":"IF(AQ8>K8,K8,AQ8)","v":9.8107817869415808},{"$f":"W8*$K$13","v":18.030405405405407},{"$f":"IF(AR8>M8,M8,AR8)","v":9.3966233072232122},{"$f":"X8*$K$13","v":16.966216216216218},{"$f":"IF(AS8>O8,O8,AS8)","v":8.9982126007289107},null,1.2398648648648649,1.1807432432432432,1.1216216216216217,1.0920608108108107,1.0625,1.0016891891891893,0.94256756756756754,0.49317866187402992,0.49911322158018195,0.50567890820353689,0.50933048121135227,0.51298205421916765,0.52115429996965912,0.53036059932611657,{"$f":"IF(Y8<0.9,0.9,Y8*-3.6846+4.1276)","v":0.9},{"$f":"IF(Z8<0.9,0.9,Z8*-3.6846+4.1276)","v":0.9},0.9,0.9,0.9,0.9,0.9,{"$f":"Y8*C8+($A$4-80)*AF8*$A$8/1000","v":11.006548109256222},{"$f":"Z8*E8+($A$4-80)*AG8*$A$8/1000","v":10.607842151895015},{"$f":"AA8*G8+($A$4-80)*AH8*$A$8/1000","v":10.20924714670384},{"$f":"AB8*I8+($A$4-80)*AI8*$A$8/1000","v":10.011957449081935},{"$f":"AC8*K8+($A$4-80)*AJ8*$A$8/1000","v":9.8107817869415808},{"$f":"AD8*M8+($A$4-80)*AK8*$A$8/1000","v":9.3966233072232122},{"$f":"AE8*O8+($A$4-80)*AL8*$A$8/1000","v":8.9982126007289107}]
[null,67,20.64527027027027,13.8385588280628,19.641891891891891,{"$f":"IF(AN9>E9,E9,AN9)","v":13.41370042857986},18.638513513513516,{"$f":"IF(AO9>G9,G9,AO9)","v":12.98877398588556},18.136824324324323,{"$f":"IF(AP9>I9,I9,AP9)","v":12.780171587342185},{"$f":"V9*$K$13","v":17.635135135135133},{"$f":"IF(AQ9>K9,K9,AQ9)","v":12.563767918705924},16.631756756756758,{"$f":"IF(AR9>M9,M9,AR9)","v":12.13866785943515},15.628378378378377,{"$f":"IF(AS9>O9,O9,AS9)","v":11.713455762557087},null,1.1469594594594594,1.0912162162162162,1.035472972972973,1.0076013513513513,0.97972972972972971,0.92398648648648651,0.8682432432432432,0.67030165490207638,0.68291285291703452,0.69687821276456863,0.70465321595478947,0.71242821914501031,0.72984880893617798,0.74949911494096366,{"$f":"IF(Y9<0.9,0.9,Y9*-3.6846+4.1276)","v":0.9},0.9,0.9,0.9,0.9,0.9,0.9,{"$f":"Y9*C9+($A$4-80)*AF9*$A$8/1000","v":13.8385588280628},{"$f":"Z9*E9+($A$4-80)*AG9*$A$8/1000","v":13.41370042857986},{"$f":"AA9*G9+($A$4-80)*AH9*$A$8/1000","v":12.98877398588556},{"$f":"AB9*I9+($A$4-80)*AI9*$A$8/1000","v":12.780171587342185},{"$f":"AC9*K9+($A$4-80)*AJ9*$A$8/1000","v":12.563767918705924},{"$f":"AD9*M9+($A$4-80)*AK9*$A$8/1000","v":12.13866785943515},{"$f":"AE9*O9+($A$4-80)*AL9*$A$8/1000","v":11.713455762557087}]
[null,62,18.942567567567568,16.499438720968875,18.030405405405407,16.076883484394866,17.118243243243242,15.654632153406283,16.662162162162161,15.449485582600644,{"$f":"V10*$K$13","v":16.206081081081081},15.23273648204651,15.263513513513514,14.78181483666212,14.351351351351351,14.351351351351351,null,1.0523648648648649,1.0016891891891893,0.95101351351351349,0.92567567567567566,0.90033783783783783,0.84797297297297303,0.79729729729729726,0.87102440902564426,0.89165402124430959,0.91449992449343986,0.9272197348843858,0.93993954527533186,0.96844116681097547,1,0.9,0.9,0.75803357821147133,0.71116616484499229,0.66429875147851236,0.55928167676828,0.44300000000000006,16.499438720968875,{"$f":"Z10*E10+($A$4-80)*AG10*$A$8/1000","v":16.076883484394866},{"$f":"AA10*G10+($A$4-80)*AH10*$A$8/1000","v":15.654632153406283},15.449485582600644,15.23273648204651,14.78181483666212,14.351351351351351]
[null,57,18.212837837837839,18.212837837837839,17.483108108108109,17.483108108108109,16.753378378378379,16.753378378378379,16.388513513513516,16.388513513513516,{"$f":"V11*$K$13","v":16.023648648648649},16.023648648648649,15.324324324324323,15.324324324324323,14.594594594594595,14.594594594594595,null,1.0118243243243243,0.97128378378378377,0.9307432432432432,0.91047297297297303,0.89020270270270274,0.85135135135135132,0.81081081081081086,1,1,1,1,1,1,1,0.44300000000000006,0.44300000000000006,0.44300000000000006,0.44300000000000006,0.44300000000000006,0.44300000000000006,0.44300000000000006,18.212837837837839,{"$f":"Z11*E11+($A$4-80)*AG11*$A$8/1000","v":17.483108108108109},{"$f":"AA11*G11+($A$4-80)*AH11*$A$8/1000","v":16.753378378378379},{"$f":"AB11*I11+($A$4-80)*AI11*$A$8/1000","v":16.388513513513516},16.023648648648649,15.324324324324323,14.594594594594595]
[1725,72,22.83445945945946,11.590161624317146,21.70945945945946,11.185373829229867,20.614864864864863,10.796321606567281,20.052364864864863,10.596526241687011,{"$f":"V12*$K$13","v":19.489864864864863},10.391412608930819,18.364864864864863,9.9862779001052324,17.27027027027027,9.5977712769653873,null,1.2685810810810811,1.2060810810810811,1.1452702702702702,1.1140202702702702,1.0827702702702702,1.0202702702702702,0.95945945945945943,0.50757328610709795,0.51523041603673214,0.5237153712789111,0.52844272050195529,0.53317006972499958,0.54377083488431732,0.5557394949103589,0.9,0.9,0.9,0.9,0.9,0.9,0.9,{"$f":"Y12*C12+($A$4-80)*AF12*$A$12/1000","v":11.590161624317146},{"$f":"Z12*E12+($A$4-80)*AG12*$A$12/1000","v":11.185373829229867},{"$f":"AA12*G12+($A$4-80)*AH12*$A$12/1000","v":10.796321606567281},{"$f":"AB12*I12+($A$4-80)*AI12*$A$12/1000","v":10.596526241687011},{"$f":"AC12*K12+($A$4-80)*AJ12*$A$12/1000","v":10.391412608930819},{"$f":"AD12*M12+($A$4-80)*AK12*$A$12/1000","v":9.9862779001052324},{"$f":"AE12*O12+($A$4-80)*AL12*$A$12/1000","v":9.5977712769653873}]
[null,67,21.101351351351354,14.704750633838266,20.067567567567568,14.295934134185691,19.033783783783782,13.887270253863301,18.516891891891891,13.687992524491957,18,13.478785420996605,16.966216216216218,13.070512539348279,15.902027027027026,12.638328037965566,null,1.1722972972972974,1.1148648648648649,1.0574324324324325,1.0287162162162162,1,0.94256756756756754,0.88344594594594594,0.69686298232726962,0.71238998379107143,0.72961164273048229,0.73921652750403566,0.74882141227758914,0.77038464986999011,0.79476207759460549,0.9,0.9,0.9,0.9,0.9,0.9,0.9,{"$f":"Y13*C13+($A$4-80)*AF13*$A$12/1000","v":14.704750633838266},{"$f":"Z13*E13+($A$4-80)*AG13*$A$12/1000","v":14.295934134185691},{"$f":"AA13*G13+($A$4-80)*AH13*$A$12/1000","v":13.887270253863301},{"$f":"AB13*I13+($A$4-80)*AI13*$A$12/1000","v":13.687992524491957},{"$f":"AC13*K13+($A$4-80)*AJ13*$A$12/1000","v":13.478785420996605},{"$f":"AD13*M13+($A$4-80)*AK13*$A$12/1000","v":13.070512539348279},{"$f":"AE13*O13+($A$4-80)*AL13*$A$12/1000","v":12.638328037965566}]
[null,62,19.489864864864863,17.579472471308769,18.516891891891891,17.099249347837659,17.574324324324323,16.647317969070254,17.087837837837839,16.413519606427119,{"$f":"V14*$K$13","v":16.601351351351351},16.166794436765311,15.628378378378377,15.628378378378377,14.685810810810811,14.685810810810811,null,1.0827702702702702,1.0287162162162162,0.97635135135135132,0.94932432432432434,0.92229729729729726,0.8682432432432432,0.8158783783783784,0.90198021346982082,0.92344057780695998,0.94725223353417831,0.96053811852558857,0.97382400351699883,1,1,0.80416370544909821,0.7250908470124755,0.63735442031996659,0.58840124848061626,0.53944807664126637,0.44300000000000006,0.44300000000000006,17.579472471308769,{"$f":"Z14*E14+($A$4-80)*AG14*$A$12/1000","v":17.099249347837659},{"$f":"AA14*G14+($A$4-80)*AH14*$A$12/1000","v":16.647317969070254},16.413519606427119,16.166794436765311,15.628378378378377,14.685810810810811]
[null,57,19.033783783783782,19.033783783783782,18.273648648648646,18.273648648648646,17.483108108108109,17.483108108108109,17.10304054054054,17.10304054054054,16.722972972972972,16.722972972972972,15.932432432432432,15.932432432432432,15.172297297297296,15.172297297297296,null,1.0574324324324325,1.0152027027027026,0.97128378378378377,0.95016891891891897,0.92905405405405406,0.88513513513513509,0.84290540540540537,1,1,1,1,1,1,1,0.44300000000000006,0.44300000000000006,0.44300000000000006,0.44300000000000006,0.44300000000000006,0.44300000000000006,0.44300000000000006,19.033783783783782,{"$f":"Z15*E15+($A$4-80)*AG15*$A$12/1000","v":18.273648648648646},{"$f":"AA15*G15+($A$4-80)*AH15*$A$12/1000","v":17.483108108108109},17.10304054054054,16.722972972972972,15.932432432432432,15.172297297297296]
[1925,72,23.22972972972973,12.164950700029523,22.10472972972973,11.782842062728468,20.949324324324323,11.384603499075721,20.371621621621621,11.188710362791625,19.793918918918916,10.986121800230759,18.668918918918916,10.604623610152778,17.513513513513516,10.205957063546235,null,1.2905405405405406,1.2280405405405406,1.1638513513513513,1.1317567567567568,1.0996621621621621,1.0371621621621621,0.97297297297297303,0.52368025119382478,0.53304619449298896,0.54343535489863148,0.54923022676390065,0.55502509862916971,0.56803629905993902,0.58274754838149789,0.9,0.9,0.9,0.9,0.9,0.9,0.9,{"$f":"Y16*C16+($A$4-80)*AF16*$A$16/1000","v":12.164950700029523},{"$f":"Z16*E16+($A$4-80)*AG16*$A$16/1000","v":11.782842062728468},{"$f":"AA16*G16+($A$4-80)*AH16*$A$16/1000","v":11.384603499075721},{"$f":"AB16*I16+($A$4-80)*AI16*$A$16/1000","v":11.188710362791625},{"$f":"AC16*K16+($A$4-80)*AJ16*$A$16/1000","v":10.986121800230759},{"$f":"AD16*M16+($A$4-80)*AK16*$A$16/1000","v":10.604623610152778},{"$f":"AE16*O16+($A$4-80)*AL16*$A$16/1000","v":10.205957063546235}]
[null,67,21.496621621621621,15.613684608092528,20.432432432432432,15.222716936977145,19.368243243243246,14.83145822913683,18.851351351351354,14.653628451217974,18.33445945945946,14.463844590333922,17.27027027027027,14.072629646843135,16.206081081081081,13.68103447620274,null,1.1942567567567568,1.1351351351351351,1.0760135135135136,1.0472972972972974,1.0185810810810811,0.95945945945945943,0.90033783783783783,0.72633202011557263,0.74502715167745293,0.76576166681048341,0.77732509346962719,0.78888852012877109,0.81484710005194994,0.84419141233187645,0.9,0.9,0.9,0.9,0.9,0.9,0.9,{"$f":"Y17*C17+($A$4-80)*AF17*$A$16/1000","v":15.613684608092528},{"$f":"Z17*E17+($A$4-80)*AG17*$A$16/1000","v":15.222716936977145},{"$f":"AA17*G17+($A$4-80)*AH17*$A$16/1000","v":14.83145822913683},{"$f":"AB17*I17+($A$4-80)*AI17*$A$16/1000","v":14.653628451217974},{"$f":"AC17*K17+($A$4-80)*AJ17*$A$16/1000","v":14.463844590333922},{"$f":"AD17*M17+($A$4-80)*AK17*$A$16/1000","v":14.072629646843135},{"$f":"AE17*O17+($A$4-80)*AL17*$A$16/1000","v":13.68103447620274}]
[null,62,19.672297297297298,18.669566497831791,18.881756756756754,18.213642413149177,18.091216216216218,17.757361529421033,17.711148648648649,17.547728182213191,17.331081081081081,17.331081081081081,16.54054054054054,16.54054054054054,15.75,15.75,null,1.0929054054054055,1.0489864864864864,1.0050675675675675,0.98395270270270274,0.96283783783783783,0.91891891891891897,0.875,0.94902828153154895,0.96461588017394106,0.98154603411925778,0.99077301705962895,1,1,1,0.63081039386885474,0.57337632791109661,0.51099548268418271,0.47699774134209116,0.44300000000000006,0.44300000000000006,0.44300000000000006,18.669566497831791,{"$f":"Z18*E18+($A$4-80)*AG18*$A$16/1000","v":18.213642413149177},{"$f":"AA18*G18+($A$4-80)*AH18*$A$16/1000","v":17.757361529421033},17.547728182213191,17.331081081081081,16.54054054054054,15.75]
[null,57,19.763513513513516,19.763513513513516,18.942567567567568,18.942567567567568,18.121621621621621,18.121621621621621,17.711148648648649,17.711148648648649,17.300675675675677,17.300675675675677,16.47972972972973,16.47972972972973,15.658783783783784,15.658783783783784,null,1.097972972972973,1.0523648648648649,1.0067567567567568,0.98395270270270274,0.96114864864864868,0.91554054054054057,0.86993243243243246,1,1,1,1,1,1,1,0.44300000000000006,0.44300000000000006,0.44300000000000006,0.44300000000000006,0.44300000000000006,0.44300000000000006,0.44300000000000006,19.763513513513516,{"$f":"Z19*E19+($A$4-80)*AG19*$A$16/1000","v":18.942567567567568},{"$f":"AA19*G19+($A$4-80)*AH19*$A$16/1000","v":18.121621621621621},17.711148648648649,17.300675675675677,16.47972972972973,15.658783783783784]

{"sheet":"4AC14L_18","index":34,"n_rows":19,"n_cols":45,"rows_kept":19,"cut":false,"hidden":true,"merged":[[130,0,133,0],[120,12,121,12],[120,13,121,13],[120,14,121,14],[120,15,121,15],[122,0,125,0],[126,0,129,0],[119,12,119,13],[119,14,119,15],[120,4,121,4],[120,5,121,5],[120,6,121,6],[120,7,121,7],[120,8,121,8],[120,9,121,9],[120,10,121,10],[120,11,121,11],[119,0,121,0],[119,1,121,1],[119,4,119,5],[119,6,119,7],[119,8,119,9],[119,10,119,11],[111,0,114,0],[117,0,118,1],[117,4,117,15],[118,4,118,5],[118,6,118,7],[118,8,118,9],[118,10,118,11],[118,12,118,13],[118,14,118,15],[101,12,102,12],[101,13,102,13],[101,14,102,14],[101,15,102,15],[103,0,106,0],[107,0,110,0],[100,12,100,13],[100,14,100,15],[101,4,102,4],[101,5,102,5],[101,6,102,6],[101,7,102,7],[101,8,102,8],[101,9,102,9],[101,10,102,10],[101,11,102,11],[100,0,102,0],[100,1,102,1],[100,4,100,5],[100,6,100,7],[100,8,100,9],[100,10,100,11],[92,0,95,0],[98,0,99,1],[98,4,98,15],[99,4,99,5],[99,6,99,7],[99,8,99,9],[99,10,99,11],[99,12,99,13],[99,14,99,15],[82,12,83,12],[82,13,83,13],[82,14,83,14],[82,15,83,15],[84,0,87,0],[88,0,91,0],[81,12,81,13],[81,14,81,15],[82,4,83,4],[82,5,83,5],[82,6,83,6],[82,7,83,7],[82,8,83,8],[82,9,83,9],[82,10,83,10],[82,11,83,11],[81,0,83,0],[81,1,83,1],[81,4,81,5],[81,6,81,7],[81,8,81,9],[81,10,81,11],[73,0,76,0],[79,0,80,1],[79,4,79,15],[80,4,80,5],[80,6,80,7],[80,8,80,9],[80,10,80,11],[80,12,80,13],[80,14,80,15],[63,12,64,12],[63,13,64,13],[63,14,64,14],[63,15,64,15],[65,0,68,0],[69,0,72,0],[62,12,62,13],[62,14,62,15],[63,4,64,4],[63,5,64,5],[63,6,64,6],[63,7,64,7],[63,8,64,8],[63,9,64,9],[63,10,64,10],[63,11,64,11],[62,0,64,0],[62,1,64,1],[62,4,62,5],[62,6,62,7],[62,8,62,9],[62,10,62,11],[54,0,57,0],[60,0,61,1],[60,4,60,15],[61,4,61,5],[61,6,61,7],[61,8,61,9],[61,10,61,11],[61,12,61,13],[61,14,61,15],[44,12,45,12],[44,13,45,13],[44,14,45,14],[44,15,45,15],[46,0,49,0],[50,0,53,0],[43,12,43,13],[43,14,43,15],[44,4,45,4],[44,5,45,5],[44,6,45,6],[44,7,45,7],[44,8,45,8],[44,9,45,9],[44,10,45,10],[44,11,45,11],[43,0,45,0],[43,1,45,1],[43,4,43,5],[43,6,43,7],[43,8,43,9],[43,10,43,11],[35,0,38,0],[41,0,42,1],[41,4,41,15],[42,4,42,5],[42,6,42,7],[42,8,42,9],[42,10,42,11],[42,12,42,13],[42,14,42,15],[25,12,26,12],[25,13,26,13],[25,14,26,14],[25,15,26,15],[27,0,30,0],[31,0,34,0],[24,12,24,13],[24,14,24,15],[25,4,26,4],[25,5,26,5],[25,6,26,6],[25,7,26,7],[25,8,26,8],[25,9,26,9],[25,10,26,10],[25,11,26,11],[24,0,26,0],[24,1,26,1],[24,4,24,5],[24,6,24,7],[24,8,24,9],[24,10,24,11],[7,0,10,0],[11,0,14,0],[15,0,18,0],[22,4,22,15],[23,4,23,5],[23,6,23,7],[23,8,23,9],[23,10,23,11],[23,12,23,13],[23,14,23,15],[5,10,6,10],[5,11,6,11],[5,12,6,12],[5,13,6,13],[5,14,6,14],[5,15,6,15],[4,10,4,11],[4,12,4,13],[4,14,4,15],[5,2,6,2],[5,3,6,3],[5,4,6,4],[5,5,6,5],[5,6,6,6],[5,7,6,7],[5,8,6,8],[4,0,6,0],[4,1,6,1],[4,2,4,3],[4,4,4,5],[4,6,4,7],[4,8,4,9],[5,9,6,9],[2,0,2,1],[2,2,2,15],[3,2,3,3],[3,4,3,5],[3,6,3,7],[3,8,3,9],[3,10,3,11],[3,12,3,13],[3,14,3,15]]}
[]
["4AC14L_18",18]
["Evaporator Air \n",null,"Condenser  Entering Air Temperature ˚F"]
[80,"°F DB",85,null,90,null,95,null,100,null,105,null,110,null,115]
["CFM","EWB†\n˚F","Capacity Mbtuh",null,"Capacity Mbtuh",null,"Capacity Mbtuh",null,"Capacity Mbtuh",null,"Capacity Mbtuh",null,"Capacity Mbtuh",null,"Capacity Mbtuh"]
[null,null,"Total","Sens.","Total","Sens.","Total","Sens.","Total","Sens.","Total","Sens.","Total","Sens.","Total","Sens."]
[null,null,null,null,null,null,null,null,null,null,null,null,null,null,null,null,null,"Total Factors",null,null,null,null,null,null,"Sens. %",null,null,null,null,null,null,"IDB Adj",null,null,null,null,null,null,"Sens Calc"]
[525,71,{"$f":"R8*$B$2","v":19.356783919597991},{"$f":"IF(AM8>C8,C8,AM8)","v":11.614070351758794},{"$f":"S8*$B$2","v":18.81407035175879},{"$f":"IF(AN8>E8,E8,AN8)","v":11.19437185929648},{"$f":"T8*$B$2","v":18.271356783919597},{"$f":"IF(AO8>G8,G8,AO8)","v":10.780100502512562},{"$f":"U8*$B$2","v":17.819095477386934},{"$f":"IF(AP8>I8,I8,AP8)","v":10.780552763819095},{"$f":"V8*$B$2","v":17.366834170854272},{"$f":"IF(AQ8>K8,K8,AQ8)","v":10.767437185929648},{"$f":"W8*$B$2","v":16.778894472361806},{"$f":"IF(AR8>M8,M8,AR8)","v":10.40291457286432},{"$f":"X8*$B$2","v":16.190954773869347},{"$f":"IF(AS8>O8,O8,AS8)","v":10.038391959798995},null,1.0753768844221105,1.0452261306532662,1.0150753768844221,0.98994974874371866,0.96482412060301515,0.93216080402010038,0.89949748743718594,0.6,0.59499999999999997,0.59,0.60499999999999998,0.62,0.62,0.62,{"$f":"IF(Y8<0.9,0.9,Y8*-3.6846+4.1276)","v":0.9},{"$f":"IF(Z8<0.9,0.9,Z8*-3.6846+4.1276)","v":0.9},0.9,0.9,0.9,0.9,0.9,{"$f":"Y8*C8+($A$4-80)*AF8*$A$8/1000","v":11.614070351758794},{"$f":"Z8*E8+($A$4-80)*AG8*$A$8/1000","v":11.19437185929648},{"$f":"AA8*G8+($A$4-80)*AH8*$A$8/1000","v":10.780100502512562},{"$f":"AB8*I8+($A$4-80)*AI8*$A$8/1000","v":10.780552763819095},{"$f":"AC8*K8+($A$4-80)*AJ8*$A$8/1000","v":10.767437185929648},{"$f":"AD8*M8+($A$4-80)*AK8*$A$8/1000","v":10.40291457286432},{"$f":"AE8*O8+($A$4-80)*AL8*$A$8/1000","v":10.038391959798995}]
[null,67,18.271356783919597,13.520804020100501,17.909547738693465,{"$f":"IF(AN9>E9,E9,AN9)","v":13.4321608040201},17.547738693467338,{"$f":"IF(AO9>G9,G9,AO9)","v":13.336281407035177},17.05025125628141,{"$f":"IF(AP9>I9,I9,AP9)","v":13.043442211055279},16.552763819095478,{"$f":"IF(AQ9>K9,K9,AQ9)","v":12.745628140703518},16.055276381909547,{"$f":"IF(AR9>M9,M9,AR9)","v":12.603391959798994},15.557788944723619,{"$f":"IF(AS9>O9,O9,AS9)","v":12.446231155778896},null,1.0150753768844221,0.99497487437185927,0.97487437185929648,0.94723618090452277,0.91959798994974884,0.89195979899497491,0.86432160804020108,0.74,0.75,0.76,0.76500000000000001,0.77,0.78500000000000003,0.8,{"$f":"IF(Y9<0.9,0.9,Y9*-3.6846+4.1276)","v":0.9},0.9,0.9,0.9,0.9,0.9,0.9,{"$f":"Y9*C9+($A$4-80)*AF9*$A$8/1000","v":13.520804020100501},{"$f":"Z9*E9+($A$4-80)*AG9*$A$8/1000","v":13.4321608040201},{"$f":"AA9*G9+($A$4-80)*AH9*$A$8/1000","v":13.336281407035177},{"$f":"AB9*I9+($A$4-80)*AI9*$A$8/1000","v":13.043442211055279},{"$f":"AC9*K9+($A$4-80)*AJ9*$A$8/1000","v":12.745628140703518},{"$f":"AD9*M9+($A$4-80)*AK9*$A$8/1000","v":12.603391959798994},{"$f":"AE9*O9+($A$4-80)*AL9*$A$8/1000","v":12.446231155778896}]
[null,65,17.8643216080402,14.559422110552761,17.457286432160807,14.445904522613068,17.05025125628141,14.322211055276385,16.597989949748747,14.066796482412064,16.145728643216085,13.804597989949752,15.648241206030153,13.613969849246233,15.150753768844222,13.408417085427137,null,0.99246231155778897,0.96984924623115587,0.94723618090452277,0.92211055276381926,0.89698492462311574,0.86934673366834181,0.84170854271356788,0.81499999999999995,0.82750000000000001,0.84000000000000008,0.84750000000000003,0.85499999999999998,0.87,0.88500000000000001,0.9,0.9,0.9,0.9,0.9,0.9,0.9,14.559422110552761,{"$f":"Z10*E10+($A$4-80)*AG10*$A$8/1000","v":14.445904522613068},{"$f":"AA10*G10+($A$4-80)*AH10*$A$8/1000","v":14.322211055276385},14.066796482412064,13.804597989949752,13.613969849246233,13.408417085427137]
[null,63,17.457286432160807,15.536984924623118,17.005025125628144,15.389547738693471,16.552763819095478,15.22854271356784,16.145728643216085,15.015527638190958,15.738693467336685,14.794371859296483,15.241206030150757,14.555351758793972,14.743718592964825,14.301407035175879,null,0.96984924623115587,0.94472361809045236,0.91959798994974884,0.89698492462311574,0.87437185929648242,0.84673366834170871,0.81909547738693478,0.89,0.90500000000000003,0.92,0.92999999999999994,0.94,0.95499999999999996,0.97,0.9,0.79303699999999999,0.73776799999999998,0.70092200000000027,0.66407600000000011,0.6088070000000001,0.55353800000000009,15.536984924623118,{"$f":"Z11*E11+($A$4-80)*AG11*$A$8/1000","v":15.389547738693471},{"$f":"AA11*G11+($A$4-80)*AH11*$A$8/1000","v":15.22854271356784},{"$f":"AB11*I11+($A$4-80)*AI11*$A$8/1000","v":15.015527638190958},14.794371859296483,14.555351758793972,14.301407035175879]
[600,71,19.899497487437188,12.138693467336685,19.356783919597991,12.001206030150755,18.814070351758794,11.85286432160804,18.2713567839196,11.510954773869349,17.728643216080403,11.169045226130654,17.231155778894475,11.114095477386936,16.733668341708544,11.04422110552764,null,1.1055276381909549,1.0753768844221105,1.0452261306532664,1.0150753768844223,0.98492462311557805,0.95728643216080411,0.92964824120603018,0.61,0.62,0.63,0.63,0.63,0.64500000000000002,0.66,0.9,0.9,0.9,0.9,0.9,0.9,0.9,{"$f":"Y12*C12+($A$4-80)*AF12*$A$12/1000","v":12.138693467336685},{"$f":"Z12*E12+($A$4-80)*AG12*$A$12/1000","v":12.001206030150755},{"$f":"AA12*G12+($A$4-80)*AH12*$A$12/1000","v":11.85286432160804},{"$f":"AB12*I12+($A$4-80)*AI12*$A$12/1000","v":11.510954773869349},{"$f":"AC12*K12+($A$4-80)*AJ12*$A$12/1000","v":11.169045226130654},{"$f":"AD12*M12+($A$4-80)*AK12*$A$12/1000","v":11.114095477386936},{"$f":"AE12*O12+($A$4-80)*AL12*$A$12/1000","v":11.04422110552764}]
[null,67,18.994974874371863,14.436180904522615,18.497487437185928,14.335552763819095,18,14.22,17.502512562814072,14.002010050251258,17.005025125628144,13.774070351758798,16.462311557788947,13.499095477386938,15.919597989949752,13.213266331658293,null,1.0552763819095479,1.0276381909547738,1,0.97236180904522629,0.94472361809045236,0.91457286432160823,0.88442211055276398,0.76,0.77500000000000002,0.79,0.8,0.81,0.82000000000000006,0.83,0.9,0.9,0.9,0.9,0.9,0.9,0.9,{"$f":"Y13*C13+($A$4-80)*AF13*$A$12/1000","v":14.436180904522615},{"$f":"Z13*E13+($A$4-80)*AG13*$A$12/1000","v":14.335552763819095},{"$f":"AA13*G13+($A$4-80)*AH13*$A$12/1000","v":14.22},{"$f":"AB13*I13+($A$4-80)*AI13*$A$12/1000","v":14.002010050251258},{"$f":"AC13*K13+($A$4-80)*AJ13*$A$12/1000","v":13.774070351758798},{"$f":"AD13*M13+($A$4-80)*AK13*$A$12/1000","v":13.499095477386938},{"$f":"AE13*O13+($A$4-80)*AL13*$A$12/1000","v":13.213266331658293}]
[null,65,18.497487437185928,15.722864321608037,18.022613065326631,15.544503768844221,17.547738693467338,15.35427135678392,17.05025125628141,15.132097989949751,16.552763819095478,14.89748743718593,16.055276381909547,14.570163316582914,15.557788944723622,14.235376884422115,null,1.0276381909547738,1.0012562814070352,0.97487437185929648,0.94723618090452277,0.91959798994974884,0.89195979899497491,0.86432160804020119,0.85,0.86250000000000004,0.875,0.88749999999999996,0.9,0.90749999999999997,0.91500000000000004,0.9,0.9,0.9,0.9,0.81145999999999985,0.78382550000000029,0.75619099999999984,15.722864321608037,{"$f":"Z14*E14+($A$4-80)*AG14*$A$12/1000","v":15.544503768844221},{"$f":"AA14*G14+($A$4-80)*AH14*$A$12/1000","v":15.35427135678392},15.132097989949751,14.89748743718593,14.570163316582914,14.235376884422115]
[null,63,18,16.919999999999998,17.547738693467338,16.67035175879397,17.095477386934675,16.411658291457286,16.597989949748747,16.183040201005028,16.100502512562816,15.939497487437187,15.648241206030153,15.570000000000002,15.195979899497489,15.195979899497489,null,1,0.97487437185929648,0.94974874371859297,0.92211055276381926,0.89447236180904532,0.86934673366834181,0.84422110552763829,0.94,0.95,0.96,0.97499999999999998,0.99,0.995,1,0.66407600000000011,0.6272300000000004,0.59038400000000024,0.53511500000000023,0.47984600000000022,0.46142299999999992,0.44300000000000006,16.919999999999998,{"$f":"Z15*E15+($A$4-80)*AG15*$A$12/1000","v":16.67035175879397},{"$f":"AA15*G15+($A$4-80)*AH15*$A$12/1000","v":16.411658291457286},16.183040201005028,15.939497487437187,15.570000000000002,15.195979899497489]
[675,71,20.261306532663315,12.967236180904521,19.809045226130653,12.776834170854272,19.356783919597991,12.581909547738695,18.81407035175879,12.323216080402007,18.271356783919597,12.059095477386935,17.683417085427134,11.847889447236181,17.095477386934675,11.624924623115581,null,1.1256281407035176,1.1005025125628141,1.0753768844221105,1.0452261306532662,1.0150753768844221,0.98241206030150752,0.94974874371859297,0.64,0.64500000000000002,0.65,0.65500000000000003,0.66,0.67,0.68,0.9,0.9,0.9,0.9,0.9,0.9,0.9,{"$f":"Y16*C16+($A$4-80)*AF16*$A$16/1000","v":12.967236180904521},{"$f":"Z16*E16+($A$4-80)*AG16*$A$16/1000","v":12.776834170854272},{"$f":"AA16*G16+($A$4-80)*AH16*$A$16/1000","v":12.581909547738695},{"$f":"AB16*I16+($A$4-80)*AI16*$A$16/1000","v":12.323216080402007},{"$f":"AC16*K16+($A$4-80)*AJ16*$A$16/1000","v":12.059095477386935},{"$f":"AD16*M16+($A$4-80)*AK16*$A$16/1000","v":11.847889447236181},{"$f":"AE16*O16+($A$4-80)*AL16*$A$16/1000","v":11.624924623115581}]
[null,67,19.356783919597991,15.485427135678393,18.904522613065325,15.312663316582913,18.452261306532662,15.130854271356782,17.909547738693465,14.864924623115575,17.366834170854272,14.588140703517588,16.778894472361806,14.345954773869344,16.190954773869347,14.086130653266332,null,1.0753768844221105,1.050251256281407,1.0251256281407035,0.99497487437185927,0.96482412060301515,0.93216080402010038,0.89949748743718594,0.8,0.81,0.82,0.83,0.84,0.85499999999999998,0.87,0.9,0.9,0.9,0.9,0.9,0.9,0.9,{"$f":"Y17*C17+($A$4-80)*AF17*$A$16/1000","v":15.485427135678393},{"$f":"Z17*E17+($A$4-80)*AG17*$A$16/1000","v":15.312663316582913},{"$f":"AA17*G17+($A$4-80)*AH17*$A$16/1000","v":15.130854271356782},{"$f":"AB17*I17+($A$4-80)*AI17*$A$16/1000","v":14.864924623115575},{"$f":"AC17*K17+($A$4-80)*AJ17*$A$16/1000","v":14.588140703517588},{"$f":"AD17*M17+($A$4-80)*AK17*$A$16/1000","v":14.345954773869344},{"$f":"AE17*O17+($A$4-80)*AL17*$A$16/1000","v":14.086130653266332}]
[null,65,18.904522613065325,16.825025125628141,18.429648241206031,16.586683417085428,17.954773869346738,16.338844221105528,17.457286432160807,15.973417085427137,16.959798994974875,15.603015075376884,16.439698492462313,15.247820351758795,15.919597989949752,14.884824120603019,null,1.050251256281407,1.0238693467336684,0.9974874371859298,0.96984924623115587,0.94221105527638194,0.91331658291457296,0.88442211055276398,0.89,0.89999999999999991,0.90999999999999992,0.91499999999999992,0.91999999999999993,0.92749999999999999,0.93500000000000005,0.9,0.81146000000000029,0.77461400000000058,0.75619100000000028,0.73776800000000042,0.71013349999999997,0.68249899999999997,16.825025125628141,{"$f":"Z18*E18+($A$4-80)*AG18*$A$16/1000","v":16.586683417085428},{"$f":"AA18*G18+($A$4-80)*AH18*$A$16/1000","v":16.338844221105528},15.973417085427137,15.603015075376884,15.247820351758795,14.884824120603019]
[null,63,18.452261306532662,18.083216080402011,17.954773869346738,17.77522613065327,17.457286432160807,17.457286432160807,17.005025125628144,17.005025125628144,16.552763819095478,16.552763819095478,16.100502512562816,16.100502512562816,15.648241206030153,15.648241206030153,null,1.0251256281407035,0.9974874371859298,0.96984924623115587,0.94472361809045236,0.91959798994974884,0.89447236180904532,0.86934673366834181,0.98,0.99,1,1,1,1,1,0.51669199999999993,0.47984600000000022,0.44300000000000006,0.44300000000000006,0.44300000000000006,0.44300000000000006,0.44300000000000006,18.083216080402011,{"$f":"Z19*E19+($A$4-80)*AG19*$A$16/1000","v":17.77522613065327},{"$f":"AA19*G19+($A$4-80)*AH19*$A$16/1000","v":17.457286432160807},17.005025125628144,16.552763819095478,16.100502512562816,15.648241206030153]

{"sheet":"4AC14L_24","index":35,"n_rows":19,"n_cols":45,"rows_kept":19,"cut":false,"hidden":true,"merged":[[130,0,133,0],[120,12,121,12],[120,13,121,13],[120,14,121,14],[120,15,121,15],[122,0,125,0],[126,0,129,0],[119,12,119,13],[119,14,119,15],[120,4,121,4],[120,5,121,5],[120,6,121,6],[120,7,121,7],[120,8,121,8],[120,9,121,9],[120,10,121,10],[120,11,121,11],[119,0,121,0],[119,1,121,1],[119,4,119,5],[119,6,119,7],[119,8,119,9],[119,10,119,11],[111,0,114,0],[117,0,118,1],[117,4,117,15],[118,4,118,5],[118,6,118,7],[118,8,118,9],[118,10,118,11],[118,12,118,13],[118,14,118,15],[101,12,102,12],[101,13,102,13],[101,14,102,14],[101,15,102,15],[103,0,106,0],[107,0,110,0],[100,12,100,13],[100,14,100,15],[101,4,102,4],[101,5,102,5],[101,6,102,6],[101,7,102,7],[101,8,102,8],[101,9,102,9],[101,10,102,10],[101,11,102,11],[100,0,102,0],[100,1,102,1],[100,4,100,5],[100,6,100,7],[100,8,100,9],[100,10,100,11],[92,0,95,0],[98,0,99,1],[98,4,98,15],[99,4,99,5],[99,6,99,7],[99,8,99,9],[99,10,99,11],[99,12,99,13],[99,14,99,15],[82,12,83,12],[82,13,83,13],[82,14,83,14],[82,15,83,15],[84,0,87,0],[88,0,91,0],[81,12,81,13],[81,14,81,15],[82,4,83,4],[82,5,83,5],[82,6,83,6],[82,7,83,7],[82,8,83,8],[82,9,83,9],[82,10,83,10],[82,11,83,11],[81,0,83,0],[81,1,83,1],[81,4,81,5],[81,6,81,7],[81,8,81,9],[81,10,81,11],[73,0,76,0],[79,0,80,1],[79,4,79,15],[80,4,80,5],[80,6,80,7],[80,8,80,9],[80,10,80,11],[80,12,80,13],[80,14,80,15],[63,12,64,12],[63,13,64,13],[63,14,64,14],[63,15,64,15],[65,0,68,0],[69,0,72,0],[62,12,62,13],[62,14,62,15],[63,4,64,4],[63,5,64,5],[63,6,64,6],[63,7,64,7],[63,8,64,8],[63,9,64,9],[63,10,64,10],[63,11,64,11],[62,0,64,0],[62,1,64,1],[62,4,62,5],[62,6,62,7],[62,8,62,9],[62,10,62,11],[54,0,57,0],[60,0,61,1],[60,4,60,15],[61,4,61,5],[61,6,61,7],[61,8,61,9],[61,10,61,11],[61,12,61,13],[61,14,61,15],[44,12,45,12],[44,13,45,13],[44,14,45,14],[44,15,45,15],[46,0,49,0],[50,0,53,0],[43,12,43,13],[43,14,43,15],[44,4,45,4],[44,5,45,5],[44,6,45,6],[44,7,45,7],[44,8,45,8],[44,9,45,9],[44,10,45,10],[44,11,45,11],[43,0,45,0],[43,1,45,1],[43,4,43,5],[43,6,43,7],[43,8,43,9],[43,10,43,11],[35,0,38,0],[41,0,42,1],[41,4,41,15],[42,4,42,5],[42,6,42,7],[42,8,42,9],[42,10,42,11],[42,12,42,13],[42,14,42,15],[25,12,26,12],[25,13,26,13],[25,14,26,14],[25,15,26,15],[27,0,30,0],[31,0,34,0],[24,12,24,13],[24,14,24,15],[25,4,26,4],[25,5,26,5],[25,6,26,6],[25,7,26,7],[25,8,26,8],[25,9,26,9],[25,10,26,10],[25,11,26,11],[24,0,26,0],[24,1,26,1],[24,4,24,5],[24,6,24,7],[24,8,24,9],[24,10,24,11],[7,0,10,0],[11,0,14,0],[15,0,18,0],[22,4,22,15],[23,4,23,5],[23,6,23,7],[23,8,23,9],[23,10,23,11],[23,12,23,13],[23,14,23,15],[5,10,6,10],[5,11,6,11],[5,12,6,12],[5,13,6,13],[5,14,6,14],[5,15,6,15],[4,10,4,11],[4,12,4,13],[4,14,4,15],[5,2,6,2],[5,3,6,3],[5,4,6,4],[5,5,6,5],[5,6,6,6],[5,7,6,7],[5,8,6,8],[4,0,6,0],[4,1,6,1],[4,2,4,3],[4,4,4,5],[4,6,4,7],[4,8,4,9],[5,9,6,9],[2,0,2,1],[2,2,2,15],[3,2,3,3],[3,4,3,5],[3,6,3,7],[3,8,3,9],[3,10,3,11],[3,12,3,13],[3,14,3,15]]}
[]
["4AC14L_24",24]
["Evaporator Air \n",null,"Condenser  Entering Air Temperature ˚F"]
[80,"°F DB",85,null,90,null,95,null,100,null,105,null,110,null,115]
["CFM","EWB†\n˚F","Capacity Mbtuh",null,"Capacity Mbtuh",null,"Capacity Mbtuh",null,"Capacity Mbtuh",null,"Capacity Mbtuh",null,"Capacity Mbtuh",null,"Capacity Mbtuh"]
[null,null,"Total","Sens.","Total","Sens.","Total","Sens.","Total","Sens.","Total","Sens.","Total","Sens.","Total","Sens."]
[null,null,null,null,null,null,null,null,null,null,null,null,null,null,null,null,null,"Total Factors",null,null,null,null,null,null,"Sens. %",null,null,null,null,null,null,"IDB Adj",null,null,null,null,null,null,"Sens Calc"]
[700,71,{"$f":"R8*$B$2","v":25.92},{"$f":"IF(AM8>C8,C8,AM8)","v":15.2928},{"$f":"S8*$B$2","v":25.344000000000001},{"$f":"IF(AN8>E8,E8,AN8)","v":15.2064},{"$f":"T8*$B$2","v":24.768000000000001},{"$f":"IF(AO8>G8,G8,AO8)","v":15.10848},{"$f":"U8*$B$2","v":24.096},{"$f":"IF(AP8>I8,I8,AP8)","v":14.819039999999999},{"$f":"V8*$B$2","v":23.423999999999999},{"$f":"IF(AQ8>K8,K8,AQ8)","v":14.522879999999999},{"$f":"W8*$B$2","v":22.656000000000002},{"$f":"IF(AR8>M8,M8,AR8)","v":14.273280000000002},{"$f":"X8*$B$2","v":21.888000000000002},{"$f":"IF(AS8>O8,O8,AS8)","v":14.008320000000001},null,1.08,1.056,1.032,1.004,0.97599999999999998,0.94400000000000006,0.91200000000000003,0.59,0.6,0.61,0.61499999999999999,0.62,0.63,0.64,{"$f":"IF(Y8<0.9,0.9,Y8*-3.6846+4.1276)","v":0.9},{"$f":"IF(Z8<0.9,0.9,Z8*-3.6846+4.1276)","v":0.9},0.9,0.9,0.9,0.9,0.9,{"$f":"Y8*C8+($A$4-80)*AF8*$A$8/1000","v":15.2928},{"$f":"Z8*E8+($A$4-80)*AG8*$A$8/1000","v":15.2064},{"$f":"AA8*G8+($A$4-80)*AH8*$A$8/1000","v":15.10848},{"$f":"AB8*I8+($A$4-80)*AI8*$A$8/1000","v":14.819039999999999},{"$f":"AC8*K8+($A$4-80)*AJ8*$A$8/1000","v":14.522879999999999},{"$f":"AD8*M8+($A$4-80)*AK8*$A$8/1000","v":14.273280000000002},{"$f":"AE8*O8+($A$4-80)*AL8*$A$8/1000","v":14.008320000000001}]
[null,67,24.768000000000001,18.328320000000001,24.096,{"$f":"IF(AN9>E9,E9,AN9)","v":18.071999999999999},23.423999999999999,{"$f":"IF(AO9>G9,G9,AO9)","v":17.802240000000001},22.751999999999999,{"$f":"IF(AP9>I9,I9,AP9)","v":17.51904},22.080000000000002,{"$f":"IF(AQ9>K9,K9,AQ9)","v":17.2224},21.312000000000001,{"$f":"IF(AR9>M9,M9,AR9)","v":16.943040000000003},20.544,{"$f":"IF(AS9>O9,O9,AS9)","v":16.640640000000001},null,1.032,1.004,0.97599999999999998,0.94799999999999995,0.92,0.88800000000000001,0.85599999999999998,0.74,0.75,0.76,0.77,0.78,0.79500000000000004,0.81,{"$f":"IF(Y9<0.9,0.9,Y9*-3.6846+4.1276)","v":0.9},0.9,0.9,0.9,0.9,0.9,0.9,{"$f":"Y9*C9+($A$4-80)*AF9*$A$8/1000","v":18.328320000000001},{"$f":"Z9*E9+($A$4-80)*AG9*$A$8/1000","v":18.071999999999999},{"$f":"AA9*G9+($A$4-80)*AH9*$A$8/1000","v":17.802240000000001},{"$f":"AB9*I9+($A$4-80)*AI9*$A$8/1000","v":17.51904},{"$f":"AC9*K9+($A$4-80)*AJ9*$A$8/1000","v":17.2224},{"$f":"AD9*M9+($A$4-80)*AK9*$A$8/1000","v":16.943040000000003},{"$f":"AE9*O9+($A$4-80)*AL9*$A$8/1000","v":16.640640000000001}]
[null,65,24,19.799999999999997,23.376000000000001,19.51896,22.751999999999999,19.225439999999999,22.128,18.97476,21.503999999999998,18.708479999999998,20.783999999999999,18.393840000000001,20.064,18.057600000000001,null,1,0.97400000000000009,0.94799999999999995,0.92199999999999993,0.89599999999999991,0.86599999999999999,0.83599999999999997,0.82499999999999996,0.83499999999999996,0.84499999999999997,0.85749999999999993,0.87,0.88500000000000001,0.9,0.9,0.9,0.9,0.9,0.9,0.9,0.81145999999999985,19.799999999999997,{"$f":"Z10*E10+($A$4-80)*AG10*$A$8/1000","v":19.51896},{"$f":"AA10*G10+($A$4-80)*AH10*$A$8/1000","v":19.225439999999999},18.97476,18.708479999999998,18.393840000000001,18.057600000000001]
[null,63,23.231999999999999,21.141120000000001,22.656000000000002,20.843520000000002,22.080000000000002,20.534400000000002,21.503999999999998,20.321279999999998,20.928000000000001,20.090879999999999,20.256,19.749600000000001,19.584,19.388159999999999,null,0.96799999999999997,0.94400000000000006,0.92,0.89599999999999991,0.872,0.84400000000000008,0.81599999999999995,0.91,0.92,0.93,0.94500000000000006,0.96,0.97499999999999998,0.99,0.77461400000000014,0.73776799999999998,0.70092199999999982,0.64565299999999981,0.59038400000000024,0.53511500000000023,0.47984600000000022,21.141120000000001,{"$f":"Z11*E11+($A$4-80)*AG11*$A$8/1000","v":20.843520000000002},{"$f":"AA11*G11+($A$4-80)*AH11*$A$8/1000","v":20.534400000000002},{"$f":"AB11*I11+($A$4-80)*AI11*$A$8/1000","v":20.321279999999998},20.090879999999999,19.749600000000001,19.388159999999999]
[800,71,26.688000000000002,16.546560000000003,26.016000000000002,16.260000000000002,25.344000000000001,15.96672,24.672000000000001,15.790080000000001,24,15.600000000000001,23.136000000000003,15.154080000000002,22.271999999999998,14.69952,null,1.1120000000000001,1.0840000000000001,1.056,1.028,1,0.96400000000000008,0.92799999999999994,0.62,0.625,0.63,0.64,0.65,0.65500000000000003,0.66,0.9,0.9,0.9,0.9,0.9,0.9,0.9,{"$f":"Y12*C12+($A$4-80)*AF12*$A$12/1000","v":16.546560000000003},{"$f":"Z12*E12+($A$4-80)*AG12*$A$12/1000","v":16.260000000000002},{"$f":"AA12*G12+($A$4-80)*AH12*$A$12/1000","v":15.96672},{"$f":"AB12*I12+($A$4-80)*AI12*$A$12/1000","v":15.790080000000001},{"$f":"AC12*K12+($A$4-80)*AJ12*$A$12/1000","v":15.600000000000001},{"$f":"AD12*M12+($A$4-80)*AK12*$A$12/1000","v":15.154080000000002},{"$f":"AE12*O12+($A$4-80)*AL12*$A$12/1000","v":14.69952}]
[null,67,25.344000000000001,19.768320000000003,24.672000000000001,19.490880000000001,24,19.200000000000003,23.327999999999999,18.895680000000002,22.656000000000002,18.577920000000002,21.888000000000002,18.276479999999999,21.12,17.952000000000002,null,1.056,1.028,1,0.97199999999999998,0.94400000000000006,0.91200000000000003,0.88,0.78,0.79,0.8,0.81,0.82,0.83499999999999996,0.85,0.9,0.9,0.9,0.9,0.9,0.9,0.9,{"$f":"Y13*C13+($A$4-80)*AF13*$A$12/1000","v":19.768320000000003},{"$f":"Z13*E13+($A$4-80)*AG13*$A$12/1000","v":19.490880000000001},{"$f":"AA13*G13+($A$4-80)*AH13*$A$12/1000","v":19.200000000000003},{"$f":"AB13*I13+($A$4-80)*AI13*$A$12/1000","v":18.895680000000002},{"$f":"AC13*K13+($A$4-80)*AJ13*$A$12/1000","v":18.577920000000002},{"$f":"AD13*M13+($A$4-80)*AK13*$A$12/1000","v":18.276479999999999},{"$f":"AE13*O13+($A$4-80)*AL13*$A$12/1000","v":17.952000000000002}]
[null,65,24.672000000000001,21.341280000000001,24,21.06,23.327999999999999,20.76192,22.704000000000001,20.433599999999998,22.080000000000002,20.0928,21.36,19.597799999999999,20.64,19.092000000000002,null,1.028,1,0.97199999999999998,0.94599999999999995,0.92,0.89,0.86,0.86499999999999999,0.87749999999999995,0.89,0.89999999999999991,0.90999999999999992,0.91749999999999998,0.92500000000000004,0.9,0.9,0.9,0.81146000000000029,0.77461400000000058,0.74697950000000013,0.71934500000000012,21.341280000000001,{"$f":"Z14*E14+($A$4-80)*AG14*$A$12/1000","v":21.06},{"$f":"AA14*G14+($A$4-80)*AH14*$A$12/1000","v":20.76192},20.433599999999998,20.0928,19.597799999999999,19.092000000000002]
[null,63,24,22.799999999999997,23.327999999999999,22.511519999999997,22.656000000000002,22.20288,22.080000000000002,21.859200000000001,21.503999999999998,21.503999999999998,20.832000000000001,20.832000000000001,20.16,20.16,null,1,0.97199999999999998,0.94400000000000006,0.92,0.89599999999999991,0.86799999999999999,0.84,0.95,0.96499999999999997,0.98,0.99,1,1,1,0.6272300000000004,0.57196100000000039,0.51669199999999993,0.47984600000000022,0.44300000000000006,0.44300000000000006,0.44300000000000006,22.799999999999997,{"$f":"Z15*E15+($A$4-80)*AG15*$A$12/1000","v":22.511519999999997},{"$f":"AA15*G15+($A$4-80)*AH15*$A$12/1000","v":22.20288},21.859200000000001,21.503999999999998,20.832000000000001,20.16]
[900,71,27.263999999999996,17.448959999999996,26.591999999999999,17.15184,25.92,16.848000000000003,25.152000000000001,16.60032,24.384,16.33728,23.52,16.1112,22.656000000000002,15.859200000000001,null,1.1359999999999999,1.1079999999999999,1.08,1.048,1.016,0.98,0.94400000000000006,0.64,0.64500000000000002,0.65,0.66,0.67,0.68500000000000005,0.7,0.9,0.9,0.9,0.9,0.9,0.9,0.9,{"$f":"Y16*C16+($A$4-80)*AF16*$A$16/1000","v":17.448959999999996},{"$f":"Z16*E16+($A$4-80)*AG16*$A$16/1000","v":17.15184},{"$f":"AA16*G16+($A$4-80)*AH16*$A$16/1000","v":16.848000000000003},{"$f":"AB16*I16+($A$4-80)*AI16*$A$16/1000","v":16.60032},{"$f":"AC16*K16+($A$4-80)*AJ16*$A$16/1000","v":16.33728},{"$f":"AD16*M16+($A$4-80)*AK16*$A$16/1000","v":16.1112},{"$f":"AE16*O16+($A$4-80)*AL16*$A$16/1000","v":15.859200000000001}]
[null,67,25.92,20.736000000000004,25.248000000000001,20.577120000000001,24.576000000000001,20.39808,23.808,19.87968,23.04,19.3536,22.271999999999998,19.265279999999997,21.503999999999998,19.138559999999998,null,1.08,1.052,1.024,0.99199999999999999,0.96,0.92799999999999994,0.89599999999999991,0.8,0.81499999999999995,0.83,0.83499999999999996,0.84,0.86499999999999999,0.89,0.9,0.9,0.9,0.9,0.9,0.9,0.9,{"$f":"Y17*C17+($A$4-80)*AF17*$A$16/1000","v":20.736000000000004},{"$f":"Z17*E17+($A$4-80)*AG17*$A$16/1000","v":20.577120000000001},{"$f":"AA17*G17+($A$4-80)*AH17*$A$16/1000","v":20.39808},{"$f":"AB17*I17+($A$4-80)*AI17*$A$16/1000","v":19.87968},{"$f":"AC17*K17+($A$4-80)*AJ17*$A$16/1000","v":19.3536},{"$f":"AD17*M17+($A$4-80)*AK17*$A$16/1000","v":19.265279999999997},{"$f":"AE17*O17+($A$4-80)*AL17*$A$16/1000","v":19.138559999999998}]
[null,65,25.248000000000001,22.596960000000003,24.576000000000001,22.24128,23.904,21.872160000000001,23.231999999999999,21.315359999999998,22.56,20.755199999999999,21.84,20.3658,21.12,19.958400000000001,null,1.052,1.024,0.996,0.96799999999999997,0.94,0.91,0.88,0.89500000000000002,0.90500000000000003,0.91500000000000004,0.91749999999999998,0.91999999999999993,0.9325,0.94500000000000006,0.9,0.79303699999999999,0.75619099999999984,0.74697950000000013,0.73776800000000042,0.69171050000000012,0.64565299999999981,22.596960000000003,{"$f":"Z18*E18+($A$4-80)*AG18*$A$16/1000","v":22.24128},{"$f":"AA18*G18+($A$4-80)*AH18*$A$16/1000","v":21.872160000000001},21.315359999999998,20.755199999999999,20.3658,19.958400000000001]
[null,63,24.576000000000001,24.33024,23.904,23.784479999999999,23.231999999999999,23.231999999999999,22.656000000000002,22.656000000000002,22.080000000000002,22.080000000000002,21.408000000000001,21.408000000000001,20.736000000000004,20.736000000000004,null,1.024,0.996,0.96799999999999997,0.94400000000000006,0.92,0.89200000000000002,0.8640000000000001,0.99,0.995,1,1,1,1,1,0.47984600000000022,0.46142299999999992,0.44300000000000006,0.44300000000000006,0.44300000000000006,0.44300000000000006,0.44300000000000006,24.33024,{"$f":"Z19*E19+($A$4-80)*AG19*$A$16/1000","v":23.784479999999999},{"$f":"AA19*G19+($A$4-80)*AH19*$A$16/1000","v":23.231999999999999},22.656000000000002,22.080000000000002,21.408000000000001,20.736000000000004]

{"sheet":"4AC14L_30","index":36,"n_rows":19,"n_cols":45,"rows_kept":19,"cut":false,"hidden":true,"merged":[[130,0,133,0],[120,12,121,12],[120,13,121,13],[120,14,121,14],[120,15,121,15],[122,0,125,0],[126,0,129,0],[119,12,119,13],[119,14,119,15],[120,4,121,4],[120,5,121,5],[120,6,121,6],[120,7,121,7],[120,8,121,8],[120,9,121,9],[120,10,121,10],[120,11,121,11],[119,0,121,0],[119,1,121,1],[119,4,119,5],[119,6,119,7],[119,8,119,9],[119,10,119,11],[111,0,114,0],[117,0,118,1],[117,4,117,15],[118,4,118,5],[118,6,118,7],[118,8,118,9],[118,10,118,11],[118,12,118,13],[118,14,118,15],[101,12,102,12],[101,13,102,13],[101,14,102,14],[101,15,102,15],[103,0,106,0],[107,0,110,0],[100,12,100,13],[100,14,100,15],[101,4,102,4],[101,5,102,5],[101,6,102,6],[101,7,102,7],[101,8,102,8],[101,9,102,9],[101,10,102,10],[101,11,102,11],[100,0,102,0],[100,1,102,1],[100,4,100,5],[100,6,100,7],[100,8,100,9],[100,10,100,11],[92,0,95,0],[98,0,99,1],[98,4,98,15],[99,4,99,5],[99,6,99,7],[99,8,99,9],[99,10,99,11],[99,12,99,13],[99,14,99,15],[82,12,83,12],[82,13,83,13],[82,14,83,14],[82,15,83,15],[84,0,87,0],[88,0,91,0],[81,12,81,13],[81,14,81,15],[82,4,83,4],[82,5,83,5],[82,6,83,6],[82,7,83,7],[82,8,83,8],[82,9,83,9],[82,10,83,10],[82,11,83,11],[81,0,83,0],[81,1,83,1],[81,4,81,5],[81,6,81,7],[81,8,81,9],[81,10,81,11],[73,0,76,0],[79,0,80,1],[79,4,79,15],[80,4,80,5],[80,6,80,7],[80,8,80,9],[80,10,80,11],[80,12,80,13],[80,14,80,15],[63,12,64,12],[63,13,64,13],[63,14,64,14],[63,15,64,15],[65,0,68,0],[69,0,72,0],[62,12,62,13],[62,14,62,15],[63,4,64,4],[63,5,64,5],[63,6,64,6],[63,7,64,7],[63,8,64,8],[63,9,64,9],[63,10,64,10],[63,11,64,11],[62,0,64,0],[62,1,64,1],[62,4,62,5],[62,6,62,7],[62,8,62,9],[62,10,62,11],[54,0,57,0],[60,0,61,1],[60,4,60,15],[61,4,61,5],[61,6,61,7],[61,8,61,9],[61,10,61,11],[61,12,61,13],[61,14,61,15],[44,12,45,12],[44,13,45,13],[44,14,45,14],[44,15,45,15],[46,0,49,0],[50,0,53,0],[43,12,43,13],[43,14,43,15],[44,4,45,4],[44,5,45,5],[44,6,45,6],[44,7,45,7],[44,8,45,8],[44,9,45,9],[44,10,45,10],[44,11,45,11],[43,0,45,0],[43,1,45,1],[43,4,43,5],[43,6,43,7],[43,8,43,9],[43,10,43,11],[35,0,38,0],[41,0,42,1],[41,4,41,15],[42,4,42,5],[42,6,42,7],[42,8,42,9],[42,10,42,11],[42,12,42,13],[42,14,42,15],[25,12,26,12],[25,13,26,13],[25,14,26,14],[25,15,26,15],[27,0,30,0],[31,0,34,0],[24,12,24,13],[24,14,24,15],[25,4,26,4],[25,5,26,5],[25,6,26,6],[25,7,26,7],[25,8,26,8],[25,9,26,9],[25,10,26,10],[25,11,26,11],[24,0,26,0],[24,1,26,1],[24,4,24,5],[24,6,24,7],[24,8,24,9],[24,10,24,11],[7,0,10,0],[11,0,14,0],[15,0,18,0],[22,4,22,15],[23,4,23,5],[23,6,23,7],[23,8,23,9],[23,10,23,11],[23,12,23,13],[23,14,23,15],[5,10,6,10],[5,11,6,11],[5,12,6,12],[5,13,6,13],[5,14,6,14],[5,15,6,15],[4,10,4,11],[4,12,4,13],[4,14,4,15],[5,2,6,2],[5,3,6,3],[5,4,6,4],[5,5,6,5],[5,6,6,6],[5,7,6,7],[5,8,6,8],[4,0,6,0],[4,1,6,1],[4,2,4,3],[4,4,4,5],[4,6,4,7],[4,8,4,9],[5,9,6,9],[2,0,2,1],[2,2,2,15],[3,2,3,3],[3,4,3,5],[3,6,3,7],[3,8,3,9],[3,10,3,11],[3,12,3,13],[3,14,3,15]]}
[]
["4AC14L_30",30]
["Evaporator Air \n",null,"Condenser  Entering Air Temperature ˚F"]
[80,"°F DB",85,null,90,null,95,null,100,null,105,null,110,null,115]
["CFM","EWB†\n˚F","Capacity Mbtuh",null,"Capacity Mbtuh",null,"Capacity Mbtuh",null,"Capacity Mbtuh",null,"Capacity Mbtuh",null,"Capacity Mbtuh",null,"Capacity Mbtuh"]
[null,null,"Total","Sens.","Total","Sens.","Total","Sens.","Total","Sens.","Total","Sens.","Total","Sens.","Total","Sens."]
[null,null,null,null,null,null,null,null,null,null,null,null,null,null,null,null,null,"Total Factors",null,null,null,null,null,null,"Sens. %",null,null,null,null,null,null,"IDB Adj",null,null,null,null,null,null,"Sens Calc"]
[875,71,{"$f":"R8*$B$2","v":32.432432432432428},{"$f":"IF(AM8>C8,C8,AM8)","v":19.459459459459456},{"$f":"S8*$B$2","v":31.722972972972975},{"$f":"IF(AN8>E8,E8,AN8)","v":19.351013513513514},{"$f":"T8*$B$2","v":31.013513513513512},{"$f":"IF(AO8>G8,G8,AO8)","v":19.228378378378377},{"$f":"U8*$B$2","v":30.101351351351354},{"$f":"IF(AP8>I8,I8,AP8)","v":18.813344594594597},{"$f":"V8*$B$2","v":29.189189189189186},{"$f":"IF(AQ8>K8,K8,AQ8)","v":18.389189189189189},{"$f":"W8*$B$2","v":28.277027027027025},{"$f":"IF(AR8>M8,M8,AR8)","v":18.097297297297295},{"$f":"X8*$B$2","v":27.364864864864867},{"$f":"IF(AS8>O8,O8,AS8)","v":17.787162162162165},null,1.0810810810810809,1.0574324324324325,1.0337837837837838,1.0033783783783785,0.97297297297297292,0.94256756756756743,0.91216216216216217,0.6,0.61,0.62,0.625,0.63,0.64,0.65,{"$f":"IF(Y8<0.9,0.9,Y8*-3.6846+4.1276)","v":0.9},{"$f":"IF(Z8<0.9,0.9,Z8*-3.6846+4.1276)","v":0.9},0.9,0.9,0.9,0.9,0.9,{"$f":"Y8*C8+($A$4-80)*AF8*$A$8/1000","v":19.459459459459456},{"$f":"Z8*E8+($A$4-80)*AG8*$A$8/1000","v":19.351013513513514},{"$f":"AA8*G8+($A$4-80)*AH8*$A$8/1000","v":19.228378378378377},{"$f":"AB8*I8+($A$4-80)*AI8*$A$8/1000","v":18.813344594594597},{"$f":"AC8*K8+($A$4-80)*AJ8*$A$8/1000","v":18.389189189189189},{"$f":"AD8*M8+($A$4-80)*AK8*$A$8/1000","v":18.097297297297295},{"$f":"AE8*O8+($A$4-80)*AL8*$A$8/1000","v":17.787162162162165}]
[null,67,30.810810810810811,23.108108108108109,30.101351351351347,{"$f":"IF(AN9>E9,E9,AN9)","v":22.877027027027026},29.391891891891891,{"$f":"IF(AO9>G9,G9,AO9)","v":22.631756756756758},28.47972972972973,{"$f":"IF(AP9>I9,I9,AP9)","v":22.356587837837839},27.567567567567565,{"$f":"IF(AQ9>K9,K9,AQ9)","v":22.054054054054053},26.756756756756754,{"$f":"IF(AR9>M9,M9,AR9)","v":21.672972972972971},25.945945945945947,{"$f":"IF(AS9>O9,O9,AS9)","v":21.275675675675675},null,1.027027027027027,1.0033783783783783,0.97972972972972971,0.94932432432432434,0.91891891891891886,0.89189189189189177,0.86486486486486491,0.75,0.76,0.77,0.78500000000000003,0.8,0.81,0.82,{"$f":"IF(Y9<0.9,0.9,Y9*-3.6846+4.1276)","v":0.9},0.9,0.9,0.9,0.9,0.9,0.9,{"$f":"Y9*C9+($A$4-80)*AF9*$A$8/1000","v":23.108108108108109},{"$f":"Z9*E9+($A$4-80)*AG9*$A$8/1000","v":22.877027027027026},{"$f":"AA9*G9+($A$4-80)*AH9*$A$8/1000","v":22.631756756756758},{"$f":"AB9*I9+($A$4-80)*AI9*$A$8/1000","v":22.356587837837839},{"$f":"AC9*K9+($A$4-80)*AJ9*$A$8/1000","v":22.054054054054053},{"$f":"AD9*M9+($A$4-80)*AK9*$A$8/1000","v":21.672972972972971},{"$f":"AE9*O9+($A$4-80)*AL9*$A$8/1000","v":21.275675675675675}]
[null,65,29.898648648648649,24.965371621621621,29.189189189189186,24.737837837837834,28.47972972972973,24.492567567567566,27.668918918918919,24.210304054054056,26.858108108108105,23.903716216216214,26.047297297297295,23.442567567567561,25.236486486486484,22.965202702702697,null,0.9966216216216216,0.97297297297297292,0.94932432432432434,0.92229729729729726,0.89527027027027017,0.8682432432432432,0.84121621621621612,0.83499999999999996,0.84749999999999992,0.86,0.875,0.89,0.89999999999999991,0.90999999999999992,0.9,0.9,0.9,0.9,0.9,0.81146000000000029,0.77461400000000058,24.965371621621621,{"$f":"Z10*E10+($A$4-80)*AG10*$A$8/1000","v":24.737837837837834},{"$f":"AA10*G10+($A$4-80)*AH10*$A$8/1000","v":24.492567567567566},24.210304054054056,23.903716216216214,23.442567567567561,22.965202702702697]
[null,63,28.986486486486488,26.66756756756757,28.277027027027025,26.439020270270269,27.567567567567565,26.189189189189186,26.858108108108105,25.918074324324319,26.148648648648649,25.625675675675677,25.337837837837835,25.084459459459456,24.527027027027025,24.527027027027025,null,0.96621621621621623,0.94256756756756743,0.91891891891891886,0.89527027027027017,0.8716216216216216,0.84459459459459452,0.81756756756756754,0.92,0.93500000000000005,0.95,0.96499999999999997,0.98,0.99,1,0.73776799999999998,0.68249899999999997,0.6272300000000004,0.57196100000000039,0.51669199999999993,0.47984600000000022,0.44300000000000006,26.66756756756757,{"$f":"Z11*E11+($A$4-80)*AG11*$A$8/1000","v":26.439020270270269},{"$f":"AA11*G11+($A$4-80)*AH11*$A$8/1000","v":26.189189189189186},{"$f":"AB11*I11+($A$4-80)*AI11*$A$8/1000","v":25.918074324324319},25.625675675675677,25.084459459459456,24.527027027027025]
[1000,71,33.243243243243235,20.943243243243238,32.432432432432428,20.594594594594593,31.621621621621617,20.237837837837837,30.810810810810811,20.027027027027028,30,19.8,28.986486486486488,19.420945945945949,27.972972972972975,19.021621621621623,null,1.1081081081081079,1.0810810810810809,1.0540540540540539,1.027027027027027,1,0.96621621621621623,0.93243243243243246,0.63,0.63500000000000001,0.64,0.65,0.66,0.67,0.68,0.9,0.9,0.9,0.9,0.9,0.9,0.9,{"$f":"Y12*C12+($A$4-80)*AF12*$A$12/1000","v":20.943243243243238},{"$f":"Z12*E12+($A$4-80)*AG12*$A$12/1000","v":20.594594594594593},{"$f":"AA12*G12+($A$4-80)*AH12*$A$12/1000","v":20.237837837837837},{"$f":"AB12*I12+($A$4-80)*AI12*$A$12/1000","v":20.027027027027028},{"$f":"AC12*K12+($A$4-80)*AJ12*$A$12/1000","v":19.8},{"$f":"AD12*M12+($A$4-80)*AK12*$A$12/1000","v":19.420945945945949},{"$f":"AE12*O12+($A$4-80)*AL12*$A$12/1000","v":19.021621621621623}]
[null,67,31.621621621621617,24.981081081081079,30.810810810810811,24.648648648648649,30,24.3,29.189189189189186,23.935135135135134,28.378378378378379,23.554054054054053,27.466216216216218,23.208952702702703,26.554054054054053,22.836486486486486,null,1.0540540540540539,1.027027027027027,1,0.97297297297297292,0.94594594594594594,0.91554054054054057,0.88513513513513509,0.79,0.8,0.81,0.82000000000000006,0.83,0.84499999999999997,0.86,0.9,0.9,0.9,0.9,0.9,0.9,0.9,{"$f":"Y13*C13+($A$4-80)*AF13*$A$12/1000","v":24.981081081081079},{"$f":"Z13*E13+($A$4-80)*AG13*$A$12/1000","v":24.648648648648649},{"$f":"AA13*G13+($A$4-80)*AH13*$A$12/1000","v":24.3},{"$f":"AB13*I13+($A$4-80)*AI13*$A$12/1000","v":23.935135135135134},{"$f":"AC13*K13+($A$4-80)*AJ13*$A$12/1000","v":23.554054054054053},{"$f":"AD13*M13+($A$4-80)*AK13*$A$12/1000","v":23.208952702702703},{"$f":"AE13*O13+($A$4-80)*AL13*$A$12/1000","v":22.836486486486486}]
[null,65,30.709459459459453,27.024324324324319,29.949324324324319,26.654898648648643,29.189189189189186,26.270270270270267,28.429054054054053,25.799366554054053,27.668918918918919,25.317060810810812,26.807432432432435,24.729856418918921,25.945945945945947,24.129729729729728,null,1.0236486486486485,0.99831081081081063,0.97297297297297292,0.94763513513513509,0.92229729729729726,0.89358108108108114,0.86486486486486491,0.88,0.89,0.9,0.90749999999999997,0.91500000000000004,0.92249999999999999,0.92999999999999994,0.9,0.9,0.81145999999999985,0.78382550000000029,0.75619099999999984,0.72855650000000027,0.70092200000000027,27.024324324324319,{"$f":"Z14*E14+($A$4-80)*AG14*$A$12/1000","v":26.654898648648643},{"$f":"AA14*G14+($A$4-80)*AH14*$A$12/1000","v":26.270270270270267},25.799366554054053,25.317060810810812,24.729856418918921,24.129729729729728]
[null,63,29.797297297297295,28.903378378378374,29.087837837837835,28.506081081081078,28.378378378378379,28.094594594594597,27.668918918918919,27.530574324324323,26.95945945945946,26.95945945945946,26.148648648648649,26.148648648648649,25.337837837837835,25.337837837837835,null,0.9932432432432432,0.96959459459459452,0.94594594594594594,0.92229729729729726,0.89864864864864868,0.8716216216216216,0.84459459459459452,0.97,0.98,0.99,0.995,1,1,1,0.55353800000000009,0.51669199999999993,0.47984600000000022,0.46142299999999992,0.44300000000000006,0.44300000000000006,0.44300000000000006,28.903378378378374,{"$f":"Z15*E15+($A$4-80)*AG15*$A$12/1000","v":28.506081081081078},{"$f":"AA15*G15+($A$4-80)*AH15*$A$12/1000","v":28.094594594594597},27.530574324324323,26.95945945945946,26.148648648648649,25.337837837837835]
[1125,71,34.054054054054049,22.135135135135133,33.141891891891895,21.70793918918919,32.229729729729733,21.271621621621627,31.317567567567565,20.982770270270269,30.4054054054054,20.675675675675674,29.493243243243242,20.350337837837834,28.581081081081081,20.006756756756754,null,1.1351351351351351,1.1047297297297298,1.0743243243243243,1.0439189189189189,1.0135135135135134,0.98310810810810811,0.95270270270270263,0.65,0.65500000000000003,0.66,0.67,0.68,0.69,0.7,0.9,0.9,0.9,0.9,0.9,0.9,0.9,{"$f":"Y16*C16+($A$4-80)*AF16*$A$16/1000","v":22.135135135135133},{"$f":"Z16*E16+($A$4-80)*AG16*$A$16/1000","v":21.70793918918919},{"$f":"AA16*G16+($A$4-80)*AH16*$A$16/1000","v":21.271621621621627},{"$f":"AB16*I16+($A$4-80)*AI16*$A$16/1000","v":20.982770270270269},{"$f":"AC16*K16+($A$4-80)*AJ16*$A$16/1000","v":20.675675675675674},{"$f":"AD16*M16+($A$4-80)*AK16*$A$16/1000","v":20.350337837837834},{"$f":"AE16*O16+($A$4-80)*AL16*$A$16/1000","v":20.006756756756754}]
[null,67,32.229729729729733,26.42837837837838,31.418918918918916,26.234797297297295,30.608108108108105,26.016891891891888,29.69594594594594,25.538513513513507,28.783783783783779,25.041891891891886,27.871621621621621,24.805743243243242,26.95945945945946,24.533108108108109,null,1.0743243243243243,1.0472972972972971,1.0202702702702702,0.98986486486486469,0.95945945945945932,0.92905405405405406,0.89864864864864868,0.82,0.83499999999999996,0.85,0.86,0.87,0.89,0.91,0.9,0.9,0.9,0.9,0.9,0.9,0.77461400000000014,{"$f":"Y17*C17+($A$4-80)*AF17*$A$16/1000","v":26.42837837837838},{"$f":"Z17*E17+($A$4-80)*AG17*$A$16/1000","v":26.234797297297295},{"$f":"AA17*G17+($A$4-80)*AH17*$A$16/1000","v":26.016891891891888},{"$f":"AB17*I17+($A$4-80)*AI17*$A$16/1000","v":25.538513513513507},{"$f":"AC17*K17+($A$4-80)*AJ17*$A$16/1000","v":25.041891891891886},{"$f":"AD17*M17+($A$4-80)*AK17*$A$16/1000","v":24.805743243243242},{"$f":"AE17*O17+($A$4-80)*AL17*$A$16/1000","v":24.533108108108109}]
[null,65,31.418918918918916,28.59121621621621,30.658783783783782,28.129434121621621,29.898648648648649,27.65625,29.087837837837835,27.051689189189187,28.277027027027025,26.439020270270269,27.41554054054054,25.907685810810811,26.554054054054056,25.359121621621625,null,1.0472972972972971,1.0219594594594594,0.9966216216216216,0.96959459459459452,0.94256756756756743,0.91385135135135132,0.8851351351351352,0.90999999999999992,0.91749999999999998,0.92500000000000004,0.93,0.93500000000000005,0.94500000000000006,0.95500000000000007,0.77461400000000058,0.74697950000000013,0.71934500000000012,0.70092199999999982,0.68249899999999997,0.64565299999999981,0.60880699999999965,28.59121621621621,{"$f":"Z18*E18+($A$4-80)*AG18*$A$16/1000","v":28.129434121621621},{"$f":"AA18*G18+($A$4-80)*AH18*$A$16/1000","v":27.65625},27.051689189189187,26.439020270270269,25.907685810810811,25.359121621621625]
[null,63,30.608108108108105,30.608108108108105,29.898648648648649,29.898648648648649,29.189189189189186,29.189189189189186,28.47972972972973,28.47972972972973,27.770270270270267,27.770270270270267,26.95945945945946,26.95945945945946,26.148648648648649,26.148648648648649,null,1.0202702702702702,0.9966216216216216,0.97297297297297292,0.94932432432432434,0.92567567567567555,0.89864864864864868,0.8716216216216216,1,1,1,1,1,1,1,0.44300000000000006,0.44300000000000006,0.44300000000000006,0.44300000000000006,0.44300000000000006,0.44300000000000006,0.44300000000000006,30.608108108108105,{"$f":"Z19*E19+($A$4-80)*AG19*$A$16/1000","v":29.898648648648649},{"$f":"AA19*G19+($A$4-80)*AH19*$A$16/1000","v":29.189189189189186},28.47972972972973,27.770270270270267,26.95945945945946,26.148648648648649]

{"sheet":"4AC14L_36","index":37,"n_rows":19,"n_cols":45,"rows_kept":19,"cut":false,"hidden":true,"merged":[[130,0,133,0],[120,12,121,12],[120,13,121,13],[120,14,121,14],[120,15,121,15],[122,0,125,0],[126,0,129,0],[119,12,119,13],[119,14,119,15],[120,4,121,4],[120,5,121,5],[120,6,121,6],[120,7,121,7],[120,8,121,8],[120,9,121,9],[120,10,121,10],[120,11,121,11],[119,0,121,0],[119,1,121,1],[119,4,119,5],[119,6,119,7],[119,8,119,9],[119,10,119,11],[111,0,114,0],[117,0,118,1],[117,4,117,15],[118,4,118,5],[118,6,118,7],[118,8,118,9],[118,10,118,11],[118,12,118,13],[118,14,118,15],[101,12,102,12],[101,13,102,13],[101,14,102,14],[101,15,102,15],[103,0,106,0],[107,0,110,0],[100,12,100,13],[100,14,100,15],[101,4,102,4],[101,5,102,5],[101,6,102,6],[101,7,102,7],[101,8,102,8],[101,9,102,9],[101,10,102,10],[101,11,102,11],[100,0,102,0],[100,1,102,1],[100,4,100,5],[100,6,100,7],[100,8,100,9],[100,10,100,11],[92,0,95,0],[98,0,99,1],[98,4,98,15],[99,4,99,5],[99,6,99,7],[99,8,99,9],[99,10,99,11],[99,12,99,13],[99,14,99,15],[82,12,83,12],[82,13,83,13],[82,14,83,14],[82,15,83,15],[84,0,87,0],[88,0,91,0],[81,12,81,13],[81,14,81,15],[82,4,83,4],[82,5,83,5],[82,6,83,6],[82,7,83,7],[82,8,83,8],[82,9,83,9],[82,10,83,10],[82,11,83,11],[81,0,83,0],[81,1,83,1],[81,4,81,5],[81,6,81,7],[81,8,81,9],[81,10,81,11],[73,0,76,0],[79,0,80,1],[79,4,79,15],[80,4,80,5],[80,6,80,7],[80,8,80,9],[80,10,80,11],[80,12,80,13],[80,14,80,15],[63,12,64,12],[63,13,64,13],[63,14,64,14],[63,15,64,15],[65,0,68,0],[69,0,72,0],[62,12,62,13],[62,14,62,15],[63,4,64,4],[63,5,64,5],[63,6,64,6],[63,7,64,7],[63,8,64,8],[63,9,64,9],[63,10,64,10],[63,11,64,11],[62,0,64,0],[62,1,64,1],[62,4,62,5],[62,6,62,7],[62,8,62,9],[62,10,62,11],[54,0,57,0],[60,0,61,1],[60,4,60,15],[61,4,61,5],[61,6,61,7],[61,8,61,9],[61,10,61,11],[61,12,61,13],[61,14,61,15],[44,12,45,12],[44,13,45,13],[44,14,45,14],[44,15,45,15],[46,0,49,0],[50,0,53,0],[43,12,43,13],[43,14,43,15],[44,4,45,4],[44,5,45,5],[44,6,45,6],[44,7,45,7],[44,8,45,8],[44,9,45,9],[44,10,45,10],[44,11,45,11],[43,0,45,0],[43,1,45,1],[43,4,43,5],[43,6,43,7],[43,8,43,9],[43,10,43,11],[35,0,38,0],[41,0,42,1],[41,4,41,15],[42,4,42,5],[42,6,42,7],[42,8,42,9],[42,10,42,11],[42,12,42,13],[42,14,42,15],[25,12,26,12],[25,13,26,13],[25,14,26,14],[25,15,26,15],[27,0,30,0],[31,0,34,0],[24,12,24,13],[24,14,24,15],[25,4,26,4],[25,5,26,5],[25,6,26,6],[25,7,26,7],[25,8,26,8],[25,9,26,9],[25,10,26,10],[25,11,26,11],[24,0,26,0],[24,1,26,1],[24,4,24,5],[24,6,24,7],[24,8,24,9],[24,10,24,11],[7,0,10,0],[11,0,14,0],[15,0,18,0],[22,4,22,15],[23,4,23,5],[23,6,23,7],[23,8,23,9],[23,10,23,11],[23,12,23,13],[23,14,23,15],[5,10,6,10],[5,11,6,11],[5,12,6,12],[5,13,6,13],[5,14,6,14],[5,15,6,15],[4,10,4,11],[4,12,4,13],[4,14,4,15],[5,2,6,2],[5,3,6,3],[5,4,6,4],[5,5,6,5],[5,6,6,6],[5,7,6,7],[5,8,6,8],[4,0,6,0],[4,1,6,1],[4,2,4,3],[4,4,4,5],[4,6,4,7],[4,8,4,9],[5,9,6,9],[2,0,2,1],[2,2,2,15],[3,2,3,3],[3,4,3,5],[3,6,3,7],[3,8,3,9],[3,10,3,11],[3,12,3,13],[3,14,3,15]]}
[]
["4AC14L_36",36]
["Evaporator Air \n",null,"Condenser  Entering Air Temperature ˚F"]
[80,"°F DB",85,null,90,null,95,null,100,null,105,null,110,null,115]
["CFM","EWB†\n˚F","Capacity Mbtuh",null,"Capacity Mbtuh",null,"Capacity Mbtuh",null,"Capacity Mbtuh",null,"Capacity Mbtuh",null,"Capacity Mbtuh",null,"Capacity Mbtuh"]
[null,null,"Total","Sens.","Total","Sens.","Total","Sens.","Total","Sens.","Total","Sens.","Total","Sens.","Total","Sens."]
[null,null,null,null,null,null,null,null,null,null,null,null,null,null,null,null,null,"Total Factors",null,null,null,null,null,null,"Sens. %",null,null,null,null,null,null,"IDB Adj",null,null,null,null,null,null,"Sens Calc"]
[1050,71,{"$f":"R8*$B$2","v":38.879999999999995},{"$f":"IF(AM8>C8,C8,AM8)","v":23.716799999999996},{"$f":"S8*$B$2","v":37.954285714285717},{"$f":"IF(AN8>E8,E8,AN8)","v":23.341885714285716},{"$f":"T8*$B$2","v":37.028571428571425},{"$f":"IF(AO8>G8,G8,AO8)","v":22.957714285714282},{"$f":"U8*$B$2","v":36.102857142857147},{"$f":"IF(AP8>I8,I8,AP8)","v":22.564285714285717},{"$f":"V8*$B$2","v":35.177142857142861},{"$f":"IF(AQ8>K8,K8,AQ8)","v":22.161600000000004},{"$f":"W8*$B$2","v":34.148571428571429},{"$f":"IF(AR8>M8,M8,AR8)","v":21.684342857142859},{"$f":"X8*$B$2","v":33.120000000000005},{"$f":"IF(AS8>O8,O8,AS8)","v":21.196800000000003},null,1.0799999999999998,1.0542857142857143,1.0285714285714285,1.0028571428571429,0.9771428571428572,0.94857142857142862,0.92,0.61,0.61499999999999999,0.62,0.625,0.63,0.63500000000000001,0.64,{"$f":"IF(Y8<0.9,0.9,Y8*-3.6846+4.1276)","v":0.9},{"$f":"IF(Z8<0.9,0.9,Z8*-3.6846+4.1276)","v":0.9},0.9,0.9,0.9,0.9,0.9,{"$f":"Y8*C8+($A$4-80)*AF8*$A$8/1000","v":23.716799999999996},{"$f":"Z8*E8+($A$4-80)*AG8*$A$8/1000","v":23.341885714285716},{"$f":"AA8*G8+($A$4-80)*AH8*$A$8/1000","v":22.957714285714282},{"$f":"AB8*I8+($A$4-80)*AI8*$A$8/1000","v":22.564285714285717},{"$f":"AC8*K8+($A$4-80)*AJ8*$A$8/1000","v":22.161600000000004},{"$f":"AD8*M8+($A$4-80)*AK8*$A$8/1000","v":21.684342857142859},{"$f":"AE8*O8+($A$4-80)*AL8*$A$8/1000","v":21.196800000000003}]
[null,67,36.822857142857139,27.617142857142852,36,{"$f":"IF(AN9>E9,E9,AN9)","v":27.36},35.177142857142861,{"$f":"IF(AO9>G9,G9,AO9)","v":27.086400000000005},34.251428571428569,{"$f":"IF(AP9>I9,I9,AP9)","v":26.544857142857143},33.325714285714284,{"$f":"IF(AQ9>K9,K9,AQ9)","v":25.994057142857141},32.297142857142859,{"$f":"IF(AR9>M9,M9,AR9)","v":25.676228571428574},31.268571428571427,{"$f":"IF(AS9>O9,O9,AS9)","v":25.327542857142859},null,1.0228571428571427,1,0.9771428571428572,0.9514285714285714,0.92571428571428571,0.89714285714285713,0.86857142857142855,0.75,0.76,0.77,0.77500000000000002,0.78,0.79500000000000004,0.81,{"$f":"IF(Y9<0.9,0.9,Y9*-3.6846+4.1276)","v":0.9},0.9,0.9,0.9,0.9,0.9,0.9,{"$f":"Y9*C9+($A$4-80)*AF9*$A$8/1000","v":27.617142857142852},{"$f":"Z9*E9+($A$4-80)*AG9*$A$8/1000","v":27.36},{"$f":"AA9*G9+($A$4-80)*AH9*$A$8/1000","v":27.086400000000005},{"$f":"AB9*I9+($A$4-80)*AI9*$A$8/1000","v":26.544857142857143},{"$f":"AC9*K9+($A$4-80)*AJ9*$A$8/1000","v":25.994057142857141},{"$f":"AD9*M9+($A$4-80)*AK9*$A$8/1000","v":25.676228571428574},{"$f":"AE9*O9+($A$4-80)*AL9*$A$8/1000","v":25.327542857142859}]
[null,65,35.691428571428574,29.62388571428572,34.868571428571435,29.289600000000007,34.045714285714283,28.938857142857142,33.171428571428571,28.527428571428572,32.297142857142859,28.098514285714288,31.32,27.7182,30.342857142857142,27.30857142857143,null,0.99142857142857155,0.96857142857142875,0.94571428571428573,0.92142857142857137,0.89714285714285713,0.87,0.84285714285714286,0.83000000000000007,0.84000000000000008,0.85000000000000009,0.8600000000000001,0.87,0.88500000000000001,0.9,0.9,0.9,0.9,0.9,0.9,0.9,0.81145999999999985,29.62388571428572,{"$f":"Z10*E10+($A$4-80)*AG10*$A$8/1000","v":29.289600000000007},{"$f":"AA10*G10+($A$4-80)*AH10*$A$8/1000","v":28.938857142857142},28.527428571428572,28.098514285714288,27.7182,27.30857142857143]
[null,63,34.56,31.449600000000004,33.737142857142857,31.038171428571431,32.914285714285711,30.610285714285713,32.091428571428573,30.326400000000003,31.268571428571427,30.01782857142857,30.342857142857142,29.584285714285713,29.417142857142856,29.122971428571429,null,0.96000000000000008,0.93714285714285706,0.91428571428571426,0.89142857142857146,0.86857142857142855,0.84285714285714286,0.81714285714285717,0.91,0.92,0.93,0.94500000000000006,0.96,0.97499999999999998,0.99,0.77461400000000014,0.73776799999999998,0.70092199999999982,0.64565299999999981,0.59038400000000024,0.53511500000000023,0.47984600000000022,31.449600000000004,{"$f":"Z11*E11+($A$4-80)*AG11*$A$8/1000","v":31.038171428571431},{"$f":"AA11*G11+($A$4-80)*AH11*$A$8/1000","v":30.610285714285713},{"$f":"AB11*I11+($A$4-80)*AI11*$A$8/1000","v":30.326400000000003},30.01782857142857,29.584285714285713,29.122971428571429]
[1200,71,40.114285714285714,25.271999999999998,39.085714285714282,24.819428571428571,38.057142857142857,24.356571428571428,37.028571428571425,23.883428571428571,36,23.400000000000002,34.868571428571428,23.013257142857142,33.737142857142857,22.603885714285717,null,1.1142857142857143,1.0857142857142856,1.0571428571428572,1.0285714285714285,1,0.96857142857142853,0.93714285714285706,0.63,0.63500000000000001,0.64,0.64500000000000002,0.65,0.66,0.67,0.9,0.9,0.9,0.9,0.9,0.9,0.9,{"$f":"Y12*C12+($A$4-80)*AF12*$A$12/1000","v":25.271999999999998},{"$f":"Z12*E12+($A$4-80)*AG12*$A$12/1000","v":24.819428571428571},{"$f":"AA12*G12+($A$4-80)*AH12*$A$12/1000","v":24.356571428571428},{"$f":"AB12*I12+($A$4-80)*AI12*$A$12/1000","v":23.883428571428571},{"$f":"AC12*K12+($A$4-80)*AJ12*$A$12/1000","v":23.400000000000002},{"$f":"AD12*M12+($A$4-80)*AK12*$A$12/1000","v":23.013257142857142},{"$f":"AE12*O12+($A$4-80)*AL12*$A$12/1000","v":22.603885714285717}]
[null,67,37.851428571428571,29.524114285714287,36.925714285714278,29.171314285714281,36,28.8,34.971428571428568,28.326857142857143,33.942857142857143,27.833142857142857,32.914285714285711,27.483428571428568,31.885714285714286,27.102857142857143,null,1.0514285714285714,1.0257142857142856,1,0.97142857142857142,0.94285714285714284,0.91428571428571426,0.88571428571428568,0.78,0.79,0.8,0.81,0.82,0.83499999999999996,0.85,0.9,0.9,0.9,0.9,0.9,0.9,0.9,{"$f":"Y13*C13+($A$4-80)*AF13*$A$12/1000","v":29.524114285714287},{"$f":"Z13*E13+($A$4-80)*AG13*$A$12/1000","v":29.171314285714281},{"$f":"AA13*G13+($A$4-80)*AH13*$A$12/1000","v":28.8},{"$f":"AB13*I13+($A$4-80)*AI13*$A$12/1000","v":28.326857142857143},{"$f":"AC13*K13+($A$4-80)*AJ13*$A$12/1000","v":27.833142857142857},{"$f":"AD13*M13+($A$4-80)*AK13*$A$12/1000","v":27.483428571428568},{"$f":"AE13*O13+($A$4-80)*AL13*$A$12/1000","v":27.102857142857143}]
[null,65,36.72,31.762799999999999,35.845714285714287,31.365000000000002,34.971428571428568,30.949714285714283,34.045714285714283,30.470914285714283,33.120000000000005,29.973600000000005,32.142857142857146,29.410714285714288,31.165714285714287,28.828285714285716,null,1.02,0.99571428571428577,0.97142857142857142,0.94571428571428573,0.92,0.8928571428571429,0.86571428571428577,0.86499999999999999,0.875,0.88500000000000001,0.89500000000000002,0.90500000000000003,0.91500000000000004,0.92500000000000004,0.9,0.9,0.9,0.9,0.79303699999999999,0.75619099999999984,0.71934500000000012,31.762799999999999,{"$f":"Z14*E14+($A$4-80)*AG14*$A$12/1000","v":31.365000000000002},{"$f":"AA14*G14+($A$4-80)*AH14*$A$12/1000","v":30.949714285714283},30.470914285714283,29.973600000000005,29.410714285714288,28.828285714285716]
[null,63,35.588571428571434,33.809142857142859,34.765714285714282,33.37508571428571,33.942857142857143,32.924571428571426,33.120000000000005,32.457600000000006,32.297142857142859,31.974171428571431,31.371428571428574,31.214571428571432,30.445714285714288,30.445714285714288,null,0.98857142857142866,0.96571428571428564,0.94285714285714284,0.92,0.89714285714285713,0.87142857142857144,0.84571428571428575,0.95,0.96,0.97,0.98,0.99,0.995,1,0.6272300000000004,0.59038400000000024,0.55353800000000009,0.51669199999999993,0.47984600000000022,0.46142299999999992,0.44300000000000006,33.809142857142859,{"$f":"Z15*E15+($A$4-80)*AG15*$A$12/1000","v":33.37508571428571},{"$f":"AA15*G15+($A$4-80)*AH15*$A$12/1000","v":32.924571428571426},32.457600000000006,31.974171428571431,31.214571428571432,30.445714285714288]
[1350,71,40.628571428571426,26.002285714285712,39.651428571428568,25.575171428571426,38.674285714285716,25.138285714285715,37.645714285714291,24.846171428571434,36.617142857142859,24.533485714285717,35.485714285714288,24.130285714285712,34.354285714285716,23.704457142857141,null,1.1285714285714286,1.1014285714285714,1.0742857142857143,1.0457142857142858,1.0171428571428571,0.98571428571428577,0.95428571428571429,0.64,0.64500000000000002,0.65,0.66,0.67,0.67999999999999994,0.69,0.9,0.9,0.9,0.9,0.9,0.9,0.9,{"$f":"Y16*C16+($A$4-80)*AF16*$A$16/1000","v":26.002285714285712},{"$f":"Z16*E16+($A$4-80)*AG16*$A$16/1000","v":25.575171428571426},{"$f":"AA16*G16+($A$4-80)*AH16*$A$16/1000","v":25.138285714285715},{"$f":"AB16*I16+($A$4-80)*AI16*$A$16/1000","v":24.846171428571434},{"$f":"AC16*K16+($A$4-80)*AJ16*$A$16/1000","v":24.533485714285717},{"$f":"AD16*M16+($A$4-80)*AK16*$A$16/1000","v":24.130285714285712},{"$f":"AE16*O16+($A$4-80)*AL16*$A$16/1000","v":23.704457142857141}]
[null,67,38.468571428571423,31.159542857142853,37.542857142857144,30.785142857142862,36.617142857142859,30.392228571428571,35.588571428571434,29.894400000000005,34.56,29.376000000000001,33.428571428571431,28.915714285714287,32.297142857142859,28.421485714285716,null,1.0685714285714285,1.0428571428571429,1.0171428571428571,0.98857142857142866,0.96000000000000008,0.9285714285714286,0.89714285714285713,0.81,0.82000000000000006,0.83,0.84,0.85,0.86499999999999999,0.88,0.9,0.9,0.9,0.9,0.9,0.9,0.9,{"$f":"Y17*C17+($A$4-80)*AF17*$A$16/1000","v":31.159542857142853},{"$f":"Z17*E17+($A$4-80)*AG17*$A$16/1000","v":30.785142857142862},{"$f":"AA17*G17+($A$4-80)*AH17*$A$16/1000","v":30.392228571428571},{"$f":"AB17*I17+($A$4-80)*AI17*$A$16/1000","v":29.894400000000005},{"$f":"AC17*K17+($A$4-80)*AJ17*$A$16/1000","v":29.376000000000001},{"$f":"AD17*M17+($A$4-80)*AK17*$A$16/1000","v":28.915714285714287},{"$f":"AE17*O17+($A$4-80)*AL17*$A$16/1000","v":28.421485714285716}]
[null,65,37.44,33.508800000000001,36.565714285714279,33.091971428571426,35.691428571428574,32.657657142857147,34.765714285714289,31.984457142857146,33.840000000000003,31.302000000000003,32.862857142857145,30.644614285714287,31.885714285714286,29.972571428571428,null,1.04,1.0157142857142856,0.99142857142857155,0.96571428571428586,0.94000000000000017,0.91285714285714292,0.88571428571428568,0.89500000000000002,0.90500000000000003,0.91500000000000004,0.92,0.92500000000000004,0.9325,0.94,0.9,0.79303699999999999,0.75619099999999984,0.73776799999999998,0.71934500000000012,0.69171050000000012,0.66407600000000011,33.508800000000001,{"$f":"Z18*E18+($A$4-80)*AG18*$A$16/1000","v":33.091971428571426},{"$f":"AA18*G18+($A$4-80)*AH18*$A$16/1000","v":32.657657142857147},31.984457142857146,31.302000000000003,30.644614285714287,29.972571428571428]
[null,63,36.411428571428566,35.683199999999992,35.588571428571427,35.232685714285715,34.765714285714282,34.765714285714282,33.942857142857143,33.942857142857143,33.120000000000005,33.120000000000005,32.297142857142859,32.297142857142859,31.474285714285717,31.474285714285717,null,1.0114285714285713,0.98857142857142843,0.96571428571428564,0.94285714285714284,0.92,0.89714285714285724,0.87428571428571433,0.98,0.99,1,1,1,1,1,0.51669199999999993,0.47984600000000022,0.44300000000000006,0.44300000000000006,0.44300000000000006,0.44300000000000006,0.44300000000000006,35.683199999999992,{"$f":"Z19*E19+($A$4-80)*AG19*$A$16/1000","v":35.232685714285715},{"$f":"AA19*G19+($A$4-80)*AH19*$A$16/1000","v":34.765714285714282},33.942857142857143,33.120000000000005,32.297142857142859,31.474285714285717]

{"sheet":"4AC14L_41","index":38,"n_rows":19,"n_cols":45,"rows_kept":19,"cut":false,"hidden":true,"merged":[[130,0,133,0],[120,12,121,12],[120,13,121,13],[120,14,121,14],[120,15,121,15],[122,0,125,0],[126,0,129,0],[119,12,119,13],[119,14,119,15],[120,4,121,4],[120,5,121,5],[120,6,121,6],[120,7,121,7],[120,8,121,8],[120,9,121,9],[120,10,121,10],[120,11,121,11],[119,0,121,0],[119,1,121,1],[119,4,119,5],[119,6,119,7],[119,8,119,9],[119,10,119,11],[111,0,114,0],[117,0,118,1],[117,4,117,15],[118,4,118,5],[118,6,118,7],[118,8,118,9],[118,10,118,11],[118,12,118,13],[118,14,118,15],[101,12,102,12],[101,13,102,13],[101,14,102,14],[101,15,102,15],[103,0,106,0],[107,0,110,0],[100,12,100,13],[100,14,100,15],[101,4,102,4],[101,5,102,5],[101,6,102,6],[101,7,102,7],[101,8,102,8],[101,9,102,9],[101,10,102,10],[101,11,102,11],[100,0,102,0],[100,1,102,1],[100,4,100,5],[100,6,100,7],[100,8,100,9],[100,10,100,11],[92,0,95,0],[98,0,99,1],[98,4,98,15],[99,4,99,5],[99,6,99,7],[99,8,99,9],[99,10,99,11],[99,12,99,13],[99,14,99,15],[82,12,83,12],[82,13,83,13],[82,14,83,14],[82,15,83,15],[84,0,87,0],[88,0,91,0],[81,12,81,13],[81,14,81,15],[82,4,83,4],[82,5,83,5],[82,6,83,6],[82,7,83,7],[82,8,83,8],[82,9,83,9],[82,10,83,10],[82,11,83,11],[81,0,83,0],[81,1,83,1],[81,4,81,5],[81,6,81,7],[81,8,81,9],[81,10,81,11],[73,0,76,0],[79,0,80,1],[79,4,79,15],[80,4,80,5],[80,6,80,7],[80,8,80,9],[80,10,80,11],[80,12,80,13],[80,14,80,15],[63,12,64,12],[63,13,64,13],[63,14,64,14],[63,15,64,15],[65,0,68,0],[69,0,72,0],[62,12,62,13],[62,14,62,15],[63,4,64,4],[63,5,64,5],[63,6,64,6],[63,7,64,7],[63,8,64,8],[63,9,64,9],[63,10,64,10],[63,11,64,11],[62,0,64,0],[62,1,64,1],[62,4,62,5],[62,6,62,7],[62,8,62,9],[62,10,62,11],[54,0,57,0],[60,0,61,1],[60,4,60,15],[61,4,61,5],[61,6,61,7],[61,8,61,9],[61,10,61,11],[61,12,61,13],[61,14,61,15],[44,12,45,12],[44,13,45,13],[44,14,45,14],[44,15,45,15],[46,0,49,0],[50,0,53,0],[43,12,43,13],[43,14,43,15],[44,4,45,4],[44,5,45,5],[44,6,45,6],[44,7,45,7],[44,8,45,8],[44,9,45,9],[44,10,45,10],[44,11,45,11],[43,0,45,0],[43,1,45,1],[43,4,43,5],[43,6,43,7],[43,8,43,9],[43,10,43,11],[35,0,38,0],[41,0,42,1],[41,4,41,15],[42,4,42,5],[42,6,42,7],[42,8,42,9],[42,10,42,11],[42,12,42,13],[42,14,42,15],[25,12,26,12],[25,13,26,13],[25,14,26,14],[25,15,26,15],[27,0,30,0],[31,0,34,0],[24,12,24,13],[24,14,24,15],[25,4,26,4],[25,5,26,5],[25,6,26,6],[25,7,26,7],[25,8,26,8],[25,9,26,9],[25,10,26,10],[25,11,26,11],[24,0,26,0],[24,1,26,1],[24,4,24,5],[24,6,24,7],[24,8,24,9],[24,10,24,11],[7,0,10,0],[11,0,14,0],[15,0,18,0],[22,4,22,15],[23,4,23,5],[23,6,23,7],[23,8,23,9],[23,10,23,11],[23,12,23,13],[23,14,23,15],[5,10,6,10],[5,11,6,11],[5,12,6,12],[5,13,6,13],[5,14,6,14],[5,15,6,15],[4,10,4,11],[4,12,4,13],[4,14,4,15],[5,2,6,2],[5,3,6,3],[5,4,6,4],[5,5,6,5],[5,6,6,6],[5,7,6,7],[5,8,6,8],[4,0,6,0],[4,1,6,1],[4,2,4,3],[4,4,4,5],[4,6,4,7],[4,8,4,9],[5,9,6,9],[2,0,2,1],[2,2,2,15],[3,2,3,3],[3,4,3,5],[3,6,3,7],[3,8,3,9],[3,10,3,11],[3,12,3,13],[3,14,3,15]]}
[]
["4AC14L_41",42]
["Evaporator Air \n",null,"Condenser  Entering Air Temperature ˚F"]
[80,"°F DB",85,null,90,null,95,null,100,null,105,null,110,null,115]
["CFM","EWB†\n˚F","Capacity Mbtuh",null,"Capacity Mbtuh",null,"Capacity Mbtuh",null,"Capacity Mbtuh",null,"Capacity Mbtuh",null,"Capacity Mbtuh",null,"Capacity Mbtuh"]
[null,null,"Total","Sens.","Total","Sens.","Total","Sens.","Total","Sens.","Total","Sens.","Total","Sens.","Total","Sens."]
[null,null,null,null,null,null,null,null,null,null,null,null,null,null,null,null,null,"Total Factors",null,null,null,null,null,null,"Sens. %",null,null,null,null,null,null,"IDB Adj",null,null,null,null,null,null,"Sens Calc"]
[1225,71,{"$f":"R8*$B$2","v":45.15},{"$f":"IF(AM8>C8,C8,AM8)","v":27.541499999999999},{"$f":"S8*$B$2","v":44.1},{"$f":"IF(AN8>E8,E8,AN8)","v":27.342000000000002},{"$f":"T8*$B$2","v":43.05},{"$f":"IF(AO8>G8,G8,AO8)","v":27.121499999999997},{"$f":"U8*$B$2","v":42},{"$f":"IF(AP8>I8,I8,AP8)","v":26.67},{"$f":"V8*$B$2","v":40.949999999999996},{"$f":"IF(AQ8>K8,K8,AQ8)","v":26.207999999999998},{"$f":"W8*$B$2","v":39.69},{"$f":"IF(AR8>M8,M8,AR8)","v":25.60005},{"$f":"X8*$B$2","v":38.43},{"$f":"IF(AS8>O8,O8,AS8)","v":24.979500000000002},null,1.075,1.05,1.0249999999999999,1,0.97499999999999998,0.94499999999999995,0.91500000000000004,0.61,0.62,0.63,0.63500000000000001,0.64,0.64500000000000002,0.65,{"$f":"IF(Y8<0.9,0.9,Y8*-3.6846+4.1276)","v":0.9},{"$f":"IF(Z8<0.9,0.9,Z8*-3.6846+4.1276)","v":0.9},0.9,0.9,0.9,0.9,0.9,{"$f":"Y8*C8+($A$4-80)*AF8*$A$8/1000","v":27.541499999999999},{"$f":"Z8*E8+($A$4-80)*AG8*$A$8/1000","v":27.342000000000002},{"$f":"AA8*G8+($A$4-80)*AH8*$A$8/1000","v":27.121499999999997},{"$f":"AB8*I8+($A$4-80)*AI8*$A$8/1000","v":26.67},{"$f":"AC8*K8+($A$4-80)*AJ8*$A$8/1000","v":26.207999999999998},{"$f":"AD8*M8+($A$4-80)*AK8*$A$8/1000","v":25.60005},{"$f":"AE8*O8+($A$4-80)*AL8*$A$8/1000","v":24.979500000000002}]
[null,67,43.05,33.148499999999999,42.262500000000003,{"$f":"IF(AN9>E9,E9,AN9)","v":32.753437500000004},41.475000000000001,{"$f":"IF(AO9>G9,G9,AO9)","v":32.350500000000004},40.267499999999998,{"$f":"IF(AP9>I9,I9,AP9)","v":32.012662499999998},39.06,{"$f":"IF(AQ9>K9,K9,AQ9)","v":31.638600000000004},37.905000000000001,{"$f":"IF(AR9>M9,M9,AR9)","v":31.082100000000004},36.75,{"$f":"IF(AS9>O9,O9,AS9)","v":30.502499999999998},null,1.0249999999999999,1.0062500000000001,0.98750000000000004,0.95874999999999999,0.93,0.90250000000000008,0.875,0.77,0.77500000000000002,0.78,0.79500000000000004,0.81,0.82000000000000006,0.83,{"$f":"IF(Y9<0.9,0.9,Y9*-3.6846+4.1276)","v":0.9},0.9,0.9,0.9,0.9,0.9,0.9,{"$f":"Y9*C9+($A$4-80)*AF9*$A$8/1000","v":33.148499999999999},{"$f":"Z9*E9+($A$4-80)*AG9*$A$8/1000","v":32.753437500000004},{"$f":"AA9*G9+($A$4-80)*AH9*$A$8/1000","v":32.350500000000004},{"$f":"AB9*I9+($A$4-80)*AI9*$A$8/1000","v":32.012662499999998},{"$f":"AC9*K9+($A$4-80)*AJ9*$A$8/1000","v":31.638600000000004},{"$f":"AD9*M9+($A$4-80)*AK9*$A$8/1000","v":31.082100000000004},{"$f":"AE9*O9+($A$4-80)*AL9*$A$8/1000","v":30.502499999999998}]
[null,65,42.262500000000003,36.134437500000004,41.317500000000003,35.636343750000002,40.372500000000002,35.124075000000005,39.296250000000008,34.777181250000005,38.220000000000006,34.398000000000003,37.1175,33.68413125,36.015000000000001,32.953724999999999,null,1.0062500000000001,0.98375000000000001,0.96125000000000005,0.93562500000000015,0.91000000000000014,0.88375000000000004,0.85749999999999993,0.85499999999999998,0.86250000000000004,0.87,0.88500000000000001,0.9,0.90749999999999997,0.91500000000000004,0.9,0.9,0.9,0.9,0.81145999999999985,0.78382550000000029,0.75619099999999984,36.134437500000004,{"$f":"Z10*E10+($A$4-80)*AG10*$A$8/1000","v":35.636343750000002},{"$f":"AA10*G10+($A$4-80)*AH10*$A$8/1000","v":35.124075000000005},34.777181250000005,34.398000000000003,33.68413125,32.953724999999999]
[null,63,41.475000000000001,38.986499999999999,40.372500000000002,38.353875000000002,39.269999999999996,37.699199999999998,38.324999999999996,37.366874999999993,37.380000000000003,37.0062,36.33,36.148350000000001,35.28,35.28,null,0.98750000000000004,0.96125000000000005,0.93499999999999994,0.91249999999999998,0.89,0.86499999999999999,0.84000000000000008,0.94,0.95,0.96,0.97499999999999998,0.99,0.995,1,0.66407600000000011,0.6272300000000004,0.59038400000000024,0.53511500000000023,0.47984600000000022,0.46142299999999992,0.44300000000000006,38.986499999999999,{"$f":"Z11*E11+($A$4-80)*AG11*$A$8/1000","v":38.353875000000002},{"$f":"AA11*G11+($A$4-80)*AH11*$A$8/1000","v":37.699199999999998},{"$f":"AB11*I11+($A$4-80)*AI11*$A$8/1000","v":37.366874999999993},37.0062,36.148350000000001,35.28]
[1400,71,46.2,29.106000000000002,45.15,28.896000000000001,44.1,28.665000000000003,42.787500000000001,28.025812500000001,41.475000000000001,27.373500000000003,40.372500000000002,27.049575000000004,39.269999999999996,26.703599999999998,null,1.1000000000000001,1.075,1.05,1.01875,0.98750000000000004,0.96125000000000005,0.93499999999999994,0.63,0.64,0.65,0.65500000000000003,0.66,0.67,0.68,0.9,0.9,0.9,0.9,0.9,0.9,0.9,{"$f":"Y12*C12+($A$4-80)*AF12*$A$12/1000","v":29.106000000000002},{"$f":"Z12*E12+($A$4-80)*AG12*$A$12/1000","v":28.896000000000001},{"$f":"AA12*G12+($A$4-80)*AH12*$A$12/1000","v":28.665000000000003},{"$f":"AB12*I12+($A$4-80)*AI12*$A$12/1000","v":28.025812500000001},{"$f":"AC12*K12+($A$4-80)*AJ12*$A$12/1000","v":27.373500000000003},{"$f":"AD12*M12+($A$4-80)*AK12*$A$12/1000","v":27.049575000000004},{"$f":"AE12*O12+($A$4-80)*AL12*$A$12/1000","v":26.703599999999998}]
[null,67,44.1,35.28,43.05,34.655250000000002,42,34.020000000000003,40.949999999999996,33.783749999999998,39.9,33.515999999999998,38.64,33.037199999999999,37.380000000000003,32.520600000000002,null,1.05,1.0249999999999999,1,0.97499999999999998,0.95,0.91999999999999993,0.89,0.8,0.80500000000000005,0.81,0.82499999999999996,0.84,0.85499999999999998,0.87,0.9,0.9,0.9,0.9,0.9,0.9,0.9,{"$f":"Y13*C13+($A$4-80)*AF13*$A$12/1000","v":35.28},{"$f":"Z13*E13+($A$4-80)*AG13*$A$12/1000","v":34.655250000000002},{"$f":"AA13*G13+($A$4-80)*AH13*$A$12/1000","v":34.020000000000003},{"$f":"AB13*I13+($A$4-80)*AI13*$A$12/1000","v":33.783749999999998},{"$f":"AC13*K13+($A$4-80)*AJ13*$A$12/1000","v":33.515999999999998},{"$f":"AD13*M13+($A$4-80)*AK13*$A$12/1000","v":33.037199999999999},{"$f":"AE13*O13+($A$4-80)*AL13*$A$12/1000","v":32.520600000000002}]
[null,65,43.3125,38.548124999999999,42.262500000000003,37.93059375,41.212499999999999,37.297312499999997,40.188749999999999,36.672234374999995,39.164999999999992,36.03179999999999,38.0625,35.302968749999998,36.960000000000008,34.557600000000008,null,1.03125,1.0062500000000001,0.98124999999999996,0.95687499999999992,0.93249999999999988,0.90625,0.88000000000000012,0.89,0.89749999999999996,0.90500000000000003,0.91249999999999998,0.91999999999999993,0.92749999999999999,0.93500000000000005,0.9,0.9,0.79303699999999999,0.76540249999999999,0.73776800000000042,0.71013349999999997,0.68249899999999997,38.548124999999999,{"$f":"Z14*E14+($A$4-80)*AG14*$A$12/1000","v":37.93059375},{"$f":"AA14*G14+($A$4-80)*AH14*$A$12/1000","v":37.297312499999997},36.672234374999995,36.03179999999999,35.302968749999998,34.557600000000008]
[null,63,42.524999999999999,41.674499999999995,41.475000000000001,41.060250000000003,40.425000000000004,40.425000000000004,39.427500000000002,39.427500000000002,38.43,38.43,37.484999999999999,37.484999999999999,36.539999999999992,36.539999999999992,null,1.0125,0.98750000000000004,0.96250000000000002,0.93874999999999997,0.91500000000000004,0.89250000000000007,0.86999999999999988,0.98,0.99,1,1,1,1,1,0.51669199999999993,0.47984600000000022,0.44300000000000006,0.44300000000000006,0.44300000000000006,0.44300000000000006,0.44300000000000006,41.674499999999995,{"$f":"Z15*E15+($A$4-80)*AG15*$A$12/1000","v":41.060250000000003},{"$f":"AA15*G15+($A$4-80)*AH15*$A$12/1000","v":40.425000000000004},39.427500000000002,38.43,37.484999999999999,36.539999999999992]
[1575,71,46.725000000000001,30.371250000000003,45.674999999999997,29.917124999999999,44.625,29.452500000000001,43.575000000000003,29.195250000000005,42.524999999999999,28.917000000000002,41.107500000000002,28.364174999999999,39.69,27.782999999999998,null,1.1125,1.0874999999999999,1.0625,1.0375000000000001,1.0125,0.97875000000000001,0.94499999999999995,0.65,0.65500000000000003,0.66,0.67,0.68,0.69,0.7,0.9,0.9,0.9,0.9,0.9,0.9,0.9,{"$f":"Y16*C16+($A$4-80)*AF16*$A$16/1000","v":30.371250000000003},{"$f":"Z16*E16+($A$4-80)*AG16*$A$16/1000","v":29.917124999999999},{"$f":"AA16*G16+($A$4-80)*AH16*$A$16/1000","v":29.452500000000001},{"$f":"AB16*I16+($A$4-80)*AI16*$A$16/1000","v":29.195250000000005},{"$f":"AC16*K16+($A$4-80)*AJ16*$A$16/1000","v":28.917000000000002},{"$f":"AD16*M16+($A$4-80)*AK16*$A$16/1000","v":28.364174999999999},{"$f":"AE16*O16+($A$4-80)*AL16*$A$16/1000","v":27.782999999999998}]
[null,67,45.15,37.022999999999996,44.1,36.823500000000003,43.05,36.592499999999994,41.737500000000004,35.685562500000003,40.425000000000004,34.765500000000003,39.322499999999998,34.8004125,38.22,34.780200000000001,null,1.075,1.05,1.0249999999999999,0.99375000000000002,0.96250000000000002,0.93625000000000003,0.90999999999999992,0.82,0.83499999999999996,0.85,0.85499999999999998,0.86,0.88500000000000001,0.91,0.9,0.9,0.9,0.9,0.9,0.9,0.77461400000000014,{"$f":"Y17*C17+($A$4-80)*AF17*$A$16/1000","v":37.022999999999996},{"$f":"Z17*E17+($A$4-80)*AG17*$A$16/1000","v":36.823500000000003},{"$f":"AA17*G17+($A$4-80)*AH17*$A$16/1000","v":36.592499999999994},{"$f":"AB17*I17+($A$4-80)*AI17*$A$16/1000","v":35.685562500000003},{"$f":"AC17*K17+($A$4-80)*AJ17*$A$16/1000","v":34.765500000000003},{"$f":"AD17*M17+($A$4-80)*AK17*$A$16/1000","v":34.8004125},{"$f":"AE17*O17+($A$4-80)*AL17*$A$16/1000","v":34.780200000000001}]
[null,65,44.1,40.131,43.181249999999999,39.618796875000001,42.262500000000003,39.092812500000008,41.160000000000004,38.175900000000006,40.057499999999997,37.253474999999995,38.928750000000008,36.69034687500001,37.800000000000004,36.099000000000004,null,1.05,1.028125,1.0062500000000001,0.98000000000000009,0.95374999999999999,0.92687500000000012,0.9,0.90999999999999992,0.91749999999999998,0.92500000000000004,0.92749999999999999,0.92999999999999994,0.9425,0.95500000000000007,0.77461400000000058,0.74697950000000013,0.71934500000000012,0.71013349999999997,0.70092200000000027,0.65486449999999996,0.60880699999999965,40.131,{"$f":"Z18*E18+($A$4-80)*AG18*$A$16/1000","v":39.618796875000001},{"$f":"AA18*G18+($A$4-80)*AH18*$A$16/1000","v":39.092812500000008},38.175900000000006,37.253474999999995,36.69034687500001,36.099000000000004]
[null,63,43.05,43.05,42.262500000000003,42.262500000000003,41.475000000000001,41.475000000000001,40.582499999999996,40.582499999999996,39.69,39.69,38.535000000000004,38.535000000000004,37.380000000000003,37.380000000000003,null,1.0249999999999999,1.0062500000000001,0.98750000000000004,0.96624999999999994,0.94499999999999995,0.91750000000000009,0.89,1,1,1,1,1,1,1,0.44300000000000006,0.44300000000000006,0.44300000000000006,0.44300000000000006,0.44300000000000006,0.44300000000000006,0.44300000000000006,43.05,{"$f":"Z19*E19+($A$4-80)*AG19*$A$16/1000","v":42.262500000000003},{"$f":"AA19*G19+($A$4-80)*AH19*$A$16/1000","v":41.475000000000001},40.582499999999996,39.69,38.535000000000004,37.380000000000003]

{"sheet":"4AC14L_42","index":39,"n_rows":19,"n_cols":45,"rows_kept":19,"cut":false,"hidden":true,"merged":[[130,0,133,0],[120,12,121,12],[120,13,121,13],[120,14,121,14],[120,15,121,15],[122,0,125,0],[126,0,129,0],[119,12,119,13],[119,14,119,15],[120,4,121,4],[120,5,121,5],[120,6,121,6],[120,7,121,7],[120,8,121,8],[120,9,121,9],[120,10,121,10],[120,11,121,11],[119,0,121,0],[119,1,121,1],[119,4,119,5],[119,6,119,7],[119,8,119,9],[119,10,119,11],[111,0,114,0],[117,0,118,1],[117,4,117,15],[118,4,118,5],[118,6,118,7],[118,8,118,9],[118,10,118,11],[118,12,118,13],[118,14,118,15],[101,12,102,12],[101,13,102,13],[101,14,102,14],[101,15,102,15],[103,0,106,0],[107,0,110,0],[100,12,100,13],[100,14,100,15],[101,4,102,4],[101,5,102,5],[101,6,102,6],[101,7,102,7],[101,8,102,8],[101,9,102,9],[101,10,102,10],[101,11,102,11],[100,0,102,0],[100,1,102,1],[100,4,100,5],[100,6,100,7],[100,8,100,9],[100,10,100,11],[92,0,95,0],[98,0,99,1],[98,4,98,15],[99,4,99,5],[99,6,99,7],[99,8,99,9],[99,10,99,11],[99,12,99,13],[99,14,99,15],[82,12,83,12],[82,13,83,13],[82,14,83,14],[82,15,83,15],[84,0,87,0],[88,0,91,0],[81,12,81,13],[81,14,81,15],[82,4,83,4],[82,5,83,5],[82,6,83,6],[82,7,83,7],[82,8,83,8],[82,9,83,9],[82,10,83,10],[82,11,83,11],[81,0,83,0],[81,1,83,1],[81,4,81,5],[81,6,81,7],[81,8,81,9],[81,10,81,11],[73,0,76,0],[79,0,80,1],[79,4,79,15],[80,4,80,5],[80,6,80,7],[80,8,80,9],[80,10,80,11],[80,12,80,13],[80,14,80,15],[63,12,64,12],[63,13,64,13],[63,14,64,14],[63,15,64,15],[65,0,68,0],[69,0,72,0],[62,12,62,13],[62,14,62,15],[63,4,64,4],[63,5,64,5],[63,6,64,6],[63,7,64,7],[63,8,64,8],[63,9,64,9],[63,10,64,10],[63,11,64,11],[62,0,64,0],[62,1,64,1],[62,4,62,5],[62,6,62,7],[62,8,62,9],[62,10,62,11],[54,0,57,0],[60,0,61,1],[60,4,60,15],[61,4,61,5],[61,6,61,7],[61,8,61,9],[61,10,61,11],[61,12,61,13],[61,14,61,15],[44,12,45,12],[44,13,45,13],[44,14,45,14],[44,15,45,15],[46,0,49,0],[50,0,53,0],[43,12,43,13],[43,14,43,15],[44,4,45,4],[44,5,45,5],[44,6,45,6],[44,7,45,7],[44,8,45,8],[44,9,45,9],[44,10,45,10],[44,11,45,11],[43,0,45,0],[43,1,45,1],[43,4,43,5],[43,6,43,7],[43,8,43,9],[43,10,43,11],[35,0,38,0],[41,0,42,1],[41,4,41,15],[42,4,42,5],[42,6,42,7],[42,8,42,9],[42,10,42,11],[42,12,42,13],[42,14,42,15],[25,12,26,12],[25,13,26,13],[25,14,26,14],[25,15,26,15],[27,0,30,0],[31,0,34,0],[24,12,24,13],[24,14,24,15],[25,4,26,4],[25,5,26,5],[25,6,26,6],[25,7,26,7],[25,8,26,8],[25,9,26,9],[25,10,26,10],[25,11,26,11],[24,0,26,0],[24,1,26,1],[24,4,24,5],[24,6,24,7],[24,8,24,9],[24,10,24,11],[7,0,10,0],[11,0,14,0],[15,0,18,0],[22,4,22,15],[23,4,23,5],[23,6,23,7],[23,8,23,9],[23,10,23,11],[23,12,23,13],[23,14,23,15],[5,10,6,10],[5,11,6,11],[5,12,6,12],[5,13,6,13],[5,14,6,14],[5,15,6,15],[4,10,4,11],[4,12,4,13],[4,14,4,15],[5,2,6,2],[5,3,6,3],[5,4,6,4],[5,5,6,5],[5,6,6,6],[5,7,6,7],[5,8,6,8],[4,0,6,0],[4,1,6,1],[4,2,4,3],[4,4,4,5],[4,6,4,7],[4,8,4,9],[5,9,6,9],[2,0,2,1],[2,2,2,15],[3,2,3,3],[3,4,3,5],[3,6,3,7],[3,8,3,9],[3,10,3,11],[3,12,3,13],[3,14,3,15]]}
[]
["4AC14L_42",42]
["Evaporator Air \n",null,"Condenser  Entering Air Temperature ˚F"]
[80,"°F DB",85,null,90,null,95,null,100,null,105,null,110,null,115]
["CFM","EWB†\n˚F","Capacity Mbtuh",null,"Capacity Mbtuh",null,"Capacity Mbtuh",null,"Capacity Mbtuh",null,"Capacity Mbtuh",null,"Capacity Mbtuh",null,"Capacity Mbtuh"]
[null,null,"Total","Sens.","Total","Sens.","Total","Sens.","Total","Sens.","Total","Sens.","Total","Sens.","Total","Sens."]
[null,null,null,null,null,null,null,null,null,null,null,null,null,null,null,null,null,"Total Factors",null,null,null,null,null,null,"Sens. %",null,null,null,null,null,null,"IDB Adj",null,null,null,null,null,null,"Sens Calc"]
[1225,71,{"$f":"R8*$B$2","v":45.418604651162788},{"$f":"IF(AM8>C8,C8,AM8)","v":27.7053488372093},{"$f":"S8*$B$2","v":44.197674418604656},{"$f":"IF(AN8>E8,E8,AN8)","v":27.181569767441864},{"$f":"T8*$B$2","v":42.976744186046517},{"$f":"IF(AO8>G8,G8,AO8)","v":26.645581395348842},{"$f":"U8*$B$2","v":42},{"$f":"IF(AP8>I8,I8,AP8)","v":26.25},{"$f":"V8*$B$2","v":41.023255813953483},{"$f":"IF(AQ8>K8,K8,AQ8)","v":25.844651162790694},{"$f":"W8*$B$2","v":39.802325581395351},{"$f":"IF(AR8>M8,M8,AR8)","v":25.473488372093026},{"$f":"X8*$B$2","v":38.581395348837205},{"$f":"IF(AS8>O8,O8,AS8)","v":25.077906976744185},null,1.0813953488372092,1.0523255813953489,1.0232558139534884,1,0.97674418604651159,0.94767441860465118,0.91860465116279066,0.61,0.61499999999999999,0.62,0.625,0.63,0.64,0.65,{"$f":"IF(Y8<0.9,0.9,Y8*-3.6846+4.1276)","v":0.9},{"$f":"IF(Z8<0.9,0.9,Z8*-3.6846+4.1276)","v":0.9},0.9,0.9,0.9,0.9,0.9,{"$f":"Y8*C8+($A$4-80)*AF8*$A$8/1000","v":27.7053488372093},{"$f":"Z8*E8+($A$4-80)*AG8*$A$8/1000","v":27.181569767441864},{"$f":"AA8*G8+($A$4-80)*AH8*$A$8/1000","v":26.645581395348842},{"$f":"AB8*I8+($A$4-80)*AI8*$A$8/1000","v":26.25},{"$f":"AC8*K8+($A$4-80)*AJ8*$A$8/1000","v":25.844651162790694},{"$f":"AD8*M8+($A$4-80)*AK8*$A$8/1000","v":25.473488372093026},{"$f":"AE8*O8+($A$4-80)*AL8*$A$8/1000","v":25.077906976744185}]
[null,67,42.976744186046517,32.232558139534888,42,{"$f":"IF(AN9>E9,E9,AN9)","v":31.92},41.023255813953483,{"$f":"IF(AO9>G9,G9,AO9)","v":31.587906976744183},40.04651162790698,{"$f":"IF(AP9>I9,I9,AP9)","v":31.236279069767445},39.069767441860463,{"$f":"IF(AQ9>K9,K9,AQ9)","v":30.865116279069767},37.800000000000004,{"$f":"IF(AR9>M9,M9,AR9)","v":30.429000000000002},36.530232558139531,{"$f":"IF(AS9>O9,O9,AS9)","v":29.954790697674415},null,1.0232558139534884,1,0.97674418604651159,0.95348837209302328,0.93023255813953487,0.9,0.86976744186046506,0.75,0.76,0.77,0.78,0.79,0.80499999999999994,0.82,{"$f":"IF(Y9<0.9,0.9,Y9*-3.6846+4.1276)","v":0.9},0.9,0.9,0.9,0.9,0.9,0.9,{"$f":"Y9*C9+($A$4-80)*AF9*$A$8/1000","v":32.232558139534888},{"$f":"Z9*E9+($A$4-80)*AG9*$A$8/1000","v":31.92},{"$f":"AA9*G9+($A$4-80)*AH9*$A$8/1000","v":31.587906976744183},{"$f":"AB9*I9+($A$4-80)*AI9*$A$8/1000","v":31.236279069767445},{"$f":"AC9*K9+($A$4-80)*AJ9*$A$8/1000","v":30.865116279069767},{"$f":"AD9*M9+($A$4-80)*AK9*$A$8/1000","v":30.429000000000002},{"$f":"AE9*O9+($A$4-80)*AL9*$A$8/1000","v":29.954790697674415}]
[null,65,42,35.07,41.023255813953483,34.66465116279069,40.04651162790698,34.239767441860465,39.020930232558143,33.85065697674419,37.995348837209306,33.435906976744192,36.823255813953494,32.956813953488378,35.651162790697676,32.442558139534881,null,1,0.97674418604651159,0.95348837209302328,0.92906976744186054,0.90465116279069768,0.87674418604651172,0.84883720930232553,0.83499999999999996,0.84499999999999997,0.85499999999999998,0.86749999999999994,0.88,0.89500000000000002,0.90999999999999992,0.9,0.9,0.9,0.9,0.9,0.9,0.77461400000000058,35.07,{"$f":"Z10*E10+($A$4-80)*AG10*$A$8/1000","v":34.66465116279069},{"$f":"AA10*G10+($A$4-80)*AH10*$A$8/1000","v":34.239767441860465},33.85065697674419,33.435906976744192,32.956813953488378,32.442558139534881]
[null,63,41.023255813953483,37.741395348837209,40.04651162790698,37.243255813953489,39.069767441860463,36.725581395348833,37.995348837209306,36.285558139534885,36.920930232558135,35.81330232558139,35.846511627906978,35.308813953488375,34.77209302325582,34.77209302325582,null,0.97674418604651159,0.95348837209302328,0.93023255813953487,0.90465116279069768,0.87906976744186038,0.85348837209302331,0.82790697674418612,0.92,0.92999999999999994,0.94,0.95499999999999996,0.97,0.98499999999999999,1,0.73776799999999998,0.70092200000000027,0.66407600000000011,0.6088070000000001,0.55353800000000009,0.49826900000000007,0.44300000000000006,37.741395348837209,{"$f":"Z11*E11+($A$4-80)*AG11*$A$8/1000","v":37.243255813953489},{"$f":"AA11*G11+($A$4-80)*AH11*$A$8/1000","v":36.725581395348833},{"$f":"AB11*I11+($A$4-80)*AI11*$A$8/1000","v":36.285558139534885},35.81330232558139,35.308813953488375,34.77209302325582]
[1400,71,46.395348837209298,29.229069767441857,45.418604651162788,28.840813953488372,44.441860465116285,28.442790697674422,43.220930232558139,28.093604651162792,42,27.720000000000002,40.534883720930232,26.955697674418605,39.069767441860463,26.176744186046513,null,1.1046511627906976,1.0813953488372092,1.058139534883721,1.0290697674418605,1,0.96511627906976749,0.93023255813953487,0.63,0.63500000000000001,0.64,0.65,0.66,0.66500000000000004,0.67,0.9,0.9,0.9,0.9,0.9,0.9,0.9,{"$f":"Y12*C12+($A$4-80)*AF12*$A$12/1000","v":29.229069767441857},{"$f":"Z12*E12+($A$4-80)*AG12*$A$12/1000","v":28.840813953488372},{"$f":"AA12*G12+($A$4-80)*AH12*$A$12/1000","v":28.442790697674422},{"$f":"AB12*I12+($A$4-80)*AI12*$A$12/1000","v":28.093604651162792},{"$f":"AC12*K12+($A$4-80)*AJ12*$A$12/1000","v":27.720000000000002},{"$f":"AD12*M12+($A$4-80)*AK12*$A$12/1000","v":26.955697674418605},{"$f":"AE12*O12+($A$4-80)*AL12*$A$12/1000","v":26.176744186046513}]
[null,67,44.441860465116285,35.109069767441866,43.220930232558139,34.360639534883724,42,33.6,41.023255813953483,33.433953488372083,40.04651162790698,33.238604651162795,38.825581395348834,32.613488372093016,37.604651162790702,31.963953488372095,null,1.058139534883721,1.0290697674418605,1,0.97674418604651159,0.95348837209302328,0.92441860465116277,0.89534883720930236,0.79,0.79500000000000004,0.8,0.81499999999999995,0.83,0.84,0.85,0.9,0.9,0.9,0.9,0.9,0.9,0.9,{"$f":"Y13*C13+($A$4-80)*AF13*$A$12/1000","v":35.109069767441866},{"$f":"Z13*E13+($A$4-80)*AG13*$A$12/1000","v":34.360639534883724},{"$f":"AA13*G13+($A$4-80)*AH13*$A$12/1000","v":33.6},{"$f":"AB13*I13+($A$4-80)*AI13*$A$12/1000","v":33.433953488372083},{"$f":"AC13*K13+($A$4-80)*AJ13*$A$12/1000","v":33.238604651162795},{"$f":"AD13*M13+($A$4-80)*AK13*$A$12/1000","v":32.613488372093016},{"$f":"AE13*O13+($A$4-80)*AL13*$A$12/1000","v":31.963953488372095}]
[null,65,43.220930232558139,37.818313953488371,42.122093023255815,37.172747093023261,41.023255813953483,36.510697674418601,40.04651162790698,36.141976744186053,39.069767441860463,35.748837209302323,37.922093023255812,34.88832558139535,36.77441860465116,34.016337209302321,null,1.0290697674418605,1.0029069767441861,0.97674418604651159,0.95348837209302328,0.93023255813953487,0.90290697674418607,0.87558139534883717,0.875,0.88250000000000006,0.89,0.90250000000000008,0.91500000000000004,0.92,0.92500000000000004,0.9,0.9,0.9,0.8022484999999997,0.75619099999999984,0.73776799999999998,0.71934500000000012,37.818313953488371,{"$f":"Z14*E14+($A$4-80)*AG14*$A$12/1000","v":37.172747093023261},{"$f":"AA14*G14+($A$4-80)*AH14*$A$12/1000","v":36.510697674418601},36.141976744186053,35.748837209302323,34.88832558139535,34.016337209302321]
[null,63,42,40.32,41.023255813953483,39.792558139534876,40.04651162790698,39.245581395348843,39.069767441860463,38.67906976744186,38.093023255813954,38.093023255813954,37.018604651162789,37.018604651162789,35.944186046511625,35.944186046511625,null,1,0.97674418604651159,0.95348837209302328,0.93023255813953487,0.90697674418604646,0.88139534883720927,0.85581395348837208,0.96,0.97,0.98,0.99,1,1,1,0.59038400000000024,0.55353800000000009,0.51669199999999993,0.47984600000000022,0.44300000000000006,0.44300000000000006,0.44300000000000006,40.32,{"$f":"Z15*E15+($A$4-80)*AG15*$A$12/1000","v":39.792558139534876},{"$f":"AA15*G15+($A$4-80)*AH15*$A$12/1000","v":39.245581395348843},38.67906976744186,38.093023255813954,37.018604651162789,35.944186046511625]
[1575,71,47.372093023255815,30.791860465116279,46.395348837209298,30.388953488372092,45.418604651162788,29.97627906976744,44.197674418604656,29.612441860465122,42.976744186046517,29.224186046511633,41.511627906976742,28.643023255813951,40.04651162790698,28.032558139534885,null,1.1279069767441861,1.1046511627906976,1.0813953488372092,1.0523255813953489,1.0232558139534884,0.98837209302325579,0.95348837209302328,0.65,0.65500000000000003,0.66,0.67,0.68,0.69,0.7,0.9,0.9,0.9,0.9,0.9,0.9,0.9,{"$f":"Y16*C16+($A$4-80)*AF16*$A$16/1000","v":30.791860465116279},{"$f":"Z16*E16+($A$4-80)*AG16*$A$16/1000","v":30.388953488372092},{"$f":"AA16*G16+($A$4-80)*AH16*$A$16/1000","v":29.97627906976744},{"$f":"AB16*I16+($A$4-80)*AI16*$A$16/1000","v":29.612441860465122},{"$f":"AC16*K16+($A$4-80)*AJ16*$A$16/1000","v":29.224186046511633},{"$f":"AD16*M16+($A$4-80)*AK16*$A$16/1000","v":28.643023255813951},{"$f":"AE16*O16+($A$4-80)*AL16*$A$16/1000","v":28.032558139534885}]
[null,67,45.418604651162788,37.243255813953482,44.197674418604656,36.684069767441862,42.976744186046517,36.100465116279075,41.755813953488371,35.492441860465114,40.534883720930232,34.86,39.313953488372093,34.399709302325583,38.093023255813954,33.902790697674419,null,1.0813953488372092,1.0523255813953489,1.0232558139534884,0.9941860465116279,0.96511627906976749,0.93604651162790697,0.90697674418604646,0.82,0.83,0.84,0.85,0.86,0.875,0.89,0.9,0.9,0.9,0.9,0.9,0.9,0.9,{"$f":"Y17*C17+($A$4-80)*AF17*$A$16/1000","v":37.243255813953482},{"$f":"Z17*E17+($A$4-80)*AG17*$A$16/1000","v":36.684069767441862},{"$f":"AA17*G17+($A$4-80)*AH17*$A$16/1000","v":36.100465116279075},{"$f":"AB17*I17+($A$4-80)*AI17*$A$16/1000","v":35.492441860465114},{"$f":"AC17*K17+($A$4-80)*AJ17*$A$16/1000","v":34.86},{"$f":"AD17*M17+($A$4-80)*AK17*$A$16/1000","v":34.399709302325583},{"$f":"AE17*O17+($A$4-80)*AL17*$A$16/1000","v":33.902790697674419}]
[null,65,44.197674418604656,39.998895348837216,43.098837209302324,39.327688953488369,42,38.64,40.901162790697676,37.833575581395344,39.802325581395351,37.016162790697678,38.70348837209302,36.284520348837205,37.604651162790702,35.536395348837218,null,1.0523255813953489,1.0261627906976745,1,0.97383720930232553,0.94767441860465118,0.92151162790697672,0.89534883720930236,0.90500000000000003,0.91249999999999998,0.91999999999999993,0.92499999999999993,0.92999999999999994,0.9375,0.94500000000000006,0.79303699999999999,0.76540249999999999,0.73776800000000042,0.71934500000000012,0.70092200000000027,0.67328750000000026,0.64565299999999981,39.998895348837216,{"$f":"Z18*E18+($A$4-80)*AG18*$A$16/1000","v":39.327688953488369},{"$f":"AA18*G18+($A$4-80)*AH18*$A$16/1000","v":38.64},37.833575581395344,37.016162790697678,36.284520348837205,35.536395348837218]
[null,63,42.976744186046517,42.546976744186054,42,41.79,41.023255813953483,41.023255813953483,40.04651162790698,40.04651162790698,39.069767441860463,39.069767441860463,38.093023255813954,38.093023255813954,37.116279069767444,37.116279069767444,null,1.0232558139534884,1,0.97674418604651159,0.95348837209302328,0.93023255813953487,0.90697674418604646,0.88372093023255816,0.99,0.995,1,1,1,1,1,0.47984600000000022,0.46142299999999992,0.44300000000000006,0.44300000000000006,0.44300000000000006,0.44300000000000006,0.44300000000000006,42.546976744186054,{"$f":"Z19*E19+($A$4-80)*AG19*$A$16/1000","v":41.79},{"$f":"AA19*G19+($A$4-80)*AH19*$A$16/1000","v":41.023255813953483},40.04651162790698,39.069767441860463,38.093023255813954,37.116279069767444]

{"sheet":"4AC14L_47","index":40,"n_rows":19,"n_cols":45,"rows_kept":19,"cut":false,"hidden":true,"merged":[[130,0,133,0],[120,12,121,12],[120,13,121,13],[120,14,121,14],[120,15,121,15],[122,0,125,0],[126,0,129,0],[119,12,119,13],[119,14,119,15],[120,4,121,4],[120,5,121,5],[120,6,121,6],[120,7,121,7],[120,8,121,8],[120,9,121,9],[120,10,121,10],[120,11,121,11],[119,0,121,0],[119,1,121,1],[119,4,119,5],[119,6,119,7],[119,8,119,9],[119,10,119,11],[111,0,114,0],[117,0,118,1],[117,4,117,15],[118,4,118,5],[118,6,118,7],[118,8,118,9],[118,10,118,11],[118,12,118,13],[118,14,118,15],[101,12,102,12],[101,13,102,13],[101,14,102,14],[101,15,102,15],[103,0,106,0],[107,0,110,0],[100,12,100,13],[100,14,100,15],[101,4,102,4],[101,5,102,5],[101,6,102,6],[101,7,102,7],[101,8,102,8],[101,9,102,9],[101,10,102,10],[101,11,102,11],[100,0,102,0],[100,1,102,1],[100,4,100,5],[100,6,100,7],[100,8,100,9],[100,10,100,11],[92,0,95,0],[98,0,99,1],[98,4,98,15],[99,4,99,5],[99,6,99,7],[99,8,99,9],[99,10,99,11],[99,12,99,13],[99,14,99,15],[82,12,83,12],[82,13,83,13],[82,14,83,14],[82,15,83,15],[84,0,87,0],[88,0,91,0],[81,12,81,13],[81,14,81,15],[82,4,83,4],[82,5,83,5],[82,6,83,6],[82,7,83,7],[82,8,83,8],[82,9,83,9],[82,10,83,10],[82,11,83,11],[81,0,83,0],[81,1,83,1],[81,4,81,5],[81,6,81,7],[81,8,81,9],[81,10,81,11],[73,0,76,0],[79,0,80,1],[79,4,79,15],[80,4,80,5],[80,6,80,7],[80,8,80,9],[80,10,80,11],[80,12,80,13],[80,14,80,15],[63,12,64,12],[63,13,64,13],[63,14,64,14],[63,15,64,15],[65,0,68,0],[69,0,72,0],[62,12,62,13],[62,14,62,15],[63,4,64,4],[63,5,64,5],[63,6,64,6],[63,7,64,7],[63,8,64,8],[63,9,64,9],[63,10,64,10],[63,11,64,11],[62,0,64,0],[62,1,64,1],[62,4,62,5],[62,6,62,7],[62,8,62,9],[62,10,62,11],[54,0,57,0],[60,0,61,1],[60,4,60,15],[61,4,61,5],[61,6,61,7],[61,8,61,9],[61,10,61,11],[61,12,61,13],[61,14,61,15],[44,12,45,12],[44,13,45,13],[44,14,45,14],[44,15,45,15],[46,0,49,0],[50,0,53,0],[43,12,43,13],[43,14,43,15],[44,4,45,4],[44,5,45,5],[44,6,45,6],[44,7,45,7],[44,8,45,8],[44,9,45,9],[44,10,45,10],[44,11,45,11],[43,0,45,0],[43,1,45,1],[43,4,43,5],[43,6,43,7],[43,8,43,9],[43,10,43,11],[35,0,38,0],[41,0,42,1],[41,4,41,15],[42,4,42,5],[42,6,42,7],[42,8,42,9],[42,10,42,11],[42,12,42,13],[42,14,42,15],[25,12,26,12],[25,13,26,13],[25,14,26,14],[25,15,26,15],[27,0,30,0],[31,0,34,0],[24,12,24,13],[24,14,24,15],[25,4,26,4],[25,5,26,5],[25,6,26,6],[25,7,26,7],[25,8,26,8],[25,9,26,9],[25,10,26,10],[25,11,26,11],[24,0,26,0],[24,1,26,1],[24,4,24,5],[24,6,24,7],[24,8,24,9],[24,10,24,11],[7,0,10,0],[11,0,14,0],[15,0,18,0],[22,4,22,15],[23,4,23,5],[23,6,23,7],[23,8,23,9],[23,10,23,11],[23,12,23,13],[23,14,23,15],[5,10,6,10],[5,11,6,11],[5,12,6,12],[5,13,6,13],[5,14,6,14],[5,15,6,15],[4,10,4,11],[4,12,4,13],[4,14,4,15],[5,2,6,2],[5,3,6,3],[5,4,6,4],[5,5,6,5],[5,6,6,6],[5,7,6,7],[5,8,6,8],[4,0,6,0],[4,1,6,1],[4,2,4,3],[4,4,4,5],[4,6,4,7],[4,8,4,9],[5,9,6,9],[2,0,2,1],[2,2,2,15],[3,2,3,3],[3,4,3,5],[3,6,3,7],[3,8,3,9],[3,10,3,11],[3,12,3,13],[3,14,3,15]]}
[]
["4AC14L_47",47]
["Evaporator Air \n",null,"Condenser  Entering Air Temperature ˚F"]
[75,"°F DB",85,null,90,null,95,null,100,null,105,null,110,null,115]
["CFM","EWB†\n˚F","Capacity Mbtuh",null,"Capacity Mbtuh",null,"Capacity Mbtuh",null,"Capacity Mbtuh",null,"Capacity Mbtuh",null,"Capacity Mbtuh",null,"Capacity Mbtuh"]
[null,null,"Total","Sens.","Total","Sens.","Total","Sens.","Total","Sens.","Total","Sens.","Total","Sens.","Total","Sens."]
[null,null,null,null,null,null,null,null,null,null,null,null,null,null,null,null,null,"Total Factors",null,null,null,null,null,null,"Sens. %",null,null,null,null,null,null,"IDB Adj",null,null,null,null,null,null,"Sens Calc"]
[1400,71,{"$f":"R8*$B$2","v":50.357142857142854},{"$f":"IF(AM8>C8,C8,AM8)","v":23.914285714285711},{"$f":"S8*$B$2","v":49.397959183673464},{"$f":"IF(AN8>E8,E8,AN8)","v":23.585765306122443},{"$f":"T8*$B$2","v":48.438775510204081},{"$f":"IF(AO8>G8,G8,AO8)","v":23.247653061224486},{"$f":"U8*$B$2","v":47.239795918367342},{"$f":"IF(AP8>I8,I8,AP8)","v":22.752474489795915},{"$f":"V8*$B$2","v":46.04081632653061},{"$f":"IF(AQ8>K8,K8,AQ8)","v":22.245306122448977},{"$f":"W8*$B$2","v":44.602040816326536},{"$f":"IF(AR8>M8,M8,AR8)","v":21.799285714285716},{"$f":"X8*$B$2","v":43.163265306122447},{"$f":"IF(AS8>O8,O8,AS8)","v":21.324489795918367},null,1.0714285714285714,1.0510204081632653,1.0306122448979591,1.0051020408163265,0.97959183673469385,0.94897959183673475,0.91836734693877553,0.6,0.60499999999999998,0.61,0.61499999999999999,0.62,0.63,0.64,{"$f":"IF(Y8<0.9,0.9,Y8*-3.6846+4.1276)","v":0.9},{"$f":"IF(Z8<0.9,0.9,Z8*-3.6846+4.1276)","v":0.9},0.9,0.9,0.9,0.9,0.9,{"$f":"Y8*C8+($A$4-80)*AF8*$A$8/1000","v":23.914285714285711},{"$f":"Z8*E8+($A$4-80)*AG8*$A$8/1000","v":23.585765306122443},{"$f":"AA8*G8+($A$4-80)*AH8*$A$8/1000","v":23.247653061224486},{"$f":"AB8*I8+($A$4-80)*AI8*$A$8/1000","v":22.752474489795915},{"$f":"AC8*K8+($A$4-80)*AJ8*$A$8/1000","v":22.245306122448977},{"$f":"AD8*M8+($A$4-80)*AK8*$A$8/1000","v":21.799285714285716},{"$f":"AE8*O8+($A$4-80)*AL8*$A$8/1000","v":21.324489795918367}]
[null,67,48.438775510204081,30.029081632653057,47.239795918367342,{"$f":"IF(AN9>E9,E9,AN9)","v":29.366045918367345},46.04081632653061,{"$f":"IF(AO9>G9,G9,AO9)","v":28.691020408163265},45.08163265306122,{"$f":"IF(AP9>I9,I9,AP9)","v":28.412857142857138},44.122448979591837,{"$f":"IF(AQ9>K9,K9,AQ9)","v":28.115510204081634},42.683673469387756,{"$f":"IF(AR9>M9,M9,AR9)","v":27.420102040816328},41.244897959183675,{"$f":"IF(AS9>O9,O9,AS9)","v":26.695918367346938},null,1.0306122448979591,1.0051020408163265,0.97959183673469385,0.95918367346938771,0.93877551020408168,0.90816326530612246,0.87755102040816324,0.75,0.755,0.76,0.77,0.78,0.79,0.8,{"$f":"IF(Y9<0.9,0.9,Y9*-3.6846+4.1276)","v":0.9},0.9,0.9,0.9,0.9,0.9,0.9,{"$f":"Y9*C9+($A$4-80)*AF9*$A$8/1000","v":30.029081632653057},{"$f":"Z9*E9+($A$4-80)*AG9*$A$8/1000","v":29.366045918367345},{"$f":"AA9*G9+($A$4-80)*AH9*$A$8/1000","v":28.691020408163265},{"$f":"AB9*I9+($A$4-80)*AI9*$A$8/1000","v":28.412857142857138},{"$f":"AC9*K9+($A$4-80)*AJ9*$A$8/1000","v":28.115510204081634},{"$f":"AD9*M9+($A$4-80)*AK9*$A$8/1000","v":27.420102040816328},{"$f":"AE9*O9+($A$4-80)*AL9*$A$8/1000","v":26.695918367346938}]
[null,65,47.239795918367342,32.909030612244898,46.04081632653061,32.259183673469387,44.841836734693878,31.591352040816322,43.882653061224488,31.329374999999995,42.923469387755098,31.043418367346934,41.604591836734691,30.416052295918366,40.285714285714285,29.755714285714287,null,1.0051020408163265,0.97959183673469385,0.95408163265306123,0.93367346938775508,0.91326530612244894,0.88520408163265307,0.8571428571428571,0.83000000000000007,0.83750000000000002,0.84499999999999997,0.85749999999999993,0.87,0.88250000000000006,0.89500000000000002,0.9,0.9,0.9,0.9,0.9,0.9,0.9,32.909030612244898,{"$f":"Z10*E10+($A$4-80)*AG10*$A$8/1000","v":32.259183673469387},{"$f":"AA10*G10+($A$4-80)*AH10*$A$8/1000","v":31.591352040816322},31.329374999999995,31.043418367346934,30.416052295918366,29.755714285714287]
[null,63,46.04081632653061,36.474844857142855,44.841836734693878,36.09011379591837,43.642857142857146,35.68140314285715,42.683673469387756,35.81650042857143,41.724489795918366,35.922822204081626,40.525510204081634,35.766567448979586,39.326530612244902,35.574343306122451,null,0.97959183673469385,0.95408163265306123,0.9285714285714286,0.90816326530612246,0.88775510204081631,0.86224489795918369,0.83673469387755106,0.91,0.92,0.93,0.94500000000000006,0.96,0.97499999999999998,0.99,0.77461400000000014,0.73776799999999998,0.70092199999999982,0.64565299999999981,0.59038400000000024,0.53511500000000023,0.47984600000000022,36.474844857142855,{"$f":"Z11*E11+($A$4-80)*AG11*$A$8/1000","v":36.09011379591837},{"$f":"AA11*G11+($A$4-80)*AH11*$A$8/1000","v":35.68140314285715},{"$f":"AB11*I11+($A$4-80)*AI11*$A$8/1000","v":35.81650042857143},35.922822204081626,35.766567448979586,35.574343306122451]
[1550,71,51.316326530612244,24.327959183673471,50.357142857142854,24.246428571428567,49.397959183673464,24.145714285714284,48.198979591836732,23.631352040816324,47,23.105000000000004,45.561224489795919,22.639795918367348,44.122448979591837,22.145816326530614,null,1.0918367346938775,1.0714285714285714,1.0510204081632653,1.0255102040816326,1,0.96938775510204078,0.93877551020408168,0.61,0.62,0.63,0.63500000000000001,0.64,0.65,0.66,0.9,0.9,0.9,0.9,0.9,0.9,0.9,{"$f":"Y12*C12+($A$4-80)*AF12*$A$12/1000","v":24.327959183673471},{"$f":"Z12*E12+($A$4-80)*AG12*$A$12/1000","v":24.246428571428567},{"$f":"AA12*G12+($A$4-80)*AH12*$A$12/1000","v":24.145714285714284},{"$f":"AB12*I12+($A$4-80)*AI12*$A$12/1000","v":23.631352040816324},{"$f":"AC12*K12+($A$4-80)*AJ12*$A$12/1000","v":23.105000000000004},{"$f":"AD12*M12+($A$4-80)*AK12*$A$12/1000","v":22.639795918367348},{"$f":"AE12*O12+($A$4-80)*AL12*$A$12/1000","v":22.145816326530614}]
[null,67,49.397959183673464,31.061428571428564,48.198979591836732,30.62020408163265,47,30.155000000000001,45.801020408163268,29.665816326530617,44.602040816326536,29.152653061224498,43.403061224489797,28.615510204081637,42.204081632653065,28.054387755102042,null,1.0510204081632653,1.0255102040816326,1,0.97448979591836737,0.94897959183673475,0.92346938775510201,0.89795918367346939,0.77,0.78,0.79,0.8,0.81,0.82000000000000006,0.83,0.9,0.9,0.9,0.9,0.9,0.9,0.9,{"$f":"Y13*C13+($A$4-80)*AF13*$A$12/1000","v":31.061428571428564},{"$f":"Z13*E13+($A$4-80)*AG13*$A$12/1000","v":30.62020408163265},{"$f":"AA13*G13+($A$4-80)*AH13*$A$12/1000","v":30.155000000000001},{"$f":"AB13*I13+($A$4-80)*AI13*$A$12/1000","v":29.665816326530617},{"$f":"AC13*K13+($A$4-80)*AJ13*$A$12/1000","v":29.152653061224498},{"$f":"AD13*M13+($A$4-80)*AK13*$A$12/1000","v":28.615510204081637},{"$f":"AE13*O13+($A$4-80)*AL13*$A$12/1000","v":28.054387755102042}]
[null,65,48.198979591836732,34.476122448979588,47,33.914999999999999,45.801020408163268,33.329897959183675,44.721938775510203,32.827525510204083,43.642857142857146,32.989756428571432,42.443877551020407,32.443171252551011,41.244897959183675,31.878601382653063,null,1.0255102040816326,1,0.97448979591836737,0.95153061224489799,0.9285714285714286,0.90306122448979587,0.87755102040816324,0.86,0.87,0.88,0.89,0.9,0.90749999999999997,0.91500000000000004,0.9,0.9,0.9,0.9,0.81145999999999985,0.78382550000000029,0.75619099999999984,34.476122448979588,{"$f":"Z14*E14+($A$4-80)*AG14*$A$12/1000","v":33.914999999999999},{"$f":"AA14*G14+($A$4-80)*AH14*$A$12/1000","v":33.329897959183675},32.827525510204083,32.989756428571432,32.443171252551011,31.878601382653063]
[null,63,47,39.788967499999998,45.801020408163268,39.393503591836733,44.602040816326536,38.974060091836733,43.642857142857146,38.765637000000005,42.683673469387756,38.538030234693878,41.484693877551024,37.701242158163268,40.285714285714285,36.852464285714284,null,1,0.97448979591836737,0.94897959183673475,0.9285714285714286,0.90816326530612246,0.88265306122448983,0.8571428571428571,0.95,0.96,0.97,0.98,0.99,0.995,1,0.6272300000000004,0.59038400000000024,0.55353800000000009,0.51669199999999993,0.47984600000000022,0.46142299999999992,0.44300000000000006,39.788967499999998,{"$f":"Z15*E15+($A$4-80)*AG15*$A$12/1000","v":39.393503591836733},{"$f":"AA15*G15+($A$4-80)*AH15*$A$12/1000","v":38.974060091836733},38.765637000000005,38.538030234693878,37.701242158163268,36.852464285714284]
[1800,71,53.234693877551024,25.970204081632652,52.035714285714292,25.463035714285716,50.836734693877553,24.943877551020407,49.397959183673464,24.502653061224485,47.95918367346939,24.032653061224494,46.760204081632658,23.463137755102046,45.561224489795919,22.881632653061224,null,1.1326530612244898,1.1071428571428572,1.0816326530612246,1.0510204081632653,1.0204081632653061,0.99489795918367352,0.96938775510204078,0.64,0.64500000000000002,0.65,0.66,0.67,0.67500000000000004,0.68,0.9,0.9,0.9,0.9,0.9,0.9,0.9,{"$f":"Y16*C16+($A$4-80)*AF16*$A$16/1000","v":25.970204081632652},{"$f":"Z16*E16+($A$4-80)*AG16*$A$16/1000","v":25.463035714285716},{"$f":"AA16*G16+($A$4-80)*AH16*$A$16/1000","v":24.943877551020407},{"$f":"AB16*I16+($A$4-80)*AI16*$A$16/1000","v":24.502653061224485},{"$f":"AC16*K16+($A$4-80)*AJ16*$A$16/1000","v":24.032653061224494},{"$f":"AD16*M16+($A$4-80)*AK16*$A$16/1000","v":23.463137755102046},{"$f":"AE16*O16+($A$4-80)*AL16*$A$16/1000","v":22.881632653061224}]
[null,67,50.836734693877553,33.077755102040818,49.637755102040813,32.60295918367347,48.438775510204081,32.104183673469386,47.239795918367342,31.581428571428567,46.04081632653061,31.034693877551014,44.602040816326536,30.48076530612245,43.163265306122447,29.883673469387752,null,1.0816326530612246,1.0561224489795917,1.0306122448979591,1.0051020408163265,0.97959183673469385,0.94897959183673475,0.91836734693877553,0.81,0.82000000000000006,0.83,0.84,0.85,0.86499999999999999,0.88,0.9,0.9,0.9,0.9,0.9,0.9,0.9,{"$f":"Y17*C17+($A$4-80)*AF17*$A$16/1000","v":33.077755102040818},{"$f":"Z17*E17+($A$4-80)*AG17*$A$16/1000","v":32.60295918367347},{"$f":"AA17*G17+($A$4-80)*AH17*$A$16/1000","v":32.104183673469386},{"$f":"AB17*I17+($A$4-80)*AI17*$A$16/1000","v":31.581428571428567},{"$f":"AC17*K17+($A$4-80)*AJ17*$A$16/1000","v":31.034693877551014},{"$f":"AD17*M17+($A$4-80)*AK17*$A$16/1000","v":30.48076530612245},{"$f":"AE17*O17+($A$4-80)*AL17*$A$16/1000","v":29.883673469387752}]
[null,65,49.637755102040813,37.370839591836734,48.438775510204081,36.903759275510197,47.239795918367342,36.418694265306122,46.160714285714285,35.827945142857139,45.08163265306122,35.22640520408163,43.762755102040813,34.583374632653062,42.443877551020407,33.920560897959184,null,1.0561224489795917,1.0306122448979591,1.0051020408163265,0.9821428571428571,0.95918367346938771,0.93112244897959184,0.90306122448979587,0.9,0.90749999999999997,0.91500000000000004,0.92,0.92500000000000004,0.9325,0.94,0.81145999999999985,0.78382550000000029,0.75619099999999984,0.73776799999999998,0.71934500000000012,0.69171050000000012,0.66407600000000011,37.370839591836734,{"$f":"Z18*E18+($A$4-80)*AG18*$A$16/1000","v":36.903759275510197},{"$f":"AA18*G18+($A$4-80)*AH18*$A$16/1000","v":36.418694265306122},35.827945142857139,35.22640520408163,34.583374632653062,33.920560897959184]
[null,63,48.438775510204081,43.635773755102036,47.239795918367342,42.850789938775506,46.04081632653061,42.053816326530608,45.08163265306122,41.094632653061218,44.122448979591837,40.135448979591835,42.923469387755098,38.936469387755096,41.724489795918366,37.737489795918364,null,1.0306122448979591,1.0051020408163265,0.97959183673469385,0.95918367346938771,0.93877551020408168,0.91326530612244894,0.88775510204081631,0.99,0.995,1,1,1,1,1,0.47984600000000022,0.46142299999999992,0.44300000000000006,0.44300000000000006,0.44300000000000006,0.44300000000000006,0.44300000000000006,43.635773755102036,{"$f":"Z19*E19+($A$4-80)*AG19*$A$16/1000","v":42.850789938775506},{"$f":"AA19*G19+($A$4-80)*AH19*$A$16/1000","v":42.053816326530608},41.094632653061218,40.135448979591835,38.936469387755096,37.737489795918364]

{"sheet":"4AC14L_48","index":41,"n_rows":19,"n_cols":45,"rows_kept":19,"cut":false,"hidden":true,"merged":[[130,0,133,0],[120,12,121,12],[120,13,121,13],[120,14,121,14],[120,15,121,15],[122,0,125,0],[126,0,129,0],[119,12,119,13],[119,14,119,15],[120,4,121,4],[120,5,121,5],[120,6,121,6],[120,7,121,7],[120,8,121,8],[120,9,121,9],[120,10,121,10],[120,11,121,11],[119,0,121,0],[119,1,121,1],[119,4,119,5],[119,6,119,7],[119,8,119,9],[119,10,119,11],[111,0,114,0],[117,0,118,1],[117,4,117,15],[118,4,118,5],[118,6,118,7],[118,8,118,9],[118,10,118,11],[118,12,118,13],[118,14,118,15],[101,12,102,12],[101,13,102,13],[101,14,102,14],[101,15,102,15],[103,0,106,0],[107,0,110,0],[100,12,100,13],[100,14,100,15],[101,4,102,4],[101,5,102,5],[101,6,102,6],[101,7,102,7],[101,8,102,8],[101,9,102,9],[101,10,102,10],[101,11,102,11],[100,0,102,0],[100,1,102,1],[100,4,100,5],[100,6,100,7],[100,8,100,9],[100,10,100,11],[92,0,95,0],[98,0,99,1],[98,4,98,15],[99,4,99,5],[99,6,99,7],[99,8,99,9],[99,10,99,11],[99,12,99,13],[99,14,99,15],[82,12,83,12],[82,13,83,13],[82,14,83,14],[82,15,83,15],[84,0,87,0],[88,0,91,0],[81,12,81,13],[81,14,81,15],[82,4,83,4],[82,5,83,5],[82,6,83,6],[82,7,83,7],[82,8,83,8],[82,9,83,9],[82,10,83,10],[82,11,83,11],[81,0,83,0],[81,1,83,1],[81,4,81,5],[81,6,81,7],[81,8,81,9],[81,10,81,11],[73,0,76,0],[79,0,80,1],[79,4,79,15],[80,4,80,5],[80,6,80,7],[80,8,80,9],[80,10,80,11],[80,12,80,13],[80,14,80,15],[63,12,64,12],[63,13,64,13],[63,14,64,14],[63,15,64,15],[65,0,68,0],[69,0,72,0],[62,12,62,13],[62,14,62,15],[63,4,64,4],[63,5,64,5],[63,6,64,6],[63,7,64,7],[63,8,64,8],[63,9,64,9],[63,10,64,10],[63,11,64,11],[62,0,64,0],[62,1,64,1],[62,4,62,5],[62,6,62,7],[62,8,62,9],[62,10,62,11],[54,0,57,0],[60,0,61,1],[60,4,60,15],[61,4,61,5],[61,6,61,7],[61,8,61,9],[61,10,61,11],[61,12,61,13],[61,14,61,15],[44,12,45,12],[44,13,45,13],[44,14,45,14],[44,15,45,15],[46,0,49,0],[50,0,53,0],[43,12,43,13],[43,14,43,15],[44,4,45,4],[44,5,45,5],[44,6,45,6],[44,7,45,7],[44,8,45,8],[44,9,45,9],[44,10,45,10],[44,11,45,11],[43,0,45,0],[43,1,45,1],[43,4,43,5],[43,6,43,7],[43,8,43,9],[43,10,43,11],[35,0,38,0],[41,0,42,1],[41,4,41,15],[42,4,42,5],[42,6,42,7],[42,8,42,9],[42,10,42,11],[42,12,42,13],[42,14,42,15],[25,12,26,12],[25,13,26,13],[25,14,26,14],[25,15,26,15],[27,0,30,0],[31,0,34,0],[24,12,24,13],[24,14,24,15],[25,4,26,4],[25,5,26,5],[25,6,26,6],[25,7,26,7],[25,8,26,8],[25,9,26,9],[25,10,26,10],[25,11,26,11],[24,0,26,0],[24,1,26,1],[24,4,24,5],[24,6,24,7],[24,8,24,9],[24,10,24,11],[7,0,10,0],[11,0,14,0],[15,0,18,0],[22,4,22,15],[23,4,23,5],[23,6,23,7],[23,8,23,9],[23,10,23,11],[23,12,23,13],[23,14,23,15],[5,10,6,10],[5,11,6,11],[5,12,6,12],[5,13,6,13],[5,14,6,14],[5,15,6,15],[4,10,4,11],[4,12,4,13],[4,14,4,15],[5,2,6,2],[5,3,6,3],[5,4,6,4],[5,5,6,5],[5,6,6,6],[5,7,6,7],[5,8,6,8],[4,0,6,0],[4,1,6,1],[4,2,4,3],[4,4,4,5],[4,6,4,7],[4,8,4,9],[5,9,6,9],[2,0,2,1],[2,2,2,15],[3,2,3,3],[3,4,3,5],[3,6,3,7],[3,8,3,9],[3,10,3,11],[3,12,3,13],[3,14,3,15]]}
[]
["4AC14L_48",48]
["Evaporator Air \n",null,"Condenser  Entering Air Temperature ˚F"]
[80,"°F DB",85,null,90,null,95,null,100,null,105,null,110,null,115]
["CFM","EWB†\n˚F","Capacity Mbtuh",null,"Capacity Mbtuh",null,"Capacity Mbtuh",null,"Capacity Mbtuh",null,"Capacity Mbtuh",null,"Capacity Mbtuh",null,"Capacity Mbtuh"]
[null,null,"Total","Sens.","Total","Sens.","Total","Sens.","Total","Sens.","Total","Sens.","Total","Sens.","Total","Sens."]
[null,null,null,null,null,null,null,null,null,null,null,null,null,null,null,null,null,"Total Factors",null,null,null,null,null,null,"Sens. %",null,null,null,null,null,null,"IDB Adj",null,null,null,null,null,null,"Sens Calc"]
[1400,71,{"$f":"R8*$B$2","v":51.764705882352942},{"$f":"IF(AM8>C8,C8,AM8)","v":31.058823529411764},{"$f":"S8*$B$2","v":50.588235294117652},{"$f":"IF(AN8>E8,E8,AN8)","v":30.60588235294118},{"$f":"T8*$B$2","v":49.411764705882348},{"$f":"IF(AO8>G8,G8,AO8)","v":30.141176470588231},{"$f":"U8*$B$2","v":48},{"$f":"IF(AP8>I8,I8,AP8)","v":29.759999999999998},{"$f":"V8*$B$2","v":46.588235294117645},{"$f":"IF(AQ8>K8,K8,AQ8)","v":29.350588235294115},{"$f":"W8*$B$2","v":45.17647058823529},{"$f":"IF(AR8>M8,M8,AR8)","v":28.687058823529409},{"$f":"X8*$B$2","v":43.764705882352942},{"$f":"IF(AS8>O8,O8,AS8)","v":28.009411764705884},null,1.0784313725490196,1.053921568627451,1.0294117647058822,1,0.97058823529411764,0.94117647058823528,0.91176470588235292,0.6,0.60499999999999998,0.61,0.62,0.63,0.63500000000000001,0.64,{"$f":"IF(Y8<0.9,0.9,Y8*-3.6846+4.1276)","v":0.9},{"$f":"IF(Z8<0.9,0.9,Z8*-3.6846+4.1276)","v":0.9},0.9,0.9,0.9,0.9,0.9,{"$f":"Y8*C8+($A$4-80)*AF8*$A$8/1000","v":31.058823529411764},{"$f":"Z8*E8+($A$4-80)*AG8*$A$8/1000","v":30.60588235294118},{"$f":"AA8*G8+($A$4-80)*AH8*$A$8/1000","v":30.141176470588231},{"$f":"AB8*I8+($A$4-80)*AI8*$A$8/1000","v":29.759999999999998},{"$f":"AC8*K8+($A$4-80)*AJ8*$A$8/1000","v":29.350588235294115},{"$f":"AD8*M8+($A$4-80)*AK8*$A$8/1000","v":28.687058823529409},{"$f":"AE8*O8+($A$4-80)*AL8*$A$8/1000","v":28.009411764705884}]
[null,67,48.941176470588232,36.216470588235289,47.764705882352942,{"$f":"IF(AN9>E9,E9,AN9)","v":35.82352941176471},46.588235294117645,{"$f":"IF(AO9>G9,G9,AO9)","v":35.407058823529411},45.411764705882348,{"$f":"IF(AP9>I9,I9,AP9)","v":35.194117647058818},44.235294117647058,{"$f":"IF(AQ9>K9,K9,AQ9)","v":34.945882352941176},42.82352941176471,{"$f":"IF(AR9>M9,M9,AR9)","v":34.258823529411771},41.411764705882355,{"$f":"IF(AS9>O9,O9,AS9)","v":33.543529411764709},null,1.0196078431372548,0.99509803921568629,0.97058823529411764,0.94607843137254899,0.92156862745098034,0.89215686274509809,0.86274509803921573,0.74,0.75,0.76,0.77500000000000002,0.79,0.8,0.81,{"$f":"IF(Y9<0.9,0.9,Y9*-3.6846+4.1276)","v":0.9},0.9,0.9,0.9,0.9,0.9,0.9,{"$f":"Y9*C9+($A$4-80)*AF9*$A$8/1000","v":36.216470588235289},{"$f":"Z9*E9+($A$4-80)*AG9*$A$8/1000","v":35.82352941176471},{"$f":"AA9*G9+($A$4-80)*AH9*$A$8/1000","v":35.407058823529411},{"$f":"AB9*I9+($A$4-80)*AI9*$A$8/1000","v":35.194117647058818},{"$f":"AC9*K9+($A$4-80)*AJ9*$A$8/1000","v":34.945882352941176},{"$f":"AD9*M9+($A$4-80)*AK9*$A$8/1000","v":34.258823529411771},{"$f":"AE9*O9+($A$4-80)*AL9*$A$8/1000","v":33.543529411764709}]
[null,65,47.764705882352942,39.405882352941177,46.588235294117645,38.901176470588233,45.411764705882348,38.372941176470583,44.235294117647058,38.042352941176468,43.058823529411768,37.676470588235297,41.764705882352942,37.066176470588232,40.470588235294116,36.423529411764704,null,0.99509803921568629,0.97058823529411764,0.94607843137254899,0.92156862745098034,0.8970588235294118,0.87009803921568629,0.84313725490196079,0.82499999999999996,0.83499999999999996,0.84499999999999997,0.86,0.875,0.88749999999999996,0.9,0.9,0.9,0.9,0.9,0.9,0.9,0.81145999999999985,39.405882352941177,{"$f":"Z10*E10+($A$4-80)*AG10*$A$8/1000","v":38.901176470588233},{"$f":"AA10*G10+($A$4-80)*AH10*$A$8/1000","v":38.372941176470583},38.042352941176468,37.676470588235297,37.066176470588232,36.423529411764704]
[null,63,46.588235294117645,42.395294117647062,45.411764705882348,41.77882352941176,44.235294117647058,41.138823529411766,43.058823529411768,40.690588235294122,41.882352941176471,40.207058823529408,40.705882352941174,39.688235294117646,39.529411764705884,39.134117647058822,null,0.97058823529411764,0.94607843137254899,0.92156862745098034,0.8970588235294118,0.87254901960784315,0.84803921568627449,0.82352941176470584,0.91,0.92,0.93,0.94500000000000006,0.96,0.97499999999999998,0.99,0.77461400000000014,0.73776799999999998,0.70092199999999982,0.64565299999999981,0.59038400000000024,0.53511500000000023,0.47984600000000022,42.395294117647062,{"$f":"Z11*E11+($A$4-80)*AG11*$A$8/1000","v":41.77882352941176},{"$f":"AA11*G11+($A$4-80)*AH11*$A$8/1000","v":41.138823529411766},{"$f":"AB11*I11+($A$4-80)*AI11*$A$8/1000","v":40.690588235294122},40.207058823529408,39.688235294117646,39.134117647058822]
[1600,71,53.176470588235297,32.969411764705882,51.764705882352942,32.611764705882351,50.352941176470594,32.225882352941184,48.941176470588232,31.567058823529411,47.529411764705884,30.894117647058824,46.117647058823529,30.437647058823529,44.705882352941174,29.952941176470588,null,1.107843137254902,1.0784313725490196,1.0490196078431373,1.0196078431372548,0.99019607843137258,0.96078431372549022,0.93137254901960786,0.62,0.63,0.64,0.64500000000000002,0.65,0.66,0.67,0.9,0.9,0.9,0.9,0.9,0.9,0.9,{"$f":"Y12*C12+($A$4-80)*AF12*$A$12/1000","v":32.969411764705882},{"$f":"Z12*E12+($A$4-80)*AG12*$A$12/1000","v":32.611764705882351},{"$f":"AA12*G12+($A$4-80)*AH12*$A$12/1000","v":32.225882352941184},{"$f":"AB12*I12+($A$4-80)*AI12*$A$12/1000","v":31.567058823529411},{"$f":"AC12*K12+($A$4-80)*AJ12*$A$12/1000","v":30.894117647058824},{"$f":"AD12*M12+($A$4-80)*AK12*$A$12/1000","v":30.437647058823529},{"$f":"AE12*O12+($A$4-80)*AL12*$A$12/1000","v":29.952941176470588}]
[null,67,50.352941176470594,39.275294117647064,49.17647058823529,38.849411764705884,48,38.400000000000006,46.588235294117645,37.736470588235292,45.17647058823529,37.044705882352936,43.764705882352942,36.543529411764702,42.352941176470587,36,null,1.0490196078431373,1.0245098039215685,1,0.97058823529411764,0.94117647058823528,0.91176470588235292,0.88235294117647056,0.78,0.79,0.8,0.81,0.82,0.83499999999999996,0.85,0.9,0.9,0.9,0.9,0.9,0.9,0.9,{"$f":"Y13*C13+($A$4-80)*AF13*$A$12/1000","v":39.275294117647064},{"$f":"Z13*E13+($A$4-80)*AG13*$A$12/1000","v":38.849411764705884},{"$f":"AA13*G13+($A$4-80)*AH13*$A$12/1000","v":38.400000000000006},{"$f":"AB13*I13+($A$4-80)*AI13*$A$12/1000","v":37.736470588235292},{"$f":"AC13*K13+($A$4-80)*AJ13*$A$12/1000","v":37.044705882352936},{"$f":"AD13*M13+($A$4-80)*AK13*$A$12/1000","v":36.543529411764702},{"$f":"AE13*O13+($A$4-80)*AL13*$A$12/1000","v":36}]
[null,65,49.17647058823529,42.537647058823524,48,42.12,46.823529411764703,41.672941176470587,45.529411764705884,40.976470588235294,44.235294117647058,40.25411764705882,42.941176470588239,39.398529411764706,41.647058823529413,38.523529411764706,null,1.0245098039215685,1,0.97549019607843135,0.94852941176470584,0.92156862745098034,0.89460784313725494,0.86764705882352944,0.86499999999999999,0.87749999999999995,0.89,0.89999999999999991,0.90999999999999992,0.91749999999999998,0.92500000000000004,0.9,0.9,0.9,0.81146000000000029,0.77461400000000058,0.74697950000000013,0.71934500000000012,42.537647058823524,{"$f":"Z14*E14+($A$4-80)*AG14*$A$12/1000","v":42.12},{"$f":"AA14*G14+($A$4-80)*AH14*$A$12/1000","v":41.672941176470587},40.976470588235294,40.25411764705882,39.398529411764706,38.523529411764706]
[null,63,48,45.599999999999994,46.823529411764703,45.184705882352937,45.647058823529406,44.734117647058817,44.470588235294116,44.025882352941174,43.294117647058826,43.294117647058826,42.117647058823529,42.117647058823529,40.941176470588232,40.941176470588232,null,1,0.97549019607843135,0.9509803921568627,0.92647058823529416,0.90196078431372551,0.87745098039215685,0.8529411764705882,0.95,0.96499999999999997,0.98,0.99,1,1,1,0.6272300000000004,0.57196100000000039,0.51669199999999993,0.47984600000000022,0.44300000000000006,0.44300000000000006,0.44300000000000006,45.599999999999994,{"$f":"Z15*E15+($A$4-80)*AG15*$A$12/1000","v":45.184705882352937},{"$f":"AA15*G15+($A$4-80)*AH15*$A$12/1000","v":44.734117647058817},44.025882352941174,43.294117647058826,42.117647058823529,40.941176470588232]
[1800,71,54.117647058823529,35.176470588235297,52.941176470588239,34.676470588235297,51.764705882352942,34.164705882352941,50.117647058823536,33.328235294117654,48.470588235294116,32.47529411764706,47.058823529411761,32.235294117647058,45.647058823529406,31.952941176470581,null,1.1274509803921569,1.1029411764705883,1.0784313725490196,1.0441176470588236,1.0098039215686274,0.98039215686274506,0.9509803921568627,0.65,0.65500000000000003,0.66,0.66500000000000004,0.67,0.68500000000000005,0.7,0.9,0.9,0.9,0.9,0.9,0.9,0.9,{"$f":"Y16*C16+($A$4-80)*AF16*$A$16/1000","v":35.176470588235297},{"$f":"Z16*E16+($A$4-80)*AG16*$A$16/1000","v":34.676470588235297},{"$f":"AA16*G16+($A$4-80)*AH16*$A$16/1000","v":34.164705882352941},{"$f":"AB16*I16+($A$4-80)*AI16*$A$16/1000","v":33.328235294117654},{"$f":"AC16*K16+($A$4-80)*AJ16*$A$16/1000","v":32.47529411764706},{"$f":"AD16*M16+($A$4-80)*AK16*$A$16/1000","v":32.235294117647058},{"$f":"AE16*O16+($A$4-80)*AL16*$A$16/1000","v":31.952941176470581}]
[null,67,51.764705882352942,41.929411764705883,50.352941176470594,41.54117647058824,48.941176470588232,41.110588235294117,47.529411764705884,40.4,46.117647058823529,39.661176470588231,44.705882352941174,39.117647058823529,43.294117647058826,38.531764705882352,null,1.0784313725490196,1.0490196078431373,1.0196078431372548,0.99019607843137258,0.96078431372549022,0.93137254901960786,0.90196078431372551,0.81,0.82499999999999996,0.84,0.85,0.86,0.875,0.89,0.9,0.9,0.9,0.9,0.9,0.9,0.9,{"$f":"Y17*C17+($A$4-80)*AF17*$A$16/1000","v":41.929411764705883},{"$f":"Z17*E17+($A$4-80)*AG17*$A$16/1000","v":41.54117647058824},{"$f":"AA17*G17+($A$4-80)*AH17*$A$16/1000","v":41.110588235294117},{"$f":"AB17*I17+($A$4-80)*AI17*$A$16/1000","v":40.4},{"$f":"AC17*K17+($A$4-80)*AJ17*$A$16/1000","v":39.661176470588231},{"$f":"AD17*M17+($A$4-80)*AK17*$A$16/1000","v":39.117647058823529},{"$f":"AE17*O17+($A$4-80)*AL17*$A$16/1000","v":38.531764705882352}]
[null,65,50.352941176470594,45.317647058823539,49.058823529411761,44.643529411764696,47.764705882352942,43.9435294117647,46.470588235294116,42.985294117647051,45.17647058823529,42.014117647058818,43.882352941176471,41.139705882352942,42.588235294117645,40.24588235294118,null,1.0490196078431373,1.0220588235294117,0.99509803921568629,0.96813725490196079,0.94117647058823528,0.91421568627450978,0.88725490196078427,0.9,0.90999999999999992,0.91999999999999993,0.92499999999999993,0.92999999999999994,0.9375,0.94500000000000006,0.81145999999999985,0.77461400000000058,0.73776800000000042,0.71934500000000012,0.70092200000000027,0.67328750000000026,0.64565299999999981,45.317647058823539,{"$f":"Z18*E18+($A$4-80)*AG18*$A$16/1000","v":44.643529411764696},{"$f":"AA18*G18+($A$4-80)*AH18*$A$16/1000","v":43.9435294117647},42.985294117647051,42.014117647058818,41.139705882352942,40.24588235294118]
[null,63,48.941176470588232,48.451764705882347,47.764705882352942,47.525882352941174,46.588235294117645,46.588235294117645,45.411764705882348,45.411764705882348,44.235294117647058,44.235294117647058,43.058823529411768,43.058823529411768,41.882352941176471,41.882352941176471,null,1.0196078431372548,0.99509803921568629,0.97058823529411764,0.94607843137254899,0.92156862745098034,0.8970588235294118,0.87254901960784315,0.99,0.995,1,1,1,1,1,0.47984600000000022,0.46142299999999992,0.44300000000000006,0.44300000000000006,0.44300000000000006,0.44300000000000006,0.44300000000000006,48.451764705882347,{"$f":"Z19*E19+($A$4-80)*AG19*$A$16/1000","v":47.525882352941174},{"$f":"AA19*G19+($A$4-80)*AH19*$A$16/1000","v":46.588235294117645},45.411764705882348,44.235294117647058,43.058823529411768,41.882352941176471]

{"sheet":"4AC14L_60","index":42,"n_rows":19,"n_cols":45,"rows_kept":19,"cut":false,"hidden":true,"merged":[[130,0,133,0],[120,12,121,12],[120,13,121,13],[120,14,121,14],[120,15,121,15],[122,0,125,0],[126,0,129,0],[119,12,119,13],[119,14,119,15],[120,4,121,4],[120,5,121,5],[120,6,121,6],[120,7,121,7],[120,8,121,8],[120,9,121,9],[120,10,121,10],[120,11,121,11],[119,0,121,0],[119,1,121,1],[119,4,119,5],[119,6,119,7],[119,8,119,9],[119,10,119,11],[111,0,114,0],[117,0,118,1],[117,4,117,15],[118,4,118,5],[118,6,118,7],[118,8,118,9],[118,10,118,11],[118,12,118,13],[118,14,118,15],[101,12,102,12],[101,13,102,13],[101,14,102,14],[101,15,102,15],[103,0,106,0],[107,0,110,0],[100,12,100,13],[100,14,100,15],[101,4,102,4],[101,5,102,5],[101,6,102,6],[101,7,102,7],[101,8,102,8],[101,9,102,9],[101,10,102,10],[101,11,102,11],[100,0,102,0],[100,1,102,1],[100,4,100,5],[100,6,100,7],[100,8,100,9],[100,10,100,11],[92,0,95,0],[98,0,99,1],[98,4,98,15],[99,4,99,5],[99,6,99,7],[99,8,99,9],[99,10,99,11],[99,12,99,13],[99,14,99,15],[82,12,83,12],[82,13,83,13],[82,14,83,14],[82,15,83,15],[84,0,87,0],[88,0,91,0],[81,12,81,13],[81,14,81,15],[82,4,83,4],[82,5,83,5],[82,6,83,6],[82,7,83,7],[82,8,83,8],[82,9,83,9],[82,10,83,10],[82,11,83,11],[81,0,83,0],[81,1,83,1],[81,4,81,5],[81,6,81,7],[81,8,81,9],[81,10,81,11],[73,0,76,0],[79,0,80,1],[79,4,79,15],[80,4,80,5],[80,6,80,7],[80,8,80,9],[80,10,80,11],[80,12,80,13],[80,14,80,15],[63,12,64,12],[63,13,64,13],[63,14,64,14],[63,15,64,15],[65,0,68,0],[69,0,72,0],[62,12,62,13],[62,14,62,15],[63,4,64,4],[63,5,64,5],[63,6,64,6],[63,7,64,7],[63,8,64,8],[63,9,64,9],[63,10,64,10],[63,11,64,11],[62,0,64,0],[62,1,64,1],[62,4,62,5],[62,6,62,7],[62,8,62,9],[62,10,62,11],[54,0,57,0],[60,0,61,1],[60,4,60,15],[61,4,61,5],[61,6,61,7],[61,8,61,9],[61,10,61,11],[61,12,61,13],[61,14,61,15],[44,12,45,12],[44,13,45,13],[44,14,45,14],[44,15,45,15],[46,0,49,0],[50,0,53,0],[43,12,43,13],[43,14,43,15],[44,4,45,4],[44,5,45,5],[44,6,45,6],[44,7,45,7],[44,8,45,8],[44,9,45,9],[44,10,45,10],[44,11,45,11],[43,0,45,0],[43,1,45,1],[43,4,43,5],[43,6,43,7],[43,8,43,9],[43,10,43,11],[35,0,38,0],[41,0,42,1],[41,4,41,15],[42,4,42,5],[42,6,42,7],[42,8,42,9],[42,10,42,11],[42,12,42,13],[42,14,42,15],[25,12,26,12],[25,13,26,13],[25,14,26,14],[25,15,26,15],[27,0,30,0],[31,0,34,0],[24,12,24,13],[24,14,24,15],[25,4,26,4],[25,5,26,5],[25,6,26,6],[25,7,26,7],[25,8,26,8],[25,9,26,9],[25,10,26,10],[25,11,26,11],[24,0,26,0],[24,1,26,1],[24,4,24,5],[24,6,24,7],[24,8,24,9],[24,10,24,11],[7,0,10,0],[11,0,14,0],[15,0,18,0],[22,4,22,15],[23,4,23,5],[23,6,23,7],[23,8,23,9],[23,10,23,11],[23,12,23,13],[23,14,23,15],[5,10,6,10],[5,11,6,11],[5,12,6,12],[5,13,6,13],[5,14,6,14],[5,15,6,15],[4,10,4,11],[4,12,4,13],[4,14,4,15],[5,2,6,2],[5,3,6,3],[5,4,6,4],[5,5,6,5],[5,6,6,6],[5,7,6,7],[5,8,6,8],[4,0,6,0],[4,1,6,1],[4,2,4,3],[4,4,4,5],[4,6,4,7],[4,8,4,9],[5,9,6,9],[2,0,2,1],[2,2,2,15],[3,2,3,3],[3,4,3,5],[3,6,3,7],[3,8,3,9],[3,10,3,11],[3,12,3,13],[3,14,3,15]]}
[]
["4AC14L_60",60]
["Evaporator Air \n",null,"Condenser  Entering Air Temperature ˚F"]
[80,"°F DB",85,null,90,null,95,null,100,null,105,null,110,null,115]
["CFM","EWB†\n˚F","Capacity Mbtuh",null,"Capacity Mbtuh",null,"Capacity Mbtuh",null,"Capacity Mbtuh",null,"Capacity Mbtuh",null,"Capacity Mbtuh",null,"Capacity Mbtuh"]
[null,null,"Total","Sens.","Total","Sens.","Total","Sens.","Total","Sens.","Total","Sens.","Total","Sens.","Total","Sens."]
[null,null,null,null,null,null,null,null,null,null,null,null,null,null,null,null,null,"Total Factors",null,null,null,null,null,null,"Sens. %",null,null,null,null,null,null,"IDB Adj",null,null,null,null,null,null,"Sens Calc"]
[1600,71,{"$f":"R8*$B$2","v":65},{"$f":"IF(AM8>C8,C8,AM8)","v":38.35},{"$f":"S8*$B$2","v":63.5},{"$f":"IF(AN8>E8,E8,AN8)","v":37.782499999999999},{"$f":"T8*$B$2","v":62.000000000000007},{"$f":"IF(AO8>G8,G8,AO8)","v":37.200000000000003},{"$f":"U8*$B$2","v":60.25},{"$f":"IF(AP8>I8,I8,AP8)","v":36.451250000000002},{"$f":"V8*$B$2","v":58.5},{"$f":"IF(AQ8>K8,K8,AQ8)","v":35.685000000000002},{"$f":"W8*$B$2","v":56.75},{"$f":"IF(AR8>M8,M8,AR8)","v":35.185000000000002},{"$f":"X8*$B$2","v":55},{"$f":"IF(AS8>O8,O8,AS8)","v":34.65},null,1.0833333333333333,1.0583333333333333,1.0333333333333334,1.0041666666666667,0.97499999999999998,0.9458333333333333,0.91666666666666663,0.59,0.59499999999999997,0.6,0.60499999999999998,0.61,0.62,0.63,{"$f":"IF(Y8<0.9,0.9,Y8*-3.6846+4.1276)","v":0.9},{"$f":"IF(Z8<0.9,0.9,Z8*-3.6846+4.1276)","v":0.9},0.9,0.9,0.9,0.9,0.9,{"$f":"Y8*C8+($A$4-80)*AF8*$A$8/1000","v":38.35},{"$f":"Z8*E8+($A$4-80)*AG8*$A$8/1000","v":37.782499999999999},{"$f":"AA8*G8+($A$4-80)*AH8*$A$8/1000","v":37.200000000000003},{"$f":"AB8*I8+($A$4-80)*AI8*$A$8/1000","v":36.451250000000002},{"$f":"AC8*K8+($A$4-80)*AJ8*$A$8/1000","v":35.685000000000002},{"$f":"AD8*M8+($A$4-80)*AK8*$A$8/1000","v":35.185000000000002},{"$f":"AE8*O8+($A$4-80)*AL8*$A$8/1000","v":34.65}]
[null,67,61.499999999999993,45.509999999999991,60.25,{"$f":"IF(AN9>E9,E9,AN9)","v":44.886249999999997},59,{"$f":"IF(AO9>G9,G9,AO9)","v":44.25},57.25,{"$f":"IF(AP9>I9,I9,AP9)","v":43.51},55.5,{"$f":"IF(AQ9>K9,K9,AQ9)","v":42.734999999999999},54,{"$f":"IF(AR9>M9,M9,AR9)","v":42.120000000000005},52.5,{"$f":"IF(AS9>O9,O9,AS9)","v":41.475000000000001},null,1.0249999999999999,1.0041666666666667,0.98333333333333328,0.95416666666666672,0.92500000000000004,0.9,0.875,0.74,0.745,0.75,0.76,0.77,0.78,0.79,{"$f":"IF(Y9<0.9,0.9,Y9*-3.6846+4.1276)","v":0.9},0.9,0.9,0.9,0.9,0.9,0.9,{"$f":"Y9*C9+($A$4-80)*AF9*$A$8/1000","v":45.509999999999991},{"$f":"Z9*E9+($A$4-80)*AG9*$A$8/1000","v":44.886249999999997},{"$f":"AA9*G9+($A$4-80)*AH9*$A$8/1000","v":44.25},{"$f":"AB9*I9+($A$4-80)*AI9*$A$8/1000","v":43.51},{"$f":"AC9*K9+($A$4-80)*AJ9*$A$8/1000","v":42.734999999999999},{"$f":"AD9*M9+($A$4-80)*AK9*$A$8/1000","v":42.120000000000005},{"$f":"AE9*O9+($A$4-80)*AL9*$A$8/1000","v":41.475000000000001}]
[null,65,60,49.2,58.625,48.512187500000003,57.25,47.803750000000001,55.625,47.003124999999997,54,46.17,52.5,45.543749999999996,51,44.88,null,1,0.9770833333333333,0.95416666666666672,0.92708333333333337,0.9,0.875,0.85,0.82000000000000006,0.82750000000000001,0.83499999999999996,0.84499999999999997,0.85499999999999998,0.86749999999999994,0.88,0.9,0.9,0.9,0.9,0.9,0.9,0.9,49.2,{"$f":"Z10*E10+($A$4-80)*AG10*$A$8/1000","v":48.512187500000003},{"$f":"AA10*G10+($A$4-80)*AH10*$A$8/1000","v":47.803750000000001},47.003124999999997,46.17,45.543749999999996,44.88]
[null,63,58.5,52.65,57,51.870000000000005,55.5,51.06,54,50.22,52.5,49.349999999999994,51,48.704999999999998,49.5,48.015000000000001,null,0.97499999999999998,0.95,0.92500000000000004,0.9,0.875,0.85,0.82499999999999996,0.9,0.91,0.92,0.92999999999999994,0.94,0.95499999999999996,0.97,0.81145999999999985,0.77461400000000014,0.73776799999999998,0.70092200000000027,0.66407600000000011,0.6088070000000001,0.55353800000000009,52.65,{"$f":"Z11*E11+($A$4-80)*AG11*$A$8/1000","v":51.870000000000005},{"$f":"AA11*G11+($A$4-80)*AH11*$A$8/1000","v":51.06},{"$f":"AB11*I11+($A$4-80)*AI11*$A$8/1000","v":50.22},49.349999999999994,48.704999999999998,48.015000000000001]
[1800,71,66,40.26,64.75,39.821249999999999,63.5,39.369999999999997,61.499999999999993,38.744999999999997,59.5,38.08,57.75,37.248750000000001,56,36.4,null,1.1000000000000001,1.0791666666666666,1.0583333333333333,1.0249999999999999,0.9916666666666667,0.96250000000000002,0.93333333333333335,0.61,0.61499999999999999,0.62,0.63,0.64,0.64500000000000002,0.65,0.9,0.9,0.9,0.9,0.9,0.9,0.9,{"$f":"Y12*C12+($A$4-80)*AF12*$A$12/1000","v":40.26},{"$f":"Z12*E12+($A$4-80)*AG12*$A$12/1000","v":39.821249999999999},{"$f":"AA12*G12+($A$4-80)*AH12*$A$12/1000","v":39.369999999999997},{"$f":"AB12*I12+($A$4-80)*AI12*$A$12/1000","v":38.744999999999997},{"$f":"AC12*K12+($A$4-80)*AJ12*$A$12/1000","v":38.08},{"$f":"AD12*M12+($A$4-80)*AK12*$A$12/1000","v":37.248750000000001},{"$f":"AE12*O12+($A$4-80)*AL12*$A$12/1000","v":36.4}]
[null,67,63,47.88,61.499999999999993,47.354999999999997,60,46.800000000000004,58.5,46.215000000000003,57,45.6,55.25,45.028749999999995,53.5,44.405000000000001,null,1.05,1.0249999999999999,1,0.97499999999999998,0.95,0.92083333333333328,0.89166666666666672,0.76,0.77,0.78,0.79,0.8,0.81499999999999995,0.83,0.9,0.9,0.9,0.9,0.9,0.9,0.9,{"$f":"Y13*C13+($A$4-80)*AF13*$A$12/1000","v":47.88},{"$f":"Z13*E13+($A$4-80)*AG13*$A$12/1000","v":47.354999999999997},{"$f":"AA13*G13+($A$4-80)*AH13*$A$12/1000","v":46.800000000000004},{"$f":"AB13*I13+($A$4-80)*AI13*$A$12/1000","v":46.215000000000003},{"$f":"AC13*K13+($A$4-80)*AJ13*$A$12/1000","v":45.6},{"$f":"AD13*M13+($A$4-80)*AK13*$A$12/1000","v":45.028749999999995},{"$f":"AE13*O13+($A$4-80)*AL13*$A$12/1000","v":44.405000000000001}]
[null,65,61.499999999999993,51.967499999999994,60,51.449999999999996,58.5,50.895000000000003,57,50.160000000000004,55.5,49.395000000000003,53.75,48.509375000000006,52,47.58,null,1.0249999999999999,1,0.97499999999999998,0.95,0.92500000000000004,0.89583333333333337,0.8666666666666667,0.84499999999999997,0.85749999999999993,0.87,0.88,0.89,0.90250000000000008,0.91500000000000004,0.9,0.9,0.9,0.9,0.9,0.8022484999999997,0.75619099999999984,51.967499999999994,{"$f":"Z14*E14+($A$4-80)*AG14*$A$12/1000","v":51.449999999999996},{"$f":"AA14*G14+($A$4-80)*AH14*$A$12/1000","v":50.895000000000003},50.160000000000004,49.395000000000003,48.509375000000006,47.58]
[null,63,60,55.800000000000004,58.5,55.282500000000006,57,54.72,55.5,53.835000000000001,54,52.92,52.25,51.727499999999999,50.5,50.5,null,1,0.97499999999999998,0.95,0.92500000000000004,0.9,0.87083333333333335,0.84166666666666667,0.93,0.94500000000000006,0.96,0.97,0.98,0.99,1,0.70092199999999982,0.64565299999999981,0.59038400000000024,0.55353800000000009,0.51669199999999993,0.47984600000000022,0.44300000000000006,55.800000000000004,{"$f":"Z15*E15+($A$4-80)*AG15*$A$12/1000","v":55.282500000000006},{"$f":"AA15*G15+($A$4-80)*AH15*$A$12/1000","v":54.72},53.835000000000001,52.92,51.727499999999999,50.5]
[2000,71,68,42.84,66.25,42.068750000000001,64.5,41.28,62.75,40.787500000000001,61,40.260000000000005,59,39.53,57,38.760000000000005,null,1.1333333333333333,1.1041666666666667,1.075,1.0458333333333334,1.0166666666666666,0.98333333333333328,0.95,0.63,0.63500000000000001,0.64,0.65,0.66,0.67,0.68,0.9,0.9,0.9,0.9,0.9,0.9,0.9,{"$f":"Y16*C16+($A$4-80)*AF16*$A$16/1000","v":42.84},{"$f":"Z16*E16+($A$4-80)*AG16*$A$16/1000","v":42.068750000000001},{"$f":"AA16*G16+($A$4-80)*AH16*$A$16/1000","v":41.28},{"$f":"AB16*I16+($A$4-80)*AI16*$A$16/1000","v":40.787500000000001},{"$f":"AC16*K16+($A$4-80)*AJ16*$A$16/1000","v":40.260000000000005},{"$f":"AD16*M16+($A$4-80)*AK16*$A$16/1000","v":39.53},{"$f":"AE16*O16+($A$4-80)*AL16*$A$16/1000","v":38.760000000000005}]
[null,67,64.5,50.955000000000005,62.75,50.2,61,49.410000000000004,59.5,49.087499999999999,58,48.72,56,47.6,54,46.44,null,1.075,1.0458333333333334,1.0166666666666666,0.9916666666666667,0.96666666666666667,0.93333333333333335,0.9,0.79,0.8,0.81,0.82499999999999996,0.84,0.85,0.86,0.9,0.9,0.9,0.9,0.9,0.9,0.9,{"$f":"Y17*C17+($A$4-80)*AF17*$A$16/1000","v":50.955000000000005},{"$f":"Z17*E17+($A$4-80)*AG17*$A$16/1000","v":50.2},{"$f":"AA17*G17+($A$4-80)*AH17*$A$16/1000","v":49.410000000000004},{"$f":"AB17*I17+($A$4-80)*AI17*$A$16/1000","v":49.087499999999999},{"$f":"AC17*K17+($A$4-80)*AJ17*$A$16/1000","v":48.72},{"$f":"AD17*M17+($A$4-80)*AK17*$A$16/1000","v":47.6},{"$f":"AE17*O17+($A$4-80)*AL17*$A$16/1000","v":46.44}]
[null,65,62.75,55.22,61.125,54.401249999999997,59.5,53.550000000000004,58,52.779999999999994,56.5,51.98,54.75,50.643749999999997,53,49.29,null,1.0458333333333334,1.01875,0.9916666666666667,0.96666666666666667,0.94166666666666665,0.91249999999999998,0.8833333333333333,0.88,0.89,0.9,0.90999999999999992,0.91999999999999993,0.92499999999999993,0.92999999999999994,0.9,0.9,0.81145999999999985,0.77461400000000058,0.73776800000000042,0.71934500000000012,0.70092200000000027,55.22,{"$f":"Z18*E18+($A$4-80)*AG18*$A$16/1000","v":54.401249999999997},{"$f":"AA18*G18+($A$4-80)*AH18*$A$16/1000","v":53.550000000000004},52.779999999999994,51.98,50.643749999999997,49.29]
[null,63,61,59.17,59.5,58.31,58,57.42,56.5,56.217500000000001,55,55,53.5,53.5,52,52,null,1.0166666666666666,0.9916666666666667,0.96666666666666667,0.94166666666666665,0.91666666666666663,0.89166666666666672,0.8666666666666667,0.97,0.98,0.99,0.995,1,1,1,0.55353800000000009,0.51669199999999993,0.47984600000000022,0.46142299999999992,0.44300000000000006,0.44300000000000006,0.44300000000000006,59.17,{"$f":"Z19*E19+($A$4-80)*AG19*$A$16/1000","v":58.31},{"$f":"AA19*G19+($A$4-80)*AH19*$A$16/1000","v":57.42},56.217500000000001,55,53.5,52]

{"sheet":"Form","index":43,"n_rows":53,"n_cols":16,"rows_kept":53,"cut":false,"hidden":true,"merged":[[1,3,1,8],[2,3,2,8],[13,0,13,15],[26,14,26,15],[26,10,26,11],[18,6,18,11],[26,4,26,5],[26,12,26,13],[26,8,26,9],[25,2,25,15],[25,0,25,1],[26,2,26,3],[17,6,17,11],[26,6,26,7],[52,1,52,4],[28,2,29,2],[28,3,29,3],[28,9,29,9],[28,8,29,8],[27,1,29,1],[27,2,27,3],[27,6,27,7],[38,0,41,0],[27,12,27,13],[28,4,29,4],[28,5,29,5],[28,6,29,6],[28,7,29,7],[30,0,33,0],[27,8,27,9],[27,10,27,11],[28,12,29,12],[27,0,29,0],[28,11,29,11],[28,15,29,15],[27,4,27,5],[34,0,37,0],[28,13,29,13],[28,10,29,10],[27,14,27,15],[28,14,29,14]]}
[]
[null,null,"Select Armstrong Condenser:  "]
[null,null,"ADP Evaporator:  ",null,null,null,null,null,null,null,null,null,null,24]
[null,null,"Nominal Capacity:  ",null,"(Mbtuh)",null,null,null,null,null,null,"Condenser Entering Air Temperature: ",null,"(°F) Dry Bulb, 65°F to 115°F"]
[null,null,"AHRI Rated Capacity:  ",null,"(Mbtuh) @ 95 ˚F & 80/67 ˚F conditions",null,null,null,null,null,null,"Evaporator Air Flow (CFM): ",null,null,"to"]
[null,null,"Entering Evaporator Air (DB):  ",null,"(°F) Dry Bulb -- 80°F Standard",null,null,null,null,null,null,"Entering Evaporator Air (WB):  ",null,"(°F) Wet Bulb, 57°F to 72°F"]
[null,null,null,null,null,null,null,null,null,null,null,null,null,48]
[null,null,null,null,null,null,null,null,null,null,null,null,null,"CFM"]
[]
[]
[]
[]
[]
["Extended Ratings"]
[]
[]
[]
[null,null,null,null,null,"Armstrong Condenser :  "]
[null,null,null,null,null,"ADP Evaporator:  "]
[null,null,null,null,null,"Condenser Entering Air Temperature: ",null,"(°F) Dry Bulb, 65°F to 115°F"]
[null,null,null,null,null,"Evaporator Air Flow:",null,"CFM"]
[null,null,null,null,null,"Entering Evaporator Air (DB):  ",null,"(°F) Dry Bulb"]
[null,null,null,null,null,"Entering Evaporator Air (WB):  ",null,"(°F) Wet Bulb, 57°F to 72°F"]
[null,null,null,null,null,"AHRI Rated Capacity:  ",null,"(Mbtuh) @ 95 ˚F & 80/67 ˚F conditions"]
[]
["Evaporator Air \n",null,"Condenser  Entering Air Temperature ˚F"]
[80,"°F DB",65,null,75,null,85,null,90,null,95,null,105,null,115]
["CFM","EWB†\n˚F","Capacity Mbtuh",null,"Capacity Mbtuh",null,"Capacity Mbtuh",null,"Capacity Mbtuh",null,"Capacity Mbtuh",null,"Capacity Mbtuh",null,"Capacity Mbtuh"]
[null,null,"Total","Sens.","Total","Sens.","Total","Sens.","Total","Sens.","Total","Sens.","Total","Sens.","Total","Sens."]
[]
[]
[]
[]
[]
[]
[]
[]
[]
[]
[]
[]
[]
[]
[null,null,null,"Condenser Entering Air Temperature: ",null,"(°F) Dry Bulb, 65°F to 115°F",null,null,null,"CAPACITY IN MBTUH UNDER SPECIFIC CONDITIONS LISTED"]
[null,null,null,"Evaporator Air Flow:",null,"CFM",null,null,null,null,"TOTAL"]
[null,null,null,"Entering Evaporator Air (WB):  ",null,"(°F) Wet Bulb, 57°F to 72°F",null,null,null,null,"SENSIBLE"]
[]
["Notes:","† Entering Wet Bulb"]
[null,"Extended ratings are not certified.  They are calculated based upon typical condenser performance curves and are for engineering information only."]
[null,"When the required data fall between the published data, interpolation may be performed. Extrapolation is not an acceptable practice."]
[null,"Displayed sensible capacity has been adjusted based upon indoor DB.  Sensible capacity will increase with higher indoor DB and decrease with lower indoor DB."]
[null,"The magnitude of the adjustment depends partially on evaporator air flow, with greater adjustment at higher CFM."]
["Printed:",null,null,null,null,null,null,null,null,null,null,null,null,null,null,"A-19-A"]

{"sheet":"Instructions","index":44,"n_rows":45,"n_cols":5,"rows_kept":45,"cut":false,"hidden":true,"merged":[]}
[]
[]
[]
[]
[]
[]
[null,"This spreadsheet generates capacity information for ADP rated matches at other than nominal conditions."]
[null,"The information is provided is not certified and is provided for engineering use only."]
[]
[null,"The latest version will always be available at:  www.adpnow.com/extratings/"]
[]
[null,"In order to generate an extended rating, you will need the following information:"]
[null,null,"Condenser model number"]
[null,null,"ADP coil model number"]
[null,null,"Nominal capacity"]
[null,null,"Rated capacity (from AHRI database)"]
[null,null,"Condenser entering air dry bulb temperature"]
[null,null,"Indoor entering air dry bulb temperature"]
[null,null,"Indoor entering air wet bulb temperature"]
[null,null,"Indoor airflow"]
[]
[null,"Select the condenser series and nominal tonnage form the drop down lists."]
[null,"Enter the remaining information in the correct cells. Note there are limits on the range of values allowed."]
[null,"Click on \"Calculate\" to calculate the extended ratings."]
[null,"The table will show capacities for various conditions.  The capacities at the specific design point are "]
[null,"at the bottom of the page."]
[null,"From this point you may:"]
[null,null,"Click \"Clear\" to clear the form and start over."]
[null,null,"Click \"Print\" to print a copy of the data."]
[null,null,"Click \"Copy\" to copy the data to a new spreadsheet and save it in the same directory."]
[]
[null,"Notes:","Displayed sensible capacity has been adjusted based upon indoor DB. Sensible capacity will"]
[null,null,"increase with higher indoor DB and decrease with lower indoor DB.  The magnitude of the "]
[null,null,"adjustment depends partially on evaporator air flow, with greater adjustment at higher CFM."]
[]
[null,"Versions:","A-11-A","2011-02-01","Initial public release"]
[null,null,"A-11-B","2011-04-01","Updated sensible calculation, added check for capacity units, and updated instructions"]
[null,null,"A-11-C","2011-05-25","Updated instructions and fixed minor typos"]
[null,null,"A-12-A","2012-01-03","Renewed date key through 2012"]
[null,null,"A-13-A","2012-12-31","Renewed date key through 2013"]
[null,null,"A-14-A","2013-12-31","Renewed date key through 2014"]
[null,null,"A-15-A","2015-01-31","Renewed date key through 2015"]
[null,null,"A-15-B","2015-05-01","Added 4AC14L"]
[null,null,"A-16-A","2016-03-22","Renewed date key through 2016"]
[null,null,"A-19-A","2019-05-20","New Version"]

{"sheet":"Prompt","index":45,"n_rows":17,"n_cols":2,"rows_kept":17,"cut":false,"hidden":false,"merged":[]}
[]
[]
[]
[]
[]
[null,"In order to use this spreadsheet, "]
[null,"Please enable Macros in your security settings."]
[]
[null,"Enabling Macros in Excel 2007"]
[null,"1. In Excel, click the Office button in the upper left corner of the screen."]
[null,"2. Click the \"Excel Options\" button in the lower right."]
[null,"3. Click the \"Trust Center\" button on the left. Then, at the bottom right, select \"Trust Center Settings\" as shown below."]
[null,"4. In the next window, select \"Macro Settings,\" then select the radio button for \"Disable all macros with notification.\""]
[null,"5. When openning this spreadsheet, you will see a warning like this in the menu bar:"]
[]
[]
[null,"6. Select \"Enable this content\" and click \"Okay\".  The spreadsheet will now be functional."]